BEGIN:VCALENDAR
VERSION:2.0
PRODID:-//Westbeth - ECPv6.15.20//NONSGML v1.0//EN
CALSCALE:GREGORIAN
METHOD:PUBLISH
X-WR-CALNAME:Westbeth
X-ORIGINAL-URL:https://westbeth.org
X-WR-CALDESC:Events for Westbeth
REFRESH-INTERVAL;VALUE=DURATION:PT1H
X-Robots-Tag:noindex
X-PUBLISHED-TTL:PT1H
BEGIN:VTIMEZONE
TZID:America/New_York
BEGIN:DAYLIGHT
TZOFFSETFROM:-0500
TZOFFSETTO:-0400
TZNAME:EDT
DTSTART:20230312T070000
END:DAYLIGHT
BEGIN:STANDARD
TZOFFSETFROM:-0400
TZOFFSETTO:-0500
TZNAME:EST
DTSTART:20231105T060000
END:STANDARD
BEGIN:DAYLIGHT
TZOFFSETFROM:-0500
TZOFFSETTO:-0400
TZNAME:EDT
DTSTART:20240310T070000
END:DAYLIGHT
BEGIN:STANDARD
TZOFFSETFROM:-0400
TZOFFSETTO:-0500
TZNAME:EST
DTSTART:20241103T060000
END:STANDARD
BEGIN:DAYLIGHT
TZOFFSETFROM:-0500
TZOFFSETTO:-0400
TZNAME:EDT
DTSTART:20250309T070000
END:DAYLIGHT
BEGIN:STANDARD
TZOFFSETFROM:-0400
TZOFFSETTO:-0500
TZNAME:EST
DTSTART:20251102T060000
END:STANDARD
END:VTIMEZONE
BEGIN:VEVENT
DTSTART;TZID=America/New_York:20240605T090000
DTEND;TZID=America/New_York:20240621T100000
DTSTAMP:20260423T130625
CREATED:20240530T135631Z
LAST-MODIFIED:20240720T202629Z
UID:10000533-1717578000-1718964000@westbeth.org
SUMMARY:Rooftop Pilates with Ellie Kusner on Westbeth Roof
DESCRIPTION:CLICK TO ENLARGE \nWednesdays and Fridays\n9:15 – 10 :15am\nJune 5\, 7\, 12\, 14\, 19\, 21\, 2024 \n$10 per class\nNo experience necessary \nWestbeth Roof\n55 Bethune St\nNYC\nTake elevator to 11th floor \nContact: Elliekusnerpilates@gmail.com \nEllie Kusner has been teaching pilates to people of diverse movement experiences\, physical abilities and health backgrounds for over 20 years. She began her own pilates practice as a student of the Boston Ballet in the 1990’s. After graduating from Barnard College\, she pursued a freelance dance career and quickly found that teaching pilates was an ideal way to financially and physically support her performing life while honoring her knowledge of the human body in motion. Ellie is a faculty member of the Dance Department at The Juilliard School\, where among other things\, she teaches pilates and runs a pilates teacher training program. She holds an MSc in Dance Science which contributes a scientific\, evidenced-based perspective to her pedagogy. Her classes encourage movement specificity and robust physicality while cultivating a deep\, integrated connection to the mind\, body and spirit through the use of rich\, anatomically-informed imagery.\nwww.elliekusner.com
URL:https://westbeth.org/event/ellie-kusner-teaches-pilates-on-westbeth-roof/
LOCATION:Westbeth Roof
CATEGORIES:past-events
ATTACH;FMTTYPE=image/jpeg:https://westbeth.org/wp-content/uploads/2024/05/Rooftop-Pilates-SQ.jpg
END:VEVENT
END:VCALENDAR