BEGIN:VCALENDAR
VERSION:2.0
PRODID:-//Westbeth - ECPv6.15.20//NONSGML v1.0//EN
CALSCALE:GREGORIAN
METHOD:PUBLISH
X-WR-CALNAME:Westbeth
X-ORIGINAL-URL:https://westbeth.org
X-WR-CALDESC:Events for Westbeth
REFRESH-INTERVAL;VALUE=DURATION:PT1H
X-Robots-Tag:noindex
X-PUBLISHED-TTL:PT1H
BEGIN:VTIMEZONE
TZID:America/New_York
BEGIN:DAYLIGHT
TZOFFSETFROM:-0500
TZOFFSETTO:-0400
TZNAME:EDT
DTSTART:20220313T070000
END:DAYLIGHT
BEGIN:STANDARD
TZOFFSETFROM:-0400
TZOFFSETTO:-0500
TZNAME:EST
DTSTART:20221106T060000
END:STANDARD
BEGIN:DAYLIGHT
TZOFFSETFROM:-0500
TZOFFSETTO:-0400
TZNAME:EDT
DTSTART:20230312T070000
END:DAYLIGHT
BEGIN:STANDARD
TZOFFSETFROM:-0400
TZOFFSETTO:-0500
TZNAME:EST
DTSTART:20231105T060000
END:STANDARD
BEGIN:DAYLIGHT
TZOFFSETFROM:-0500
TZOFFSETTO:-0400
TZNAME:EDT
DTSTART:20240310T070000
END:DAYLIGHT
BEGIN:STANDARD
TZOFFSETFROM:-0400
TZOFFSETTO:-0500
TZNAME:EST
DTSTART:20241103T060000
END:STANDARD
BEGIN:DAYLIGHT
TZOFFSETFROM:-0500
TZOFFSETTO:-0400
TZNAME:EDT
DTSTART:20250309T070000
END:DAYLIGHT
BEGIN:STANDARD
TZOFFSETFROM:-0400
TZOFFSETTO:-0500
TZNAME:EST
DTSTART:20251102T060000
END:STANDARD
END:VTIMEZONE
BEGIN:VEVENT
DTSTART;TZID=America/New_York:20240406T110000
DTEND;TZID=America/New_York:20240407T150000
DTSTAMP:20260423T202923
CREATED:20231014T025538Z
LAST-MODIFIED:20240416T153414Z
UID:10000466-1712401200-1712502000@westbeth.org
SUMMARY:One Day Monoprinting Workshops with Amanda Barrow
DESCRIPTION:Click to enlarge \nSaturday April 6\, 3034\nor Sunday April 7\, 2024\n11am – 3pm \nWestbeth Print Studio\n165 Bank Street\nb/w West St and Washington St\nNew York\, NY 10014 \n$30 fee to register\nAll Supplies included \nStair access only \nTo register: WARCvp@gmail.com \nMaterials\nWorkshop includes AKUA printmaking inks (red\, blue\, and yellow)\, seven sheets of archival Arnhem paper\, and all materials! We will work on 8″ x 12″ sheets of plexi-glas\, which you may take home. We use the printing press\, which is a blast! You may also bring your own paper if you like. You will most likely be taking home with you seven finished pieces\, or at least you can finish them off at home. Brilliant! Bring a sense of humor and get ready to play in the studio. \nAmanda Barrow was raised in the Mid-west by a social worker and an Episcopalian priest\, in an environment conducive to creativity and abstract thinking. In 1992\, a Fulbright research grant provided an opportunity for her to live and work in India for 13 months. She has returned to India many times since then\, funded by the Massachusetts Cultural Council\, Boston Cultural Council\, and a host of other institutions. At present\, she lives/works in Massachusetts\, New York and Maine. Her work is in the collections of the Museum of Modern Art in New York City\, the Boston and New York Public Libraries\, and the Museum of the Book in the Netherlands\, among numerous other places around the world. \nStatement\nT”ravels in Asia\, Europe\, and New Zealand have enhanced my personal vision\, leading me to dig deeper into the indigenous spiritual ambiance of the East in my artwork. Synthesizing these Eastern concepts with the Western visual language of my upbringing is my intention. I experiment with transparency and explore the inherent structure of my chosen medium. The resulting work presents a broad range of abstractions that utilize nature\, architecture and the human body as my primary sources of inspiration.”
URL:https://westbeth.org/event/monoprinting-workshops-at-westbeth/
LOCATION:Westbeth Print Studio
CATEGORIES:past-events
ATTACH;FMTTYPE=image/png:https://westbeth.org/wp-content/uploads/2023/10/MONOPRINT-WORKSHOP-SQ.png
END:VEVENT
BEGIN:VEVENT
DTSTART;TZID=America/New_York:20230422T110000
DTEND;TZID=America/New_York:20230423T150000
DTSTAMP:20260423T202923
CREATED:20230323T225157Z
LAST-MODIFIED:20230412T215906Z
UID:10000180-1682161200-1682262000@westbeth.org
SUMMARY:Monotype Print Workshop with Amanda Barrow
DESCRIPTION:One Day Monotype Workshop\nSaturday April 22\, 2023 11AM – 3PM\nor\nSunday April 23\, 2023 11AM – 3PM \n$30 all materials included \nTo register\, email :
URL:https://westbeth.org/event/monotype-print-workshop-with-amanda-barrow/
LOCATION:Westbeth Print Studio
CATEGORIES:past-events
ATTACH;FMTTYPE=image/png:https://westbeth.org/wp-content/uploads/2023/03/Monoprint-workshop-SQ.png
END:VEVENT
END:VCALENDAR