BEGIN:VCALENDAR
VERSION:2.0
PRODID:-//Westbeth - ECPv6.15.20//NONSGML v1.0//EN
CALSCALE:GREGORIAN
METHOD:PUBLISH
X-WR-CALNAME:Westbeth
X-ORIGINAL-URL:https://westbeth.org
X-WR-CALDESC:Events for Westbeth
REFRESH-INTERVAL;VALUE=DURATION:PT1H
X-Robots-Tag:noindex
X-PUBLISHED-TTL:PT1H
BEGIN:VTIMEZONE
TZID:America/New_York
BEGIN:DAYLIGHT
TZOFFSETFROM:-0500
TZOFFSETTO:-0400
TZNAME:EDT
DTSTART:20220313T070000
END:DAYLIGHT
BEGIN:STANDARD
TZOFFSETFROM:-0400
TZOFFSETTO:-0500
TZNAME:EST
DTSTART:20221106T060000
END:STANDARD
BEGIN:DAYLIGHT
TZOFFSETFROM:-0500
TZOFFSETTO:-0400
TZNAME:EDT
DTSTART:20230312T070000
END:DAYLIGHT
BEGIN:STANDARD
TZOFFSETFROM:-0400
TZOFFSETTO:-0500
TZNAME:EST
DTSTART:20231105T060000
END:STANDARD
BEGIN:DAYLIGHT
TZOFFSETFROM:-0500
TZOFFSETTO:-0400
TZNAME:EDT
DTSTART:20240310T070000
END:DAYLIGHT
BEGIN:STANDARD
TZOFFSETFROM:-0400
TZOFFSETTO:-0500
TZNAME:EST
DTSTART:20241103T060000
END:STANDARD
END:VTIMEZONE
BEGIN:VEVENT
DTSTART;TZID=America/New_York:20230712T080000
DTEND;TZID=America/New_York:20230712T170000
DTSTAMP:20260423T222730
CREATED:20230713T004929Z
LAST-MODIFIED:20230810T020236Z
UID:10000355-1689148800-1689181200@westbeth.org
SUMMARY:Designing Mandala Art
DESCRIPTION:
URL:https://westbeth.org/event/designing-mandala-art/
LOCATION:Westbeth Older Adult Center and Whitney Museum
CATEGORIES:past-events
ATTACH;FMTTYPE=image/png:https://westbeth.org/wp-content/uploads/2023/07/Westbeth-OAC-MANDELA-SQ.png
END:VEVENT
BEGIN:VEVENT
DTSTART;TZID=America/New_York:20230621T120000
DTEND;TZID=America/New_York:20230621T130000
DTSTAMP:20260423T222730
CREATED:20230612T184835Z
LAST-MODIFIED:20230622T021243Z
UID:10000339-1687348800-1687352400@westbeth.org
SUMMARY:World Elder Abuse Awareness Day: Questions answered
DESCRIPTION:Wednesday June 21\, 12pm\nWestbeth Older Adult Center\n155 Bank St\nNY NY 10014 \nEnter through the courtyard \n On June 15\, World Elder Abuse Awareness Day (WEAAD) was launched in 2006 by the International Network for the Prevention of Elder Abuse and the World Health Organization at the United Nations. \nOn June 21\, 2023 Financial Wellness Educator Kay will provide an informative discussion and answer questions such as:\nWhat is Elder Abuse and what are the signs?\nWho are the perpetrators and how can Elder Abuse be prevented?\nWhat can I do if I believe I’m a victim?
URL:https://westbeth.org/event/elder-world-elder-abuse-awareess-day/
LOCATION:Westbeth Older Adult Center and Whitney Museum
CATEGORIES:past-events
ATTACH;FMTTYPE=image/png:https://westbeth.org/wp-content/uploads/2023/06/Westbeth-OAC-Elder-Abusee.png
END:VEVENT
END:VCALENDAR