BEGIN:VCALENDAR
VERSION:2.0
PRODID:-//Westbeth - ECPv6.15.20//NONSGML v1.0//EN
CALSCALE:GREGORIAN
METHOD:PUBLISH
X-WR-CALNAME:Westbeth
X-ORIGINAL-URL:https://westbeth.org
X-WR-CALDESC:Events for Westbeth
REFRESH-INTERVAL;VALUE=DURATION:PT1H
X-Robots-Tag:noindex
X-PUBLISHED-TTL:PT1H
BEGIN:VTIMEZONE
TZID:America/New_York
BEGIN:DAYLIGHT
TZOFFSETFROM:-0500
TZOFFSETTO:-0400
TZNAME:EDT
DTSTART:20230312T070000
END:DAYLIGHT
BEGIN:STANDARD
TZOFFSETFROM:-0400
TZOFFSETTO:-0500
TZNAME:EST
DTSTART:20231105T060000
END:STANDARD
BEGIN:DAYLIGHT
TZOFFSETFROM:-0500
TZOFFSETTO:-0400
TZNAME:EDT
DTSTART:20240310T070000
END:DAYLIGHT
BEGIN:STANDARD
TZOFFSETFROM:-0400
TZOFFSETTO:-0500
TZNAME:EST
DTSTART:20241103T060000
END:STANDARD
BEGIN:DAYLIGHT
TZOFFSETFROM:-0500
TZOFFSETTO:-0400
TZNAME:EDT
DTSTART:20250309T070000
END:DAYLIGHT
BEGIN:STANDARD
TZOFFSETFROM:-0400
TZOFFSETTO:-0500
TZNAME:EST
DTSTART:20251102T060000
END:STANDARD
END:VTIMEZONE
BEGIN:VEVENT
DTSTART;TZID=America/New_York:20240501T180000
DTEND;TZID=America/New_York:20240501T210000
DTSTAMP:20260423T170805
CREATED:20231203T172305Z
LAST-MODIFIED:20240504T155205Z
UID:10000514-1714586400-1714597200@westbeth.org
SUMMARY:Westbeth Fixers Salon featured in The Village Sun article
DESCRIPTION:Click to enlargePhoto: Carole Braden \nNEXT EVENT\nWed May 1\, 2024 at 6pm – 9pm \nWestbeth Inner Courtyard\nOld Pre-school Room\n55 Bethune St\nNY NY 10014    \nMore Info:westbethconservation@gmail.com \nVillage Sun  Article\nBy Carole Braden \n“Sandra Kingsbury walked into the Fixers Night with a jumble of blown glass\, milk glass and metal pieces. She left with a beautiful\, working table lamp. \n“We were ready to throw it away\,” said Kingsbury\, a resident at Westbeth Artists Housing\, at 55 Bethune St. She had no idea what the tiered vintage piece should look like\, but that didn’t slow down retired science teacher and repair guru Joe Holdner. He intuitively stacked components around a new center wire and turned the switch\, sparking a literal lightbulb moment. \nPosters pinned to bulletin boards around the Westbeth campus said\, “Something broken? Don’t trash it. Repair it.” They invited residents to a pop-up tinkering session with the Fixers Collective\, which Holdner helped found and has been part of for 14 years. The group\, which has met monthly at Hack Manhattan on 37th Street for nearly a decade\, is setting up a new neighborhood residency here at the West Village’s “home of the arts.”  \nThe next repair salon at Westbeth will occur on Wed.\, May 1\, from 6 p.m. to 9 p.m. \nOn that night in early March\, Holdner was joined by Fixers Collective artists Vincent Lai and John Murphy\, who unpacked implements and took places at power strip-equipped folding tables. Scheduled guests arrived with disabled objects and onlookers peeked into the brightly lit room wondering what was happening. \n“It smells like fire\,” said Charlotte Leist\, a seventh-grader who wielded a soldering iron under Murphy’s supervision. She was installing new capacitators in her own mini makeup fridge\, which had stopped chilling without warning. Empowered by making her “Swiftie” sticker-emblazoned plastic appliance cool again\, she also gained a lesson: We can outsmart planned obsolescence.\nThe Fixers Night pilot and other neighborhood repair events have the power to reignite a long-burning zeitgeist\, growing awareness about climate change and consumerism’s role in it while providing welcome services. The Westbeth Artists Residents Council (WARC) and its Conservation Committee (which\, full disclosure\, this reporter leads) sponsored the three-hour event. Visitors brought a rollator — a walker on wheels — with bad brakes\, a non-spinning CD player and five lamps\, in addition to Kingsbury’s\, plus more. Volunteers weighed and tallied 156 pounds of junk that went back to work instead of to the landfill. \nDebra Rapoport\, a found-metal jewelry and repurposed-textile artist\, came with a nonworking 1960s Luxo gooseneck lamp. Holdner fixed the chrome light’s derelict switch by simply tightening a screw. Rapoport\, a proud trash picker\, was overjoyed. \n“The concept of conservation and repairing and reusing\,” she said\, “is what I’m all about.” \nRead the complete Sun Article here which includes photos.  Village Sun
URL:https://westbeth.org/event/westbeth-fixers-salon/
LOCATION:Westbeth Inner Courtyard old PreSchool Space
CATEGORIES:past-events
ATTACH;FMTTYPE=image/jpeg:https://westbeth.org/wp-content/uploads/2024/04/Westbeth-Fixers-3-e1713161346992.jpg
END:VEVENT
END:VCALENDAR