BEGIN:VCALENDAR
VERSION:2.0
PRODID:-//Westbeth - ECPv6.15.20//NONSGML v1.0//EN
CALSCALE:GREGORIAN
METHOD:PUBLISH
X-WR-CALNAME:Westbeth
X-ORIGINAL-URL:https://westbeth.org
X-WR-CALDESC:Events for Westbeth
REFRESH-INTERVAL;VALUE=DURATION:PT1H
X-Robots-Tag:noindex
X-PUBLISHED-TTL:PT1H
BEGIN:VTIMEZONE
TZID:America/New_York
BEGIN:DAYLIGHT
TZOFFSETFROM:-0500
TZOFFSETTO:-0400
TZNAME:EDT
DTSTART:20210314T070000
END:DAYLIGHT
BEGIN:STANDARD
TZOFFSETFROM:-0400
TZOFFSETTO:-0500
TZNAME:EST
DTSTART:20211107T060000
END:STANDARD
BEGIN:DAYLIGHT
TZOFFSETFROM:-0500
TZOFFSETTO:-0400
TZNAME:EDT
DTSTART:20220313T070000
END:DAYLIGHT
BEGIN:STANDARD
TZOFFSETFROM:-0400
TZOFFSETTO:-0500
TZNAME:EST
DTSTART:20221106T060000
END:STANDARD
BEGIN:DAYLIGHT
TZOFFSETFROM:-0500
TZOFFSETTO:-0400
TZNAME:EDT
DTSTART:20230312T070000
END:DAYLIGHT
BEGIN:STANDARD
TZOFFSETFROM:-0400
TZOFFSETTO:-0500
TZNAME:EST
DTSTART:20231105T060000
END:STANDARD
END:VTIMEZONE
BEGIN:VEVENT
DTSTART;TZID=America/New_York:20220825T080000
DTEND;TZID=America/New_York:20220825T170000
DTSTAMP:20260423T132734
CREATED:20220125T193438Z
LAST-MODIFIED:20221024T203132Z
UID:10000061-1661414400-1661446800@westbeth.org
SUMMARY:The Kitchen Will Spend Creative Time at Westbeth
DESCRIPTION:Photo:A 1972 installation by the Kitchen at its first home\, in the Mercer Arts Center. Credit…Ben Tatti Two storied New York City arts organizations\, both with origins in the early 1970s\, will soon share a roof\, as the Kitchen temporarily relocates to Westbeth Artist Housing. The Kitchen announced the move on Thursday. \nFounded as an artist collective in 1971\, the Kitchen is one of the city’s oldest nonprofit art centers dedicated to avant-garde and cross-disciplinary work. Its home in Chelsea will be undergoing a two-year renovation (designed by Rice+Lipka Architects)\, necessitating the short-term move\, starting in late September. \nWestbeth was founded in 1970\, when buildings in the West Village previously used by Bell Laboratories were converted into affordable housing and studios for artists and their families. The landmark buildings also house the New School for Drama\, the Martha Graham Dance Company and much history. The loft space that the Graham company took over 10 years ago was long home to the Merce Cunningham Dance Company. The Kitchen will be using the West Side Loft\, a 6\,000-foot loft space on the fourth floor. \n“It’s a special space\,” said Legacy Russell\, who became the Kitchen’s executive director and chief curator last year. “It’s a version of New York that many folks come to the city with hopes of experiencing. So much of the history of the interdisciplinary avant-garde has that kind of loft space as its birthplace.” \n-Brian Seibert\nAugust 26\, 2022\nNew York Times \nREAD THE FULL ARTICLE HERE \nPhoto on Home Page:A vision of the New York avant-garde: The loft at Westbeth that will serve as a home to the Kitchen.Credit…The Kitchen
URL:https://westbeth.org/event/the-kitchen/
LOCATION:Westbeth I Building
CATEGORIES:past-events
ATTACH;FMTTYPE=image/jpeg:https://westbeth.org/wp-content/uploads/2022/08/THE-KITCHEN-SQ-e1661453459683.jpg
END:VEVENT
END:VCALENDAR