BEGIN:VCALENDAR
VERSION:2.0
PRODID:-//Westbeth - ECPv6.15.20//NONSGML v1.0//EN
CALSCALE:GREGORIAN
METHOD:PUBLISH
X-WR-CALNAME:Westbeth
X-ORIGINAL-URL:https://westbeth.org
X-WR-CALDESC:Events for Westbeth
REFRESH-INTERVAL;VALUE=DURATION:PT1H
X-Robots-Tag:noindex
X-PUBLISHED-TTL:PT1H
BEGIN:VTIMEZONE
TZID:America/New_York
BEGIN:DAYLIGHT
TZOFFSETFROM:-0500
TZOFFSETTO:-0400
TZNAME:EDT
DTSTART:20230312T070000
END:DAYLIGHT
BEGIN:STANDARD
TZOFFSETFROM:-0400
TZOFFSETTO:-0500
TZNAME:EST
DTSTART:20231105T060000
END:STANDARD
BEGIN:DAYLIGHT
TZOFFSETFROM:-0500
TZOFFSETTO:-0400
TZNAME:EDT
DTSTART:20240310T070000
END:DAYLIGHT
BEGIN:STANDARD
TZOFFSETFROM:-0400
TZOFFSETTO:-0500
TZNAME:EST
DTSTART:20241103T060000
END:STANDARD
BEGIN:DAYLIGHT
TZOFFSETFROM:-0500
TZOFFSETTO:-0400
TZNAME:EDT
DTSTART:20250309T070000
END:DAYLIGHT
BEGIN:STANDARD
TZOFFSETFROM:-0400
TZOFFSETTO:-0500
TZNAME:EST
DTSTART:20251102T060000
END:STANDARD
END:VTIMEZONE
BEGIN:VEVENT
DTSTART;VALUE=DATE:20240212
DTEND;VALUE=DATE:20240701
DTSTAMP:20260423T170520
CREATED:20231003T031948Z
LAST-MODIFIED:20240312T012028Z
UID:10000461-1707696000-1719791999@westbeth.org
SUMMARY:A Sampling of Actors Exhibition David Greenspan\, Erica Fae\, Jack Davidson\, Gloria Miguel\, Karen Ludwig\, Joel Rooks\, SHukura
DESCRIPTION:Click to enlarge \nCourtyard Gallery\nInner Courtyard\n55 Bethune Street\nNY NY \nThe Courtyard Gallery is open 9am – 9pm every day. \nFor each actor\, the  exhibit features a photo\, bio\, their favorite role and a synopsis of the production featuring that role. \nDAVID GREENSPAN\nDavid Greenspan\, actor and playwright\, is the recipient of six Obies\, including an award for Sustained Achievement. He is currently appearing in “On Set With Theda Bara” at the Brick Theater.\nDavid Greenspan Interview \nERICA FAE\nErica Fae brings radical stories from history onto the stage and screen. Her  feature film “To Keep the Light”\, was awarded the FIPRESCI Prize. ericafae.com \nJACK DAVIDSON\nJack played Tobias in Edward Albee’s A Delicate Balance for which he was nominated for an Elliot Norton award for outstanding actor and received the IRNE Award as best actor in a play.\nJack Davidson Westbeh Icon Film \nGLORIA MIGUEL\nGloria Miguel is Kuna/ Rappahannock and is a founding member of Spiderwoman Theater whose mission is rooted in an urban Indigenous performance practice.\n. Gloria Miguel Profiles in Art Interview\nGloria Miguel Westbeth Icon \nKAREN LUDWIG\nKaren Ludwig has performed in and directed numerous off-Broadway plays\, including one woman shows\, appeared in films with Meryl Streep and and Robert De Niro\, and directed Uta Hagen’s Acting Class.\nKaren Ludwig website \nJOEL ROOKS\nJoel Rooks has worked steadily\, acting extensively in theatre\, both on and off Broadway as well as throughout the U.S. and overseas.\nJoel Rooks Interview \nSHukura\nSHukura’s most recent successes have been her roles in Netflix’s Orange Is the New Black\, her recurring role as Prison Guard Raina on NBC TV’s New Amsterdam\, and her appearance on Crackle TV’s Inside the Black Box.
URL:https://westbeth.org/event/westbeth-actors-exhibition/
LOCATION:Westbeth Courtyard Gallery
CATEGORIES:past-events
ATTACH;FMTTYPE=image/png:https://westbeth.org/wp-content/uploads/2023/10/Sampling-of-Actors-SQ-no-opening4.04-PM-e1710206562379.png
END:VEVENT
END:VCALENDAR