BEGIN:VCALENDAR
VERSION:2.0
PRODID:-//Westbeth - ECPv6.15.20//NONSGML v1.0//EN
CALSCALE:GREGORIAN
METHOD:PUBLISH
X-ORIGINAL-URL:https://westbeth.org
X-WR-CALDESC:Events for Westbeth
REFRESH-INTERVAL;VALUE=DURATION:PT1H
X-Robots-Tag:noindex
X-PUBLISHED-TTL:PT1H
BEGIN:VTIMEZONE
TZID:America/New_York
BEGIN:DAYLIGHT
TZOFFSETFROM:-0500
TZOFFSETTO:-0400
TZNAME:EDT
DTSTART:20220313T070000
END:DAYLIGHT
BEGIN:STANDARD
TZOFFSETFROM:-0400
TZOFFSETTO:-0500
TZNAME:EST
DTSTART:20221106T060000
END:STANDARD
BEGIN:DAYLIGHT
TZOFFSETFROM:-0500
TZOFFSETTO:-0400
TZNAME:EDT
DTSTART:20230312T070000
END:DAYLIGHT
BEGIN:STANDARD
TZOFFSETFROM:-0400
TZOFFSETTO:-0500
TZNAME:EST
DTSTART:20231105T060000
END:STANDARD
BEGIN:DAYLIGHT
TZOFFSETFROM:-0500
TZOFFSETTO:-0400
TZNAME:EDT
DTSTART:20240310T070000
END:DAYLIGHT
BEGIN:STANDARD
TZOFFSETFROM:-0400
TZOFFSETTO:-0500
TZNAME:EST
DTSTART:20241103T060000
END:STANDARD
END:VTIMEZONE
BEGIN:VEVENT
DTSTART;TZID=America/New_York:20231014T183000
DTEND;TZID=America/New_York:20231110T210000
DTSTAMP:20260423T133050
CREATED:20231008T172654Z
LAST-MODIFIED:20231026T012619Z
UID:10000408-1697308200-1699650000@westbeth.org
SUMMARY:Westbeth's Safe Haven Artists Performances\, and Special Exhibit
DESCRIPTION:The Westbeth Artist Safe Haven Residency Program  in collaboration with Artistic Freedom Initiative is designed to house and nurture international artists who are persecuted on the basis of political affiliations\, ethnic\, locational\, religious\, and/or gender-based persecution. \nPerformances by the 2023 Westbeth Safe Haven Artists were funded by a grant from the National Endowment for the Arts. \nYou can learn more about the featured artists and their Westbeth mentors in a special exhibit in Westbeth’s historic lobby located at 55 Bethune Street\, NYC \nLama El Homaïssi\n6:00 PM on Saturday\, October 14\nJoe’s Pub\, 425 Lafayette Street\n‟Not Harem Material”: A solo cabaret\, presented as part of Artistic Freedom Initiative’s Beautiful Forms: Queer Art Unbound Festival\nPhoto by Bokeh Productions \n Lama El Homaīssi event \nAlejandro de la Guerra\n6:30 PM on Friday\, October 20\nWestbeth Community Room\, 55 Bethune Street\nThe Art as a social project\, ‟Dark Sad Stories”: A series of TikToks on being an immigrant artist in New York City \nSahraa Karimi\n6:00 PM on Sunday\, November 5\n‟Afghan Women Behind the Wheel”: Film screening followed by a Q&A\n6:00 PM on Friday\, November 17\n‟Hava\, Maryam\, Ayesha”: Film screening followed by a Q&A\nWestbeth Community Room\, 55 Bethune Street \nFanoos Ensemble\n7:30 PM on Friday\, November 10\nMannes School of Music | The New School 55 West 13th Street\nAhmad Fanoos and his sons present a concert of new and traditional Afghan folk music \nFor more information about these and other Safe Haven Artists: Westbeth Safe Haven Program \nFor more information about Artistic Freedom Initiative: Artistic Freedom Initiative
URL:https://westbeth.org/event/westbeths-safe-haven-artists-performances-and-special-exhibit/
LOCATION:Westbeth\, Joe’s Pub\, Mannes School of Music
CATEGORIES:past-events
ATTACH;FMTTYPE=image/jpeg:https://westbeth.org/wp-content/uploads/2023/10/Topos_Westbeth_WTW_ArtistsInExile_Poster_Social_1080x1080_2-e1696785775484.jpg
END:VEVENT
END:VCALENDAR