BEGIN:VCALENDAR
VERSION:2.0
PRODID:-//Westbeth - ECPv6.15.20//NONSGML v1.0//EN
CALSCALE:GREGORIAN
METHOD:PUBLISH
X-WR-CALNAME:Westbeth
X-ORIGINAL-URL:https://westbeth.org
X-WR-CALDESC:Events for Westbeth
REFRESH-INTERVAL;VALUE=DURATION:PT1H
X-Robots-Tag:noindex
X-PUBLISHED-TTL:PT1H
BEGIN:VTIMEZONE
TZID:America/New_York
BEGIN:DAYLIGHT
TZOFFSETFROM:-0500
TZOFFSETTO:-0400
TZNAME:EDT
DTSTART:20210314T070000
END:DAYLIGHT
BEGIN:STANDARD
TZOFFSETFROM:-0400
TZOFFSETTO:-0500
TZNAME:EST
DTSTART:20211107T060000
END:STANDARD
BEGIN:DAYLIGHT
TZOFFSETFROM:-0500
TZOFFSETTO:-0400
TZNAME:EDT
DTSTART:20220313T070000
END:DAYLIGHT
BEGIN:STANDARD
TZOFFSETFROM:-0400
TZOFFSETTO:-0500
TZNAME:EST
DTSTART:20221106T060000
END:STANDARD
BEGIN:DAYLIGHT
TZOFFSETFROM:-0500
TZOFFSETTO:-0400
TZNAME:EDT
DTSTART:20230312T070000
END:DAYLIGHT
BEGIN:STANDARD
TZOFFSETFROM:-0400
TZOFFSETTO:-0500
TZNAME:EST
DTSTART:20231105T060000
END:STANDARD
END:VTIMEZONE
BEGIN:VEVENT
DTSTART;TZID=America/New_York:20221215T180000
DTEND;TZID=America/New_York:20221215T190000
DTSTAMP:20260423T213021
CREATED:20221212T021211Z
LAST-MODIFIED:20221230T022046Z
UID:10000131-1671127200-1671130800@westbeth.org
SUMMARY:Dr Miriam Chaiken Cultural Anthropologist: A Conversation about Westbeth
DESCRIPTION:6:00pm – 7:15pm ET \nZoom Webinar \nFree\, Pre-Registration is Required \nRegister Here:\n Village Preservation and Dr Miriam Chaiken \nJoin Village Preservation in discussion with Miriam S. Chaiken\, Ph. D.\, Dean Emerita\, William Conroy Honors College\, Distinguished Professor of Anthropology Emerita\, New Mexico State University. Dr. Chaiken will share insights and history about Westbeth Artists Housing from her research and interviews with resident artists.  \nThe Westbeth community is important both for the then-radical innovations in the building’s architecture\, and for the many noteworthy people who have called it home over five-plus decades. Opened in 1970\, the Westbeth project began in the mid-1960s when philanthropist and patron of the arts Jacob Kaplan envisioned an affordable space in the heart of New York City\, where up and coming artists could live and work.  \nMore than 500 artists have lived in Westbeth\, and some have had a profound influence on their genres. The discussion will examine how the building and community influenced the lives of these artists\, and how this community in turn influenced political\, social\, and artistic movements over the past 50 years.  \nDr.Chaiken is embarking on a comprehensive examination of the collective impact of the Westbeth community examining the span of its 50 years in Greenwich Village. Join in the discussion and learn more about this important cultural institution in our community. \nDr. Miriam S. Chaiken has a unique history that permitted her to undertake this research and gathering of oral histories. Three of Westbeth’s long-term residents were her fathers’ siblings. She has visited the building for decades\, and in 2017 began applying her skills as an ethnographer to learning about the lives and experiences of the community residents.  \nAs a cultural anthropologist she has worked in a variety of diverse contexts\, from rural villages in the Philippines\, Indonesia\, and throughout sub-Saharan Africa\, to drawing rooms in British homes. Her research in the global south has largely focused on indigenous perspectives of poverty\, gender\, and hunger.
URL:https://westbeth.org/event/dr-miriam-chaiken/
LOCATION:Webinar
CATEGORIES:past-events
ATTACH;FMTTYPE=image/png:https://westbeth.org/wp-content/uploads/2022/11/Village-Preservation-with-Miriam-e1669680572979.png
END:VEVENT
END:VCALENDAR