BEGIN:VCALENDAR
VERSION:2.0
PRODID:-//Westbeth - ECPv6.15.20//NONSGML v1.0//EN
CALSCALE:GREGORIAN
METHOD:PUBLISH
X-ORIGINAL-URL:https://westbeth.org
X-WR-CALDESC:Events for Westbeth
REFRESH-INTERVAL;VALUE=DURATION:PT1H
X-Robots-Tag:noindex
X-PUBLISHED-TTL:PT1H
BEGIN:VTIMEZONE
TZID:America/New_York
BEGIN:DAYLIGHT
TZOFFSETFROM:-0500
TZOFFSETTO:-0400
TZNAME:EDT
DTSTART:20240310T070000
END:DAYLIGHT
BEGIN:STANDARD
TZOFFSETFROM:-0400
TZOFFSETTO:-0500
TZNAME:EST
DTSTART:20241103T060000
END:STANDARD
BEGIN:DAYLIGHT
TZOFFSETFROM:-0500
TZOFFSETTO:-0400
TZNAME:EDT
DTSTART:20250309T070000
END:DAYLIGHT
BEGIN:STANDARD
TZOFFSETFROM:-0400
TZOFFSETTO:-0500
TZNAME:EST
DTSTART:20251102T060000
END:STANDARD
BEGIN:DAYLIGHT
TZOFFSETFROM:-0500
TZOFFSETTO:-0400
TZNAME:EDT
DTSTART:20260308T070000
END:DAYLIGHT
BEGIN:STANDARD
TZOFFSETFROM:-0400
TZOFFSETTO:-0500
TZNAME:EST
DTSTART:20261101T060000
END:STANDARD
END:VTIMEZONE
BEGIN:VEVENT
DTSTART;TZID=America/New_York:20251207T080000
DTEND;TZID=America/New_York:20251216T170000
DTSTAMP:20260423T113641
CREATED:20251206T022041Z
LAST-MODIFIED:20251215T221635Z
UID:10000925-1765094400-1765904400@westbeth.org
SUMMARY:Pedro Giraudo Music Performances
DESCRIPTION:Senza Parole Pedro Giraudo’s latests albuml Live at Grace Church\, NYC \n \nDecember is here and we have a lot of performances to share with you! (Am I the only one who thinks it’s INSANE that 2025 is almost over?!). \nThe highlights: \nThis Sun\, Dec 7th\, at 4pm we are very excited to be back at The Dweck Auditorium at the main branch of the Brooklyn Public Library for a FREE concert. The concert will feature: Nicolas Danielson on violin\, Loïc da Silva on bandoneón\, and Jun Cho on piano. \nOn Wed\, Dec 10th\, 6pm\, I’ll be presenting a new project at the Perelman PAC: The Pedro Giraudo New World Trio\, featuring Camila Cortina Bello on piano and Chris Hemingway on saxes presenting music from Cuba\, Argentina and USA.This concert is also FREE! \nLast but not least: on Sun\, Dec 14th\, 7pm the Pedro Giraudo Tango Quartet will be performing at the Bailemos in Astoria Holiday Gala Milonga! It would be lovely to toast with you there!\nIf I don’t get to see you\, I wish you a marvelous holiday season! \nOnwards and upwards\,\nPedro \nUpcoming performances\n 📅 Sun\, Dec 07\, 4:00 PM – PGTQ @ Dweck Auditorium\, Brooklyn\n📅 Tue\, Dec 09\, 4:00 PM – PGTQ @ Moynihan Hall\, New York\n📅 Wed\, Dec 10\, 8:00 AM – PG’s New World Trio @ 28 Liberty St\, New York\n📅 Wed\, Dec 10\, 6:00 PM – PG’s New World Trio @ Perelman PAC\, New York\n📅 Sun\, Dec 14\, 7:30 PM – Bailemos\, Astoria Holiday Gala Milonga\, Queens
URL:https://westbeth.org/event/pedro-giraudo-music-performances/
LOCATION:Various venues in NYC
CATEGORIES:past-events
ATTACH;FMTTYPE=image/png:https://westbeth.org/wp-content/uploads/2025/12/Screenshot-2025-12-05-at-9.09.38-PM.png
END:VEVENT
END:VCALENDAR