BEGIN:VCALENDAR
VERSION:2.0
PRODID:-//Westbeth - ECPv6.15.20//NONSGML v1.0//EN
CALSCALE:GREGORIAN
METHOD:PUBLISH
X-WR-CALNAME:Westbeth
X-ORIGINAL-URL:https://westbeth.org
X-WR-CALDESC:Events for Westbeth
REFRESH-INTERVAL;VALUE=DURATION:PT1H
X-Robots-Tag:noindex
X-PUBLISHED-TTL:PT1H
BEGIN:VTIMEZONE
TZID:America/New_York
BEGIN:DAYLIGHT
TZOFFSETFROM:-0500
TZOFFSETTO:-0400
TZNAME:EDT
DTSTART:20220313T070000
END:DAYLIGHT
BEGIN:STANDARD
TZOFFSETFROM:-0400
TZOFFSETTO:-0500
TZNAME:EST
DTSTART:20221106T060000
END:STANDARD
BEGIN:DAYLIGHT
TZOFFSETFROM:-0500
TZOFFSETTO:-0400
TZNAME:EDT
DTSTART:20230312T070000
END:DAYLIGHT
BEGIN:STANDARD
TZOFFSETFROM:-0400
TZOFFSETTO:-0500
TZNAME:EST
DTSTART:20231105T060000
END:STANDARD
BEGIN:DAYLIGHT
TZOFFSETFROM:-0500
TZOFFSETTO:-0400
TZNAME:EDT
DTSTART:20240310T070000
END:DAYLIGHT
BEGIN:STANDARD
TZOFFSETFROM:-0400
TZOFFSETTO:-0500
TZNAME:EST
DTSTART:20241103T060000
END:STANDARD
END:VTIMEZONE
BEGIN:VEVENT
DTSTART;TZID=America/New_York:20231010T080000
DTEND;TZID=America/New_York:20231111T170000
DTSTAMP:20260423T210706
CREATED:20231008T220059Z
LAST-MODIFIED:20231109T010650Z
UID:10000393-1696924800-1699722000@westbeth.org
SUMMARY:William Kennon in Printmaking Exhibit at Society of American Graphic Artists
DESCRIPTION:William Kennon. Plant Forms  soft ground etching. Edition of 20 \nWilliam Kennon is a painter\, printmaker and longtime Westbeth resident.\nHis exhibition venues include the Old Print Shop\, Hirschl and Adler Gallery\,\nthe National Arts Club and the Westbeth Gallery in New York City\, and the\nGalerie Albert Benamou in Paris. His work is included in numerous private\ncollections. \nContact: williamkennon@gmail.com\nWebsite: williamkennonartist.comwilliamkennonartist.com
URL:https://westbeth.org/event/william-kennon-in-printmaking-exhibit-at-society-of-american-graphic-artists/
LOCATION:The Old Print Shop 49 W 24 St NYC
CATEGORIES:past-events
ATTACH;FMTTYPE=image/jpeg:https://westbeth.org/wp-content/uploads/2023/09/William-KennonSQ-Plant-Forms-Softground-Etching-Edition-of-20-e1694474204739.jpg
END:VEVENT
END:VCALENDAR