BEGIN:VCALENDAR
VERSION:2.0
PRODID:-//Westbeth - ECPv6.15.20//NONSGML v1.0//EN
CALSCALE:GREGORIAN
METHOD:PUBLISH
X-ORIGINAL-URL:https://westbeth.org
X-WR-CALDESC:Events for Westbeth
REFRESH-INTERVAL;VALUE=DURATION:PT1H
X-Robots-Tag:noindex
X-PUBLISHED-TTL:PT1H
BEGIN:VTIMEZONE
TZID:America/New_York
BEGIN:DAYLIGHT
TZOFFSETFROM:-0500
TZOFFSETTO:-0400
TZNAME:EDT
DTSTART:20240310T070000
END:DAYLIGHT
BEGIN:STANDARD
TZOFFSETFROM:-0400
TZOFFSETTO:-0500
TZNAME:EST
DTSTART:20241103T060000
END:STANDARD
BEGIN:DAYLIGHT
TZOFFSETFROM:-0500
TZOFFSETTO:-0400
TZNAME:EDT
DTSTART:20250309T070000
END:DAYLIGHT
BEGIN:STANDARD
TZOFFSETFROM:-0400
TZOFFSETTO:-0500
TZNAME:EST
DTSTART:20251102T060000
END:STANDARD
BEGIN:DAYLIGHT
TZOFFSETFROM:-0500
TZOFFSETTO:-0400
TZNAME:EDT
DTSTART:20260308T070000
END:DAYLIGHT
BEGIN:STANDARD
TZOFFSETFROM:-0400
TZOFFSETTO:-0500
TZNAME:EST
DTSTART:20261101T060000
END:STANDARD
END:VTIMEZONE
BEGIN:VEVENT
DTSTART;TZID=America/New_York:20251128T190000
DTEND;TZID=America/New_York:20251129T220000
DTSTAMP:20260423T132753
CREATED:20251119T194324Z
LAST-MODIFIED:20251201T030315Z
UID:10000918-1764356400-1764453600@westbeth.org
SUMMARY:Giraudo Sinfonietta  Featuring compositions by Pedro Giraudo
DESCRIPTION:The Jazz Gallery\n1158 Broadway\nEntrance on 27th St\n5th Floor\,\nNew York\, NY. \nFriday and Saturday Nov 28 and Nov 29\, 2025 Two Shows at 7pm and 9pm\nTickets The Jazz Gallery \nFor composer and bassist Pedro Giraudo\, presenting the Giraudo Sinfonietta at The Jazz Gallery is more than just a performance; it’s the culmination of a lifelong musical journey. The Jazz Gallery holds a special place in his heart and in the evolution of his music\, making these dates a meaningful milestone. \nThis project represents the moment Giraudo has been working towards his entire career: the seamless fusion of his three deepest musical loves—the visceral energy of tango\, the improvisational spirit of jazz\, and the lush textures of classical music. For the first time\, all these elements converge into a single\, cohesive sound\, brought to life by his new 10-piece chamber orchestra.
URL:https://westbeth.org/event/giraudo-sinfonietta-featuring-compositions-by-pedro-giraudo/
LOCATION:The Jazz Gallery\, NYC
CATEGORIES:past-events
ATTACH;FMTTYPE=image/png:https://westbeth.org/wp-content/uploads/2025/11/Giraudo-SQ-sinfonietta-28-y-29.png
END:VEVENT
END:VCALENDAR