BEGIN:VCALENDAR
VERSION:2.0
PRODID:-//Westbeth - ECPv6.15.20//NONSGML v1.0//EN
CALSCALE:GREGORIAN
METHOD:PUBLISH
X-WR-CALNAME:Westbeth
X-ORIGINAL-URL:https://westbeth.org
X-WR-CALDESC:Events for Westbeth
REFRESH-INTERVAL;VALUE=DURATION:PT1H
X-Robots-Tag:noindex
X-PUBLISHED-TTL:PT1H
BEGIN:VTIMEZONE
TZID:America/New_York
BEGIN:DAYLIGHT
TZOFFSETFROM:-0500
TZOFFSETTO:-0400
TZNAME:EDT
DTSTART:20220313T070000
END:DAYLIGHT
BEGIN:STANDARD
TZOFFSETFROM:-0400
TZOFFSETTO:-0500
TZNAME:EST
DTSTART:20221106T060000
END:STANDARD
BEGIN:DAYLIGHT
TZOFFSETFROM:-0500
TZOFFSETTO:-0400
TZNAME:EDT
DTSTART:20230312T070000
END:DAYLIGHT
BEGIN:STANDARD
TZOFFSETFROM:-0400
TZOFFSETTO:-0500
TZNAME:EST
DTSTART:20231105T060000
END:STANDARD
BEGIN:DAYLIGHT
TZOFFSETFROM:-0500
TZOFFSETTO:-0400
TZNAME:EDT
DTSTART:20240310T070000
END:DAYLIGHT
BEGIN:STANDARD
TZOFFSETFROM:-0400
TZOFFSETTO:-0500
TZNAME:EST
DTSTART:20241103T060000
END:STANDARD
END:VTIMEZONE
BEGIN:VEVENT
DTSTART;TZID=America/New_York:20231014T193000
DTEND;TZID=America/New_York:20231014T210000
DTSTAMP:20260423T164644
CREATED:20231008T155713Z
LAST-MODIFIED:20231015T124251Z
UID:10000407-1697311800-1697317200@westbeth.org
SUMMARY:The Barrytones: Barry Temkin and Band
DESCRIPTION:Saturday Oct 14\, 2023 at 7:45\nThe Delancy\n168 Delancy Street\nNew York\, NY \nhttp://thedelancey.com/events \nA dance band featuring\nNatasha Gollin vocals\nBarry Temkin guitar\nSteve Schneider bass\nJim Meigs blues harp\nBilly Levy drums\nShelly Oski keys \nMore about Barry Temkin at Westbeth Artist Page
URL:https://westbeth.org/event/the-barrytones-barry-temkin-and-band/
LOCATION:The Delancy NYC
CATEGORIES:past-events
ATTACH;FMTTYPE=image/png:https://westbeth.org/wp-content/uploads/2023/10/Barrytones.png
END:VEVENT
END:VCALENDAR