BEGIN:VCALENDAR
VERSION:2.0
PRODID:-//Westbeth - ECPv6.15.20//NONSGML v1.0//EN
CALSCALE:GREGORIAN
METHOD:PUBLISH
X-WR-CALNAME:Westbeth
X-ORIGINAL-URL:https://westbeth.org
X-WR-CALDESC:Events for Westbeth
REFRESH-INTERVAL;VALUE=DURATION:PT1H
X-Robots-Tag:noindex
X-PUBLISHED-TTL:PT1H
BEGIN:VTIMEZONE
TZID:America/New_York
BEGIN:DAYLIGHT
TZOFFSETFROM:-0500
TZOFFSETTO:-0400
TZNAME:EDT
DTSTART:20210314T070000
END:DAYLIGHT
BEGIN:STANDARD
TZOFFSETFROM:-0400
TZOFFSETTO:-0500
TZNAME:EST
DTSTART:20211107T060000
END:STANDARD
BEGIN:DAYLIGHT
TZOFFSETFROM:-0500
TZOFFSETTO:-0400
TZNAME:EDT
DTSTART:20220313T070000
END:DAYLIGHT
BEGIN:STANDARD
TZOFFSETFROM:-0400
TZOFFSETTO:-0500
TZNAME:EST
DTSTART:20221106T060000
END:STANDARD
BEGIN:DAYLIGHT
TZOFFSETFROM:-0500
TZOFFSETTO:-0400
TZNAME:EDT
DTSTART:20230312T070000
END:DAYLIGHT
BEGIN:STANDARD
TZOFFSETFROM:-0400
TZOFFSETTO:-0500
TZNAME:EST
DTSTART:20231105T060000
END:STANDARD
END:VTIMEZONE
BEGIN:VEVENT
DTSTART;TZID=America/New_York:20220820T080000
DTEND;TZID=America/New_York:20220820T170000
DTSTAMP:20260423T150655
CREATED:20210921T003928Z
LAST-MODIFIED:20221002T183813Z
UID:10000038-1660982400-1661014800@westbeth.org
SUMMARY:Living the Westbeth Life: Ethan Mass\, Stephen Hall\, Karen Santry Interviewed
DESCRIPTION:Residents of the downtown artists’ housing reflect on their home and work spaces\nStephen Hall contemporary painter with emphasis on climate change \n“[It is] really the best\, greatest moment of your life.” \nAfter decades on a waitlist\, residents like Karen Santry recall a seemingly destined\, life-changing moment: getting a phone call from Westbeth Artists Housing. \nFor any artist in New York\, rent is often a roadblock to creative work in the city. Many artists dream about the day they are offered a loft in the West Village for a fraction of the neighborhood’s average rent. \nKaren Santry fine arts painter\, illustrator\, associate professor \nIt is rare to find a place like Westbeth\, a 52-year-old housing complex named for its location at the intersection of Bethune and West Streets. The nonprofit is one of the few spaces that financially and emotionally supports artists at any point in their creative careers\, providing residents with both housing and workspaces. The building helps free artists from many of the financial stressors that prevent them from prioritizing their creative work. Once off the waitlist\, most never leave. \nEthan Mass cinematographer of both creative pursuits and commercial films  Describing the building itself is a near impossible task\, as it encapsulates the roaring\, creative\, and mystical quality of New York\, in addition to creating a community of connected values. Many of the artists who arrive would not be able to imagine their lives without the financial freedom Westbeth provides. Beyond providing loft-style housing for artists\, there are gallery spaces\, studios and events hosted in the building. Its fascinating history begins with its purchase from Bell Laboratories in the 1960s. After renovation\, it opened to its first residents in 1970. \n– Maya Olsen West Village for Our Town  17 August 2022 \nRead the entire article in Our Town
URL:https://westbeth.org/event/living-the-westbeth-life/
LOCATION:Our Town online
CATEGORIES:past-events
ATTACH;FMTTYPE=image/jpeg:https://westbeth.org/wp-content/uploads/2022/08/Interview-EthanMass-e1661043832276.jpeg
END:VEVENT
END:VCALENDAR