BEGIN:VCALENDAR
VERSION:2.0
PRODID:-//Westbeth - ECPv6.15.20//NONSGML v1.0//EN
CALSCALE:GREGORIAN
METHOD:PUBLISH
X-WR-CALNAME:Westbeth
X-ORIGINAL-URL:https://westbeth.org
X-WR-CALDESC:Events for Westbeth
REFRESH-INTERVAL;VALUE=DURATION:PT1H
X-Robots-Tag:noindex
X-PUBLISHED-TTL:PT1H
BEGIN:VTIMEZONE
TZID:America/New_York
BEGIN:DAYLIGHT
TZOFFSETFROM:-0500
TZOFFSETTO:-0400
TZNAME:EDT
DTSTART:20210314T070000
END:DAYLIGHT
BEGIN:STANDARD
TZOFFSETFROM:-0400
TZOFFSETTO:-0500
TZNAME:EST
DTSTART:20211107T060000
END:STANDARD
BEGIN:DAYLIGHT
TZOFFSETFROM:-0500
TZOFFSETTO:-0400
TZNAME:EDT
DTSTART:20220313T070000
END:DAYLIGHT
BEGIN:STANDARD
TZOFFSETFROM:-0400
TZOFFSETTO:-0500
TZNAME:EST
DTSTART:20221106T060000
END:STANDARD
BEGIN:DAYLIGHT
TZOFFSETFROM:-0500
TZOFFSETTO:-0400
TZNAME:EDT
DTSTART:20230312T070000
END:DAYLIGHT
BEGIN:STANDARD
TZOFFSETFROM:-0400
TZOFFSETTO:-0500
TZNAME:EST
DTSTART:20231105T060000
END:STANDARD
END:VTIMEZONE
BEGIN:VEVENT
DTSTART;TZID=America/New_York:20220901T000000
DTEND;TZID=America/New_York:20221031T000000
DTSTAMP:20260423T112700
CREATED:20220105T001444Z
LAST-MODIFIED:20220914T224017Z
UID:10000065-1661990400-1667174400@westbeth.org
SUMMARY:Barbara Slitkin   Elsewhere NYAC Group Show
DESCRIPTION:The New York Artists Circle presents Elsewhere\, an exhibition that traverses the dimensions outside of our immediate present\, featuring the work of 25 NYAC visual artists. Curated by Hayley Ferber\, on view from Thursday\, September 1\, 2022 – Monday\, October 31\, 2022 on the NYAC website. \nElsewhere evokes a place or state of mind outside of our current condition\, a realm of mystery\, longing\, fear or comfort.  These works dictate a sense of place through color\, shape and texture\, resulting in a nebulous impression that feels familiar and alien all at once. \nThe artists in this exhibit meditate on the meaning of “place”\, exploring the physical\, philosophical and spiritual interpretations.  Reflecting on universal elements of reality as well as abstract and intangible concepts\, these artists depict ideas of identity\, time\, and space through their works\, seeking to understand fundamental truths about their relationships to the world. \n Please join us!  You’re invited on the artists’ journeys of discovery and reflection to Elsewhere. \nArtists\nMarianne Barcellona\, Fran Beallor\, Irene Christensen\, Jane Dell\, Karen Fitzgerald\, Lynne Friedman\, David Alon Friedman\, Pearl Rosen Golden\, Eleanor Goldstein\, Norma Greenwood\, Susan Grucci\, Alice Harrison\, Arthur Kvarnstrom\,\nAida Markiw\, Kristin Reed\, Jacqueline Sferra Rada\, Holly Meeker Rom\,\nGale Rothstein\, Ann R. Shaprio\, Barbara Slitkin\, Priscilla Stadler\, Linda Stillman\, Barbara Swanson Sherman\, Sandra Taggart\, Ellen\nWallenstein \nElsewhere Gallery Exhibition Link \nhttps://nyartistscircle.com/curated-shows/elsewhere \nEvent Link  \nJoin our Virtual Opening Zoom event on Tuesday\, September 20\, 2022\, 6:30-8pm (Eastern Time – US and Canada) \nhttps://us02web.zoom.us/j/88193062447?pwd=WjZwQ3BUa2JwR1FyeDJDVC9FVlJSUT09\nMeeting ID: 881 9306 2447\nPasscode: NYAC \nThe New York Artists Circle\, a collective of independent artists\, invited Hayley Ferber\, an independent curator\, to choose a theme and curate their Fall 2022 online show.  Her idea of Elsewhere reflects the ubiquitous circumstances that drive one to consider possibilities outside of their here and now. \nAbout the Curator\nHayley Ferber is a contemporary arts leader\, curator\, educator and artist living in Brooklyn\, New York. As Deputy Director of Chashama\, a non-profit that repurposes unused real estate into artist studios and exhibition spaces\, she supports a creative community of multidisciplinary artists.  Hayley’s curatorial projects include collaborations with the New York Artist Equity Association and the New York Artists Circle.  Hayley received her MAT in Art & Design Education from the Rhode Island School of Design and BS in Studio Art from New York University.\n@hayleyferber   https://www.hayleyferber.com \nCuratorial Team\nFran Beallor\, Lois Bender\, Kristin Reed\nPress by Alli Berman\nBanner Art by Lynne Friedman\nGraphic Design by Anne Finkelstein \nNew York Artists Circle ­– Our Story \nWe are the New York Artists Circle (NYAC)\, a group of professional visual artists who connect to share information\, opportunities\, skills and resources. Exhibiting and selling artwork are priorities. Since 1996\, we have built a collective bank of expertise through monthly meetings\, an active listserve\, a dynamic social media presence\, and a group website. \nWe support our members in their professional growth\, fostering groundbreaking ideas\, fresh approaches and innovative collaborations and technological advancement. Working together in community helps us to meet the challenges we face in our solo practices\, proving that there is strength in numbers! \nWe invite you to browse through our searchable registry to find artists for exhibitions\, collaborations\, media and other opportunities. Prominent curators have created both online and “brick and mortar” exhibitions  from our website. Many of our artists have received commissions through this interface. \nArtwork on our site is for sale\, rent or licensing. Contact artists directly through their individual profiles in our searchable registry for details\, and other professional inquiries. For general inquiries\, our administrators can be reached through the Contact Page. To read more about the NYAC Click Here.   \nhttps://nyartistscircle.com/
URL:https://westbeth.org/event/barbara-slitkin-elsewhere-nyac-group-show/
LOCATION:NYAC Online
CATEGORIES:past-events
ATTACH;FMTTYPE=image/png:https://westbeth.org/wp-content/uploads/2022/08/Barbara-SLITKIN-SQ-ELSEWHERE.png
END:VEVENT
END:VCALENDAR