BEGIN:VCALENDAR
VERSION:2.0
PRODID:-//Westbeth - ECPv6.15.20//NONSGML v1.0//EN
CALSCALE:GREGORIAN
METHOD:PUBLISH
X-ORIGINAL-URL:https://westbeth.org
X-WR-CALDESC:Events for Westbeth
REFRESH-INTERVAL;VALUE=DURATION:PT1H
X-Robots-Tag:noindex
X-PUBLISHED-TTL:PT1H
BEGIN:VTIMEZONE
TZID:America/New_York
BEGIN:DAYLIGHT
TZOFFSETFROM:-0500
TZOFFSETTO:-0400
TZNAME:EDT
DTSTART:20240310T070000
END:DAYLIGHT
BEGIN:STANDARD
TZOFFSETFROM:-0400
TZOFFSETTO:-0500
TZNAME:EST
DTSTART:20241103T060000
END:STANDARD
BEGIN:DAYLIGHT
TZOFFSETFROM:-0500
TZOFFSETTO:-0400
TZNAME:EDT
DTSTART:20250309T070000
END:DAYLIGHT
BEGIN:STANDARD
TZOFFSETFROM:-0400
TZOFFSETTO:-0500
TZNAME:EST
DTSTART:20251102T060000
END:STANDARD
BEGIN:DAYLIGHT
TZOFFSETFROM:-0500
TZOFFSETTO:-0400
TZNAME:EDT
DTSTART:20260308T070000
END:DAYLIGHT
BEGIN:STANDARD
TZOFFSETFROM:-0400
TZOFFSETTO:-0500
TZNAME:EST
DTSTART:20261101T060000
END:STANDARD
END:VTIMEZONE
BEGIN:VEVENT
DTSTART;TZID=America/New_York:20250107T193000
DTEND;TZID=America/New_York:20250303T203000
DTSTAMP:20260423T151458
CREATED:20250228T162701Z
LAST-MODIFIED:20250306T205422Z
UID:10000702-1736278200-1741033800@westbeth.org
SUMMARY:Noah Haidu Quartet   House Concert SeriesLive at Westbeth
DESCRIPTION:All are welcome and we are excited to see everyone\, please RSVP if possible at noahhaidu@gmail.com \nTuesday  March 4\, 2025 at 7:00pm NEW TIME\n“ \nCHAPPELL ROAN’S “CASUAL” PLAYED BY NOAH HAIDU TRIO”   \n \nVIDEO OF NOAH HAIDU HOUSE CONCERT   \n\nAll are welcome and we are excited to see everyone\, please RSVP if possible at noahhaidu@gmail.com \nI’ll be joined by an experimental and very talented band this week: bassist Dave Baron and drummer Aaron Seeber. It will be a spontaneous and exciting performance because we’ve never worked together before.” \nTuesday February 4\, and March 4\, 2025 at 7:00pm NEW TIME\n“ \nClick to enlarge \nRSVP + Details: please email noahhaidu@gmail.com  \n Noah Haidu officially launches his monthly streaming series while continuing his commitment to welcoming in-person seating at every show. Featuring new original compositions along with extended interpretations of works from the jazz lexicon\, expanded for upcoming tours\, recordings and NYC concerts. The music will blend the trio’s unique personalities\, experimentalism\, and deep understanding of the music’s history \nNoah Haidu- piano\nGervis Myles- bass\nCharles Goold- drums \nwww.noahhaidu.com \nSTREAMING LINK: https://www.youtube.com/live/apbRwrXG87s?si=eV0E7io3kjyCOHvp
URL:https://westbeth.org/event/noah-haidu-quartet-house-concert-series/
LOCATION:Noah Haidu House  Concert
CATEGORIES:past-events
ATTACH;FMTTYPE=image/png:https://westbeth.org/wp-content/uploads/2025/02/NOAH-HAIDU-SQ.png
END:VEVENT
END:VCALENDAR