BEGIN:VCALENDAR
VERSION:2.0
PRODID:-//Westbeth - ECPv6.15.20//NONSGML v1.0//EN
CALSCALE:GREGORIAN
METHOD:PUBLISH
X-ORIGINAL-URL:https://westbeth.org
X-WR-CALDESC:Events for Westbeth
REFRESH-INTERVAL;VALUE=DURATION:PT1H
X-Robots-Tag:noindex
X-PUBLISHED-TTL:PT1H
BEGIN:VTIMEZONE
TZID:America/New_York
BEGIN:DAYLIGHT
TZOFFSETFROM:-0500
TZOFFSETTO:-0400
TZNAME:EDT
DTSTART:20230312T070000
END:DAYLIGHT
BEGIN:STANDARD
TZOFFSETFROM:-0400
TZOFFSETTO:-0500
TZNAME:EST
DTSTART:20231105T060000
END:STANDARD
BEGIN:DAYLIGHT
TZOFFSETFROM:-0500
TZOFFSETTO:-0400
TZNAME:EDT
DTSTART:20240310T070000
END:DAYLIGHT
BEGIN:STANDARD
TZOFFSETFROM:-0400
TZOFFSETTO:-0500
TZNAME:EST
DTSTART:20241103T060000
END:STANDARD
BEGIN:DAYLIGHT
TZOFFSETFROM:-0500
TZOFFSETTO:-0400
TZNAME:EDT
DTSTART:20250309T070000
END:DAYLIGHT
BEGIN:STANDARD
TZOFFSETFROM:-0400
TZOFFSETTO:-0500
TZNAME:EST
DTSTART:20251102T060000
END:STANDARD
END:VTIMEZONE
BEGIN:VEVENT
DTSTART;TZID=America/New_York:20240126T200000
DTEND;TZID=America/New_York:20240126T213000
DTSTAMP:20260423T113554
CREATED:20240108T000219Z
LAST-MODIFIED:20240130T193447Z
UID:10000449-1706299200-1706304600@westbeth.org
SUMMARY:Nasheet Waits and friendsRe-Imagining Max Roach's Freedom Suite
DESCRIPTION:The revolutionary 1960 album We Insist!: Max Roach’s Freedom Now Suite explored issues of social justice and racial inequality through the lens of jazz and poetry. In celebration of the centennial of Max Roach — drummer\, bebop pioneer and civil rights activist — this landmark work is reimagined for today’s world.Featuring Cassandra Wilson\, Ravi Coltrane\, Sonia Sanchez\, Saul Williams\, Nasheet Waits & more. Video by Alyson Shotz. \nNew Jersey Performing Arts Center. NJPAC \nVenue:Prudential Hall\nBetty Wold Johnson Stage \nDate:Friday January 26\, 2024 at 8pm \nTickets:$39-$79. Ticketmaster \nFeaturing Cassandra Wilson\, Ravi Coltrane\, Sonia Sanchez\, Saul Williams\, Nasheet Waits & more. Video by Alyson Shotz. \nMusical director Nasheet Waits (of Max’s percussion ensemble M’Boom) is joined by vocalist Cassandra Wilson\, poets Sonia Sanchez and Saul Williams\, saxophonist Ravi Coltrane\, pianist Nduduzo Makhathini and bassist Eric Revis. The Honorable Mayor Ras Baraka will help open the program\, with a special appearance by The Last Poets. Experience the modern evolution of the Freedom Now Suite\, a piece that continues to live\, expand and inspire across generations. \n“We American jazz musicians of African descent have proved beyond all doubt that we’re master musicians of our instruments. Now what we have to do is employ our skill to tell the dramatic story of our people and what we’ve been through.” \n–Max Roach to DownBeat magazine \nWestbeth Profiles in Art:  Interview with Nasheet Waits
URL:https://westbeth.org/event/nasheet-waits-and-friends-re-imagining-max-roachs-freedom-suite/
LOCATION:New Jersey Performing Arts Center
CATEGORIES:past-events
ATTACH;FMTTYPE=image/png:https://westbeth.org/wp-content/uploads/2024/01/Screenshot-2024-01-07-at-6.42.53-PM.png
END:VEVENT
END:VCALENDAR