BEGIN:VCALENDAR
VERSION:2.0
PRODID:-//Westbeth - ECPv6.15.20//NONSGML v1.0//EN
CALSCALE:GREGORIAN
METHOD:PUBLISH
X-WR-CALNAME:Westbeth
X-ORIGINAL-URL:https://westbeth.org
X-WR-CALDESC:Events for Westbeth
REFRESH-INTERVAL;VALUE=DURATION:PT1H
X-Robots-Tag:noindex
X-PUBLISHED-TTL:PT1H
BEGIN:VTIMEZONE
TZID:America/New_York
BEGIN:DAYLIGHT
TZOFFSETFROM:-0500
TZOFFSETTO:-0400
TZNAME:EDT
DTSTART:20220313T070000
END:DAYLIGHT
BEGIN:STANDARD
TZOFFSETFROM:-0400
TZOFFSETTO:-0500
TZNAME:EST
DTSTART:20221106T060000
END:STANDARD
BEGIN:DAYLIGHT
TZOFFSETFROM:-0500
TZOFFSETTO:-0400
TZNAME:EDT
DTSTART:20230312T070000
END:DAYLIGHT
BEGIN:STANDARD
TZOFFSETFROM:-0400
TZOFFSETTO:-0500
TZNAME:EST
DTSTART:20231105T060000
END:STANDARD
BEGIN:DAYLIGHT
TZOFFSETFROM:-0500
TZOFFSETTO:-0400
TZNAME:EDT
DTSTART:20240310T070000
END:DAYLIGHT
BEGIN:STANDARD
TZOFFSETFROM:-0400
TZOFFSETTO:-0500
TZNAME:EST
DTSTART:20241103T060000
END:STANDARD
END:VTIMEZONE
BEGIN:VEVENT
DTSTART;TZID=America/New_York:20231110T193000
DTEND;TZID=America/New_York:20231110T203000
DTSTAMP:20260423T171051
CREATED:20231026T023131Z
LAST-MODIFIED:20231113T174046Z
UID:10000420-1699644600-1699648200@westbeth.org
SUMMARY:Fanoos EnsembleWestbeth Safe Haven Music Performance
DESCRIPTION:click for larger image \nFriday Nov 10\, at 7:30pm\nMannes School of Music\nThe New School\n55 West 13 St\nNew York\, NY \nAhmad Fanoos: Because of his notoriety as a musician and progressive ideals\, his life\, livelihood\, and family were threatened by the Taliban. He escaped from Kabul  in late August 2021. He is now reunited with his two sons\, Elham Fanoos (Pianist) and Mehran Fanoos (Violinist)\, and has established the “Fanoos Ensemble\,”  which for this evening includes tabla player Hewad Wardak. The group is touring as part of a project called “Heart of Afghanistan\,” featuring their own arrangement of traditional Ghazals based on Rumi’s poetry\, songs by the legendary pop icon Ahmad Zahir\, and Afghan folk songs. \nMore Info on other performances of Westbeth Safe Haven Artists. \nSee Special Exhibit on the Westbeth’s past and present Safe Haven artists at Westbeth Bethune Lobby Gallery 55 Bethune St\, New York\, NY. \nMore Info: Westbeth Safe Haven Program and its collaboration with the Artistic Freedom Initiative
URL:https://westbeth.org/event/fanoos-ensemblewestbeth-safe-haven-music-performance/
LOCATION:Mannes School of Music New School 55 W 13 NYC
CATEGORIES:past-events
ATTACH;FMTTYPE=image/png:https://westbeth.org/wp-content/uploads/2023/10/Fanoos-SQ-Ensemble.png
END:VEVENT
END:VCALENDAR