BEGIN:VCALENDAR
VERSION:2.0
PRODID:-//Westbeth - ECPv6.15.20//NONSGML v1.0//EN
CALSCALE:GREGORIAN
METHOD:PUBLISH
X-WR-CALNAME:Westbeth
X-ORIGINAL-URL:https://westbeth.org
X-WR-CALDESC:Events for Westbeth
REFRESH-INTERVAL;VALUE=DURATION:PT1H
X-Robots-Tag:noindex
X-PUBLISHED-TTL:PT1H
BEGIN:VTIMEZONE
TZID:America/New_York
BEGIN:DAYLIGHT
TZOFFSETFROM:-0500
TZOFFSETTO:-0400
TZNAME:EDT
DTSTART:20240310T070000
END:DAYLIGHT
BEGIN:STANDARD
TZOFFSETFROM:-0400
TZOFFSETTO:-0500
TZNAME:EST
DTSTART:20241103T060000
END:STANDARD
BEGIN:DAYLIGHT
TZOFFSETFROM:-0500
TZOFFSETTO:-0400
TZNAME:EDT
DTSTART:20250309T070000
END:DAYLIGHT
BEGIN:STANDARD
TZOFFSETFROM:-0400
TZOFFSETTO:-0500
TZNAME:EST
DTSTART:20251102T060000
END:STANDARD
BEGIN:DAYLIGHT
TZOFFSETFROM:-0500
TZOFFSETTO:-0400
TZNAME:EDT
DTSTART:20260308T070000
END:DAYLIGHT
BEGIN:STANDARD
TZOFFSETFROM:-0400
TZOFFSETTO:-0500
TZNAME:EST
DTSTART:20261101T060000
END:STANDARD
END:VTIMEZONE
BEGIN:VEVENT
DTSTART;TZID=America/New_York:20250209T180000
DTEND;TZID=America/New_York:20250209T193000
DTSTAMP:20260423T145618
CREATED:20241229T233904Z
LAST-MODIFIED:20250209T232458Z
UID:10000699-1739124000-1739129400@westbeth.org
SUMMARY:Theo Bleckmann performs at NYC venues  and new recordings
DESCRIPTION:Sunday Jan 12\, 2025 at 6 – 7:30pm\nClick Image for more info. \nTheo Bleckmann is a multi GRAMMY® nominated vocalist\, composer and ECM recording artist who has recorded over 17 albums and collaborated with artists such as Ambrose Akinmusire\, Sheila Jordan\, Kneebody\, Ben Monder\, John Hollenbeck\, Phil Kline\, David Lang\, Ulysses Owens\, Bang on a Can All-Stars\, and\, most prominently\, with Meredith Monk since 1994. \n\n Sunday Feb 9\, 2025 at 6pm \nClick image for ticket info\nIn “12 easy songs” I wanted to use found texts from all over New York City: fragments of Graffiti\, parts of advertisements\, subway announcements\, street signs\, passenger instructions\, sale signs\, truisms\, random flyers\, overheard fragments of conversations\, even syllables from scratched off scribblings somewhere…anything and everything could serve as an actual text or become the departure point for a more narrative lyric. I want these songs to celebrate the diversity\, absurdity\, and poetry embedded in New York’s urban landscape through a melancholic and playful approach. Inspired by composers Hanns Eisler and Ryuichi Sakamoto (whom I had the great fortune to perform with here at National Sawdust)\, I want the pedestrian and mundane to be a porthole into the soul of culture; much like a supermarket in a foreign country that can show you the simple truth of its people. There is a bit of Kurt Schwitters and John Cage’s influence here too. The idea of collage and chance operation have always had a place in my music.” \n \n. Click Image to order
URL:https://westbeth.org/event/theo-bleckmann-performs-at-nyc-venues-and-new-recordings/
LOCATION:Joe’s Pub NYC
CATEGORIES:past-events
ATTACH;FMTTYPE=image/png:https://westbeth.org/wp-content/uploads/2024/12/Theo-Bleckmann-at-various-venues.png
END:VEVENT
END:VCALENDAR