BEGIN:VCALENDAR
VERSION:2.0
PRODID:-//Westbeth - ECPv6.15.20//NONSGML v1.0//EN
CALSCALE:GREGORIAN
METHOD:PUBLISH
X-WR-CALNAME:Westbeth
X-ORIGINAL-URL:https://westbeth.org
X-WR-CALDESC:Events for Westbeth
REFRESH-INTERVAL;VALUE=DURATION:PT1H
X-Robots-Tag:noindex
X-PUBLISHED-TTL:PT1H
BEGIN:VTIMEZONE
TZID:America/New_York
BEGIN:DAYLIGHT
TZOFFSETFROM:-0500
TZOFFSETTO:-0400
TZNAME:EDT
DTSTART:20210314T070000
END:DAYLIGHT
BEGIN:STANDARD
TZOFFSETFROM:-0400
TZOFFSETTO:-0500
TZNAME:EST
DTSTART:20211107T060000
END:STANDARD
BEGIN:DAYLIGHT
TZOFFSETFROM:-0500
TZOFFSETTO:-0400
TZNAME:EDT
DTSTART:20220313T070000
END:DAYLIGHT
BEGIN:STANDARD
TZOFFSETFROM:-0400
TZOFFSETTO:-0500
TZNAME:EST
DTSTART:20221106T060000
END:STANDARD
BEGIN:DAYLIGHT
TZOFFSETFROM:-0500
TZOFFSETTO:-0400
TZNAME:EDT
DTSTART:20230312T070000
END:DAYLIGHT
BEGIN:STANDARD
TZOFFSETFROM:-0400
TZOFFSETTO:-0500
TZNAME:EST
DTSTART:20231105T060000
END:STANDARD
END:VTIMEZONE
BEGIN:VEVENT
DTSTART;TZID=America/New_York:20221212T180000
DTEND;TZID=America/New_York:20221212T193000
DTSTAMP:20260423T184923
CREATED:20220728T213215Z
LAST-MODIFIED:20221230T022058Z
UID:10000029-1670868000-1670873400@westbeth.org
SUMMARY:Debut Publishing After 60: Kate Walter\, Brahna Yassky\, Sue Mell\, Beverly Willett
DESCRIPTION:Monday December 12\, 2022 at 6Pm\nPresented in the first floor Willa Cather Room.  No registration required!\nJefferson Market Library \nEach member of this four author panel will read a small excerpt from their book.  Author Brahna Yassky will also bring up the following topics for discussion: \nHow did you find your publisher? \nWas this book a long term goal\, a natural evolution of the work you had been involved in or spurred by something else? \nHow long was the process from the beginning of writing the book to finding a publisher? \nHow do you think it is different having your first book published at this stage in your life rather than decades earlier? \nWere your expectation met\, not met or exceeded? \nWhat are and were your experiences working with an agent\, editor\, publisher and publicist? \nWhat’s next? \nBrahna Yassky is an author and painter.  Her debut book Slow Dancing with Fire – a Memoir of Resilience was published by Shanti Arts Publishing in May 2022.  Her writing has appeared in The Plentitudes Journal\, American Writers Review 2020\, The Independent\, Salon\, Wired\, Lilith\, AARP’s The Ethel and The Girlfriend and others.  She won honorable mention for The Doheny Prize 2018 from the Center for Fiction.  Her paintings have been exhibited extensively including The San Francisco Museum of Modern Art\, The Jersey City Museum\, MOMA\, The Bali Purnati Center\, The Hudson River Museum\, The Painting Center in Chelsea.  https://www.brahnayassky.com/ \nSue Mell is a writer from Queens\, NY. She earned her MFA from Warren Wilson\, and was a  2020 BookEnds fellow at SUNY Stony Brook. Her debut novel\, PROVENANCE\, won Madville Publishing’s 2021 Blue Moon Novel Award and was chosen as a 2022 Great Group Read by the Women’s National Book Association. Her collection of micro essays\, GIVING CARE\, won the 2022 Chestnut Review Prose Chapbook Prize\, and her collection of short stories\, A NEW DAY\, was a finalist for the 2021 St. Lawrence Book Award. Other work has appeared in Cleaver Magazine\, Hippocampus Magazine\, Jellyfish Review\, Narrative Magazine and elsewhere.  Find her at www.suemellwrites.com and on Twitter @suemell2017 \nBeverly Willett is the author of Disassembly Required: A Memoir of Midlife Resurrection\, a story about beginning again after the American Dream implodes. The book was excerpted by AARP Magazine\, nominated for Georgia Author of the Year\, and a June 2022 pick by the world’s largest book club\, The International Pulpwood Queens. Kirkus Reviews called it a “triumphant journey to new beginnings;” bestselling author Caroline Leavitt called it an “enchanting and inspiring look at how less can really be so\, so much more.” A former NYC entertainment attorney\, Beverly has written for the nation’s top publications including The New York Times\, USA Today\, The Washington Post\, The New York Daily News\, The Guardian\, Salon\, and many more. She also gave a popular Tedx Talk entitled “How to Begin Again. A past President of the Flannery O’Connor Childhood Home Foundation\, Beverly now makes her home in Savannah\, Georgia. www.beverlywillett.com \nKate Walter is the author of two memoirs: Behind the Mask: Living Alone in the Epicenter; and Looking for a Kiss: A Chronicle of Downtown Heartbreak and Healing. Her essays and opinion pieces have appeared in The New York Times\, Newsday\, New York Daily News\, AM-NY\, Next Avenue\, The Advocate\, The Village Sun and many other outlets. She taught writing at CUNY and NYU for three decades.  https://katewalter.com/
URL:https://westbeth.org/event/26869/
LOCATION:Jefferson Market Library NYC
CATEGORIES:past-events
ATTACH;FMTTYPE=image/png:https://westbeth.org/wp-content/uploads/2022/11/Kate-Walter-panel-JeffMktEvent-Revised.png
END:VEVENT
BEGIN:VEVENT
DTSTART;TZID=America/New_York:20221117T180000
DTEND;TZID=America/New_York:20221117T190000
DTSTAMP:20260423T184923
CREATED:20220803T013146Z
LAST-MODIFIED:20221120T223618Z
UID:10000039-1668708000-1668711600@westbeth.org
SUMMARY:Kate Walter\, Michele Herman\, Donna Florio: Three Village Authors Reading
DESCRIPTION:
URL:https://westbeth.org/event/kate-walter-michele-herman-donna-florio-three-village-authors-reading/
LOCATION:Jefferson Market Library NYC
CATEGORIES:past-events
ATTACH;FMTTYPE=image/png:https://westbeth.org/wp-content/uploads/2022/11/Screen-Shot-2022-11-02-at-9.30.27-PM.png
END:VEVENT
END:VCALENDAR