BEGIN:VCALENDAR
VERSION:2.0
PRODID:-//Westbeth - ECPv6.15.20//NONSGML v1.0//EN
CALSCALE:GREGORIAN
METHOD:PUBLISH
X-ORIGINAL-URL:https://westbeth.org
X-WR-CALDESC:Events for Westbeth
REFRESH-INTERVAL;VALUE=DURATION:PT1H
X-Robots-Tag:noindex
X-PUBLISHED-TTL:PT1H
BEGIN:VTIMEZONE
TZID:America/New_York
BEGIN:DAYLIGHT
TZOFFSETFROM:-0500
TZOFFSETTO:-0400
TZNAME:EDT
DTSTART:20230312T070000
END:DAYLIGHT
BEGIN:STANDARD
TZOFFSETFROM:-0400
TZOFFSETTO:-0500
TZNAME:EST
DTSTART:20231105T060000
END:STANDARD
BEGIN:DAYLIGHT
TZOFFSETFROM:-0500
TZOFFSETTO:-0400
TZNAME:EDT
DTSTART:20240310T070000
END:DAYLIGHT
BEGIN:STANDARD
TZOFFSETFROM:-0400
TZOFFSETTO:-0500
TZNAME:EST
DTSTART:20241103T060000
END:STANDARD
BEGIN:DAYLIGHT
TZOFFSETFROM:-0500
TZOFFSETTO:-0400
TZNAME:EDT
DTSTART:20250309T070000
END:DAYLIGHT
BEGIN:STANDARD
TZOFFSETFROM:-0400
TZOFFSETTO:-0500
TZNAME:EST
DTSTART:20251102T060000
END:STANDARD
END:VTIMEZONE
BEGIN:VEVENT
DTSTART;TZID=America/New_York:20240315T080000
DTEND;TZID=America/New_York:20240322T170000
DTSTAMP:20260423T185553
CREATED:20240401T235853Z
LAST-MODIFIED:20240516T004507Z
UID:10000505-1710489600-1711126800@westbeth.org
SUMMARY:WESTBETH KIDS ART SHOW 2024: A REVIEW WITH PHOTOS
DESCRIPTION:POP UP GALLERY: WESTBETH ARTIST CHILDREN’S HAPPINESS\nA review by  Alison Armstrong Ph.D \nPoster by R Braimon \nAdvertised as Westbeth a Kids Art Show\, March 15 – March 22\, 2024\, the inner courtyard former daycare space an ehibition popped up with art by uninhibited and happy very young artists exhibiting a variety of colorful paintings. \nThe youngest were two girls \, Frankie (20 months) and Phoebe (2 years\, 5 months). The lavish reception of food and wine drew quite a lot of grown-ups who wandered in to have a look and stayed to admire the skill and diversity of the art\, including sculptures of various sizes and subjects.  The medium was paper and paint or graphite. Scultptural works included Miss Hallier’s Paper-Mache giraffe of newsprint with an overlay of yellow staining. Her startling abstraction hung on an adjacent wall.Skillful paintings and a 3 dimensional piece by the Bernstein brothers\, introduced the entrance to the middle room\, \nGracing the long left hand wall of the end room were drawings that continued from black and white images into the more colorful works. Needless to say they were all hung at eye level. Black and white drawings by Ezra contrasted with brilliant abstracts\, not to mention representational images that suggest motioning excited sudden emotion.The largest work was a dramatic semi-realist image of two humanoid figures in red/white/blue with green feet that dominated the end wall of the main space. \nClick image for slide show\n\n\n\n		\n				\n						\n			\n								\n			\n		\n							\n			\n				\n						\n			\n								\n			\n		\n							\n			\n				\n						\n			\n								\n			\n		\n							\n			\n				\n						\n			\n								\n			\n		\n							\n			\n				\n						\n			\n								\n			\n		\n							\n			\n				\n						\n			\n								\n			\n		\n							\n			\n				\n						\n			\n								\n			\n		\n							\n			\n				\n						\n			\n								\n			\n		\n							\n			\n				\n						\n			\n								\n			\n		\n							\n			\n				\n						\n			\n								\n			\n		\n							\n			\n				\n						\n			\n								\n			\n		\n							\n			\n				\n						\n			\n								\n			\n		\n							\n			\n				\n						\n			\n								\n			\n		\n							\n			\n				\n						\n			\n								\n			\n		\n							\n			\n				\n						\n			\n								\n			\n		\n							\n			\n				\n						\n			\n								\n			\n		\n							\n			\n				\n						\n			\n								\n			\n		\n							\n			\n				\n						\n			\n								\n			\n		\n							\n			\n				\n						\n			\n								\n			\n		\n							\n			\n				\n						\n			\n								\n			\n		\n							\n			\n				\n						\n			\n								\n			\n		\n							\n			\n				\n						\n			\n								\n			\n		\n							\n			\n				\n						\n			\n								\n			\n		\n							\n			\n				\n						\n			\n								\n			\n		\n							\n			\n	\n	\n\n	\n		\n			\n\nDue to brevity (the sudden appearance and disappearance) of this marvelous exhibition\, this reviewer regrets that not all of the artists could be interviewed in person nor all of the art works featured here. However we have hopes that this have been the first of a future series of such exhibits that feature our youngest members of Westbeth Artists Community.
URL:https://westbeth.org/event/westbeth-kids-art-show/
LOCATION:Inner Courtyard Pop Up Gallery
CATEGORIES:past-events
ATTACH;FMTTYPE=image/png:https://westbeth.org/wp-content/uploads/2024/04/KIDS-POSTER-AQ-kids-a-2-2.png
END:VEVENT
END:VCALENDAR