BEGIN:VCALENDAR
VERSION:2.0
PRODID:-//Westbeth - ECPv6.15.20//NONSGML v1.0//EN
CALSCALE:GREGORIAN
METHOD:PUBLISH
X-WR-CALNAME:Westbeth
X-ORIGINAL-URL:https://westbeth.org
X-WR-CALDESC:Events for Westbeth
REFRESH-INTERVAL;VALUE=DURATION:PT1H
X-Robots-Tag:noindex
X-PUBLISHED-TTL:PT1H
BEGIN:VTIMEZONE
TZID:America/New_York
BEGIN:DAYLIGHT
TZOFFSETFROM:-0500
TZOFFSETTO:-0400
TZNAME:EDT
DTSTART:20220313T070000
END:DAYLIGHT
BEGIN:STANDARD
TZOFFSETFROM:-0400
TZOFFSETTO:-0500
TZNAME:EST
DTSTART:20221106T060000
END:STANDARD
BEGIN:DAYLIGHT
TZOFFSETFROM:-0500
TZOFFSETTO:-0400
TZNAME:EDT
DTSTART:20230312T070000
END:DAYLIGHT
BEGIN:STANDARD
TZOFFSETFROM:-0400
TZOFFSETTO:-0500
TZNAME:EST
DTSTART:20231105T060000
END:STANDARD
BEGIN:DAYLIGHT
TZOFFSETFROM:-0500
TZOFFSETTO:-0400
TZNAME:EDT
DTSTART:20240310T070000
END:DAYLIGHT
BEGIN:STANDARD
TZOFFSETFROM:-0400
TZOFFSETTO:-0500
TZNAME:EST
DTSTART:20241103T060000
END:STANDARD
END:VTIMEZONE
BEGIN:VEVENT
DTSTART;TZID=America/New_York:20231003T080000
DTEND;TZID=America/New_York:20231130T170000
DTSTAMP:20260424T054127
CREATED:20230908T223805Z
LAST-MODIFIED:20231015T145356Z
UID:10000405-1696320000-1701363600@westbeth.org
SUMMARY:Through the Lens of Shelley Seccombe: Online Exhibit
DESCRIPTION:Hudson River Park presents “Through the Lens of Shelley Seccombe” \nPhotographer Shelley Seccombe moved to Westbeth in Greenwich Village in 1970 and captured the evolution of the Hudson River piers in her book\, Lost Waterfront: The Decline and Rebirth of Manhattan’s Western Shore. \nIncluded here is a selection of her work showing the conditions of the west side piers before they became Hudson River Park\, beautifully depicting New Yorkers’ interactions and explorations among the ruins. \nHudson River Park pays tribute to this longtime West Village resident\, who passed away in January of 2023. This gallery celebrates Seccombe’s artistry and her memory. \nPhotographs copyright ©1973–2007 by Shelley Seccombe \nSee the photographs at Hudson River Park.org
URL:https://westbeth.org/event/through-the-lens-of-shelley-seccombe-online-exhibit/
LOCATION:Hudson River Park.org
CATEGORIES:past-events
ATTACH;FMTTYPE=image/png:https://westbeth.org/wp-content/uploads/2023/10/Sheeley-Seccombe-SQ.png
END:VEVENT
END:VCALENDAR