BEGIN:VCALENDAR
VERSION:2.0
PRODID:-//Westbeth - ECPv6.15.20//NONSGML v1.0//EN
CALSCALE:GREGORIAN
METHOD:PUBLISH
X-ORIGINAL-URL:https://westbeth.org
X-WR-CALDESC:Events for Westbeth
REFRESH-INTERVAL;VALUE=DURATION:PT1H
X-Robots-Tag:noindex
X-PUBLISHED-TTL:PT1H
BEGIN:VTIMEZONE
TZID:America/New_York
BEGIN:DAYLIGHT
TZOFFSETFROM:-0500
TZOFFSETTO:-0400
TZNAME:EDT
DTSTART:20210314T070000
END:DAYLIGHT
BEGIN:STANDARD
TZOFFSETFROM:-0400
TZOFFSETTO:-0500
TZNAME:EST
DTSTART:20211107T060000
END:STANDARD
BEGIN:DAYLIGHT
TZOFFSETFROM:-0500
TZOFFSETTO:-0400
TZNAME:EDT
DTSTART:20220313T070000
END:DAYLIGHT
BEGIN:STANDARD
TZOFFSETFROM:-0400
TZOFFSETTO:-0500
TZNAME:EST
DTSTART:20221106T060000
END:STANDARD
BEGIN:DAYLIGHT
TZOFFSETFROM:-0500
TZOFFSETTO:-0400
TZNAME:EDT
DTSTART:20230312T070000
END:DAYLIGHT
BEGIN:STANDARD
TZOFFSETFROM:-0400
TZOFFSETTO:-0500
TZNAME:EST
DTSTART:20231105T060000
END:STANDARD
BEGIN:DAYLIGHT
TZOFFSETFROM:-0500
TZOFFSETTO:-0400
TZNAME:EDT
DTSTART:20240310T070000
END:DAYLIGHT
BEGIN:STANDARD
TZOFFSETFROM:-0400
TZOFFSETTO:-0500
TZNAME:EST
DTSTART:20241103T060000
END:STANDARD
END:VTIMEZONE
BEGIN:VEVENT
DTSTART;TZID=America/New_York:20221211T080000
DTEND;TZID=America/New_York:20230423T170000
DTSTAMP:20260423T170421
CREATED:20221112T015013Z
LAST-MODIFIED:20230305T233246Z
UID:10000125-1670745600-1682269200@westbeth.org
SUMMARY:Victoria Horne  Online Exhibition of Photographs of Thailand
DESCRIPTION:In the year 2009\, I was contacted by a friend of mine who also happens to be a jazz singer performer who was in need of a vacation; she offered me the possibility to sit in for her at the World-Famous Bamboo Bar\, a jazz club at the Mandarin Hotel\, in Bangkok\, Thailand. I set the wheels in motion. I found myself on a plane heading toward my destination. The journey from Jacksonville\, Florida\, to New York City\, LA\, then over the Pacific Ocean on my new adventure to another world was incredible and exciting. \nThe contract at the Bamboo Jazz club lasted for four months. The gig was in the evening\, which gave me some free time during the day. I became very much involved with the Thai people and their culture. It became my habit to take my camera wherever I went using an OLYMPUS OM-D’E-M10 Digital Camera. \nSEE THE ONLINE EXHIBIT: Hudson Park Library Victoria Horne On Line \nMore infö about Victoria Horne at Westbeth Artist Pages
URL:https://westbeth.org/event/victoria-horne-online-exhibition-of-photographs-of-thailand/
LOCATION:Hudson Park Library Online and On site
CATEGORIES:past-events
ATTACH;FMTTYPE=image/png:https://westbeth.org/wp-content/uploads/2022/12/Victoria-Horne-SQ-1.png
END:VEVENT
END:VCALENDAR