BEGIN:VCALENDAR
VERSION:2.0
PRODID:-//Westbeth - ECPv6.15.20//NONSGML v1.0//EN
CALSCALE:GREGORIAN
METHOD:PUBLISH
X-ORIGINAL-URL:https://westbeth.org
X-WR-CALDESC:Events for Westbeth
REFRESH-INTERVAL;VALUE=DURATION:PT1H
X-Robots-Tag:noindex
X-PUBLISHED-TTL:PT1H
BEGIN:VTIMEZONE
TZID:America/New_York
BEGIN:DAYLIGHT
TZOFFSETFROM:-0500
TZOFFSETTO:-0400
TZNAME:EDT
DTSTART:20210314T070000
END:DAYLIGHT
BEGIN:STANDARD
TZOFFSETFROM:-0400
TZOFFSETTO:-0500
TZNAME:EST
DTSTART:20211107T060000
END:STANDARD
BEGIN:DAYLIGHT
TZOFFSETFROM:-0500
TZOFFSETTO:-0400
TZNAME:EDT
DTSTART:20220313T070000
END:DAYLIGHT
BEGIN:STANDARD
TZOFFSETFROM:-0400
TZOFFSETTO:-0500
TZNAME:EST
DTSTART:20221106T060000
END:STANDARD
BEGIN:DAYLIGHT
TZOFFSETFROM:-0500
TZOFFSETTO:-0400
TZNAME:EDT
DTSTART:20230312T070000
END:DAYLIGHT
BEGIN:STANDARD
TZOFFSETFROM:-0400
TZOFFSETTO:-0500
TZNAME:EST
DTSTART:20231105T060000
END:STANDARD
END:VTIMEZONE
BEGIN:VEVENT
DTSTART;VALUE=DATE:20220921
DTEND;VALUE=DATE:20221031
DTSTAMP:20260423T190157
CREATED:20220922T023036Z
LAST-MODIFIED:20221212T013214Z
UID:10000107-1663718400-1667174399@westbeth.org
SUMMARY:Westbeth and Village Voices installation
DESCRIPTION:VILLAGE VOICES 2022\,  produced by the Greenwich Village  Society for Historic Preservation\, is an installation of 24 public art exhibits displayed throughout Greenwich Village\, the East Village\, and NoHo. It features  photographs\, artistic creations\, artifacts\, and soundscape recordings that tell the story of some of the incredible history-making people and events connected to sites throughout our neighborhoods.  \nThis includes 22 place-based “shadow boxes\,” a 20-ft-high window installation at 70 Fifth Avenue\, and an interactive “Monument to Choice” at Gansevoort Plaza. Scannable QR codes at each location allow you to hear and find out more about the course-of-history-changing people and events connected to these sites. \nAt Westbeth two shadow boxes have been installed at the Bethune St planter boxes. They celebrate  the connection of Westbeth to the dance companies of  Martha Graham and Merce Cunningham.  On the wall of the building is a poster that describes the history of Westbeth\, designed by Roger Braimon. \n\nLocation map of Village Voice shadow boxes at Westbeth and other locations – Here \nMore information about Village Voices. Here
URL:https://westbeth.org/event/village-voices/
LOCATION:Greenwich Village Society for Historic preservation
CATEGORIES:past-events
ATTACH;FMTTYPE=image/jpeg:https://westbeth.org/wp-content/uploads/2022/09/GVSHP-USE-THIS-OUTDOOR-MINI_FIN.jpg
END:VEVENT
END:VCALENDAR