BEGIN:VCALENDAR
VERSION:2.0
PRODID:-//Westbeth - ECPv6.15.20//NONSGML v1.0//EN
CALSCALE:GREGORIAN
METHOD:PUBLISH
X-WR-CALNAME:Westbeth
X-ORIGINAL-URL:https://westbeth.org
X-WR-CALDESC:Events for Westbeth
REFRESH-INTERVAL;VALUE=DURATION:PT1H
X-Robots-Tag:noindex
X-PUBLISHED-TTL:PT1H
BEGIN:VTIMEZONE
TZID:America/New_York
BEGIN:DAYLIGHT
TZOFFSETFROM:-0500
TZOFFSETTO:-0400
TZNAME:EDT
DTSTART:20220313T070000
END:DAYLIGHT
BEGIN:STANDARD
TZOFFSETFROM:-0400
TZOFFSETTO:-0500
TZNAME:EST
DTSTART:20221106T060000
END:STANDARD
BEGIN:DAYLIGHT
TZOFFSETFROM:-0500
TZOFFSETTO:-0400
TZNAME:EDT
DTSTART:20230312T070000
END:DAYLIGHT
BEGIN:STANDARD
TZOFFSETFROM:-0400
TZOFFSETTO:-0500
TZNAME:EST
DTSTART:20231105T060000
END:STANDARD
BEGIN:DAYLIGHT
TZOFFSETFROM:-0500
TZOFFSETTO:-0400
TZNAME:EDT
DTSTART:20240310T070000
END:DAYLIGHT
BEGIN:STANDARD
TZOFFSETFROM:-0400
TZOFFSETTO:-0500
TZNAME:EST
DTSTART:20241103T060000
END:STANDARD
END:VTIMEZONE
BEGIN:VEVENT
DTSTART;TZID=America/New_York:20231112T183000
DTEND;TZID=America/New_York:20231112T200000
DTSTAMP:20260423T113832
CREATED:20231107T151044Z
LAST-MODIFIED:20231113T174256Z
UID:10000427-1699813800-1699819200@westbeth.org
SUMMARY:Reuben Hernandez screens his narrative short film  Her Favorite Patient
DESCRIPTION:Film still detail:  Her Favorite Patient by Reuben Hernandez \nHer Favorite Patient\nnarrative short film screening \nSunday\, November 12\, 2023\n6:30 pm – 8 pm \nCinema Village\n22 East 12th Street\nNew York\, NY 10003 \nReuben Hernandez will screen his narrative short film\, Her Favorite Patient\, with seven other short films and discuss making a film on a limited budget. The screening is presented by the New York Short Film Festival and the Filmshop collective.  \nReuben directed and produced Her Favorite Patient\, which stars Barbara Miluski (Girls\, The Marvelous Mrs. Maisel) and was nominated for Best Comedy Short and Best Ensemble – Narrative Short at the 11th annual Queens World Film Festival. \nTicket link: https://www.eventbrite.com/e/sly-fox-filmmakers-symposium-clever-uses-of-creative-resources-tickets-749940170237 \nReuben Hernandez is an adventurer who tells meaningful\, visual stories through film\, photography\, and time-lapse. He’s touched down on all seven continents finding beauty in everything from the beaches of Southern California to the icebergs of Antarctica. \nReuben’s work has been featured in BBC Travel\, The New York Times\, on the Discovery Channel\, and premiered at Tropfest NY\, the world’s largest short film festival. He was named one of the “20 Emerging Artists to Watch in Film and Video” by PDN and Rangefinder Magazine. His narrative film\, Maddie\, won the Best Williamsburg Short Award at the Williamsburg Independent Film Festival.\n— \nMore info: https://reubenhernandez.com
URL:https://westbeth.org/event/reuben-hernandez-screens-his-narrative-short-film-her-favorite-patient/
LOCATION:Cinema Village\, NYC
CATEGORIES:past-events
ATTACH;FMTTYPE=image/png:https://westbeth.org/wp-content/uploads/2023/11/Rueben-Hernandez-SQ-Her-Favorite-Patient_Best_Comedy_Short_Best_Ensemble_QWFF.png
END:VEVENT
END:VCALENDAR