BEGIN:VCALENDAR
VERSION:2.0
PRODID:-//Westbeth - ECPv6.15.20//NONSGML v1.0//EN
CALSCALE:GREGORIAN
METHOD:PUBLISH
X-WR-CALNAME:Westbeth
X-ORIGINAL-URL:https://westbeth.org
X-WR-CALDESC:Events for Westbeth
REFRESH-INTERVAL;VALUE=DURATION:PT1H
X-Robots-Tag:noindex
X-PUBLISHED-TTL:PT1H
BEGIN:VTIMEZONE
TZID:America/New_York
BEGIN:DAYLIGHT
TZOFFSETFROM:-0500
TZOFFSETTO:-0400
TZNAME:EDT
DTSTART:20220313T070000
END:DAYLIGHT
BEGIN:STANDARD
TZOFFSETFROM:-0400
TZOFFSETTO:-0500
TZNAME:EST
DTSTART:20221106T060000
END:STANDARD
BEGIN:DAYLIGHT
TZOFFSETFROM:-0500
TZOFFSETTO:-0400
TZNAME:EDT
DTSTART:20230312T070000
END:DAYLIGHT
BEGIN:STANDARD
TZOFFSETFROM:-0400
TZOFFSETTO:-0500
TZNAME:EST
DTSTART:20231105T060000
END:STANDARD
BEGIN:DAYLIGHT
TZOFFSETFROM:-0500
TZOFFSETTO:-0400
TZNAME:EDT
DTSTART:20240310T070000
END:DAYLIGHT
BEGIN:STANDARD
TZOFFSETFROM:-0400
TZOFFSETTO:-0500
TZNAME:EST
DTSTART:20241103T060000
END:STANDARD
BEGIN:DAYLIGHT
TZOFFSETFROM:-0500
TZOFFSETTO:-0400
TZNAME:EDT
DTSTART:20250309T070000
END:DAYLIGHT
BEGIN:STANDARD
TZOFFSETFROM:-0400
TZOFFSETTO:-0500
TZNAME:EST
DTSTART:20251102T060000
END:STANDARD
END:VTIMEZONE
BEGIN:VEVENT
DTSTART;TZID=America/New_York:20240206T190000
DTEND;TZID=America/New_York:20240309T203000
DTSTAMP:20260423T170841
CREATED:20240116T171953Z
LAST-MODIFIED:20240311T182310Z
UID:10000454-1707246000-1710016200@westbeth.org
SUMMARY:David Greenspan: On Set with Theda Bara Tues and Wed Discount Tickets!!!!!
DESCRIPTION:All photos: Emilio Madrid \n \n \nFebruary 6 – March 9\, 2024\nThe Brick\n579 Metropolitan Ave\, Brooklyn\, NY 11211 \nIn this hallucination of a one-person show\, a genderqueer teen who goes missing and their gay detective father come face-to-face with the supernatural and consciousness-devouring Theda Bara\, the real-life vamp and silent film star of the 1910s. On Set with Theda Bara is part gothic coming-of-age story and part campy melodrama about identity consumption and the horror of not knowing who you are. \nTransport Group and Lucille Lortel Theatre are proud to present the full-length Off-Broadway debut of On Set with Theda Bara\, written by Joey Merlo\, directed by Jack Serio (Uncle Vanya)\, and performed by the incomparable six-time Obie winner David Greenspan. \nThe run time is 65 minutes\, with no intermission.\nOn Set with Theda Bara was first showcased at an eight-night only presentation by The Brick and The Exponential Festival in 2023. \nHey Friends\,\nFollowing a wildly enthusiastic response last year\, I’m returning in the compelling and surprisingly poignant rollercoaster of a solo play\, On Set With Theda Bara\, by Joey Merlo\, directed by Jack Serio. For those who didn’t catch it the first time around\, it’s a haunted and humorous 65 minutes at The Brick in Williamsburg – two quick stops on the L (or for the cognoscenti of Brooklyn and Queens) the much-beloved G. See below for tickets and description. I hope you can catch it. – David \nTicket information and website:\nThe Transport Group https://transportgroup.org/project/on-set-with-theda-bara/ \nProfiles in Art: Interview with David Greenspan\nWestbeth Artist Page: David Greenspan
URL:https://westbeth.org/event/david-greenspan-on-set-with-theda-bara-tues-and-wed-discount-tickets/
LOCATION:Brick Theater\, Brooklyn NY
CATEGORIES:past-events
ATTACH;FMTTYPE=image/png:https://westbeth.org/wp-content/uploads/2024/01/David-Grteenspan-Theda.png
END:VEVENT
BEGIN:VEVENT
DTSTART;VALUE=DATE:20230201
DTEND;VALUE=DATE:20230209
DTSTAMP:20260423T170841
CREATED:20230113T165037Z
LAST-MODIFIED:20230209T203018Z
UID:10000075-1675209600-1675900799@westbeth.org
SUMMARY:David Greenspan:  On Set with Theda Bara
DESCRIPTION:ON SET WITH THEDA BARA\nFebruary 1st – 8th\, 2023 at 8PM\nTickets on sale now at BrickTheater.com \nIn this hallucination of a one-person show\, six-time OBIE recipient David Greenspan plays a genderqueer teen who goes missing and their gay detective father as they come face-to-face with the supernatural and consciousness-devouring Theda Barat the vamp and film star of the early silents. On Set with Theda Bara is a gothic coming-of-age story\, a campy melodrama about identity-consumption\, and the horror of not knowing who you are. \nStarring David Greenspan\nWritten by Joey Merlo\nDirected by Jack Serio \nScenic Design by Frank Oliva\nCostume Design by Avery Reed\nLighting Design by Stacey Derosier\nSound Design by Brandon Bulls\nProduction Stage Management by Ryan Kane \nPresented as a part of The Exponential Festival at The Brick\n579 Metropolitan Avenue\nBrooklyn NY 11211
URL:https://westbeth.org/event/david-greenspan/
LOCATION:Brick Theater\, Brooklyn NY
CATEGORIES:past-events
ATTACH;FMTTYPE=image/jpeg:https://westbeth.org/wp-content/uploads/2023/01/David-Greenspan-Theda-Bara-.jpg
END:VEVENT
END:VCALENDAR