BEGIN:VCALENDAR
VERSION:2.0
PRODID:-//Westbeth - ECPv6.15.20//NONSGML v1.0//EN
CALSCALE:GREGORIAN
METHOD:PUBLISH
X-ORIGINAL-URL:https://westbeth.org
X-WR-CALDESC:Events for Westbeth
REFRESH-INTERVAL;VALUE=DURATION:PT1H
X-Robots-Tag:noindex
X-PUBLISHED-TTL:PT1H
BEGIN:VTIMEZONE
TZID:America/New_York
BEGIN:DAYLIGHT
TZOFFSETFROM:-0500
TZOFFSETTO:-0400
TZNAME:EDT
DTSTART:20240310T070000
END:DAYLIGHT
BEGIN:STANDARD
TZOFFSETFROM:-0400
TZOFFSETTO:-0500
TZNAME:EST
DTSTART:20241103T060000
END:STANDARD
BEGIN:DAYLIGHT
TZOFFSETFROM:-0500
TZOFFSETTO:-0400
TZNAME:EDT
DTSTART:20250309T070000
END:DAYLIGHT
BEGIN:STANDARD
TZOFFSETFROM:-0400
TZOFFSETTO:-0500
TZNAME:EST
DTSTART:20251102T060000
END:STANDARD
BEGIN:DAYLIGHT
TZOFFSETFROM:-0500
TZOFFSETTO:-0400
TZNAME:EDT
DTSTART:20260308T070000
END:DAYLIGHT
BEGIN:STANDARD
TZOFFSETFROM:-0400
TZOFFSETTO:-0500
TZNAME:EST
DTSTART:20261101T060000
END:STANDARD
END:VTIMEZONE
BEGIN:VEVENT
DTSTART;TZID=America/New_York:20250108T000000
DTEND;TZID=America/New_York:20250209T000000
DTSTAMP:20260423T150210
CREATED:20241230T001350Z
LAST-MODIFIED:20250114T013756Z
UID:10000700-1736294400-1739059200@westbeth.org
SUMMARY:David Greenspan in " I'm Assuming You Know David Greenspan"
DESCRIPTION:January 8 – February 9\, 2025 \nAtlantic Theater\n336 West 20th St\nNew York\, NY  \nClick Image for Ticket info \nwritten by Mona Pirnot\ndirected by Ken Rus Schmoll\nperformed by… David Greenspan \n“Yes friends\, you’ve read the title correctly.  One\, it’s funny.  Two\, I’m not a character.  Three\, I play young women.  Ticket link below.  Mona Pirnot is a terrific playwright.  I’m being directed by Ken Rus Schmoll – and it’s doesn’t get better than that!  Tickets are selling briskly!  January 8 – February 9.  I sure hope you can make it.” – David Greenspan \nOne 69-year old man plays four millennial women in a comedy (that’s full of drama) about how to make a living as a playwright (or to try). \nSix-time Obie recipient David Greenspan (The Patsy\, Strange Interlude\, Four Saints in Three Acts\, On Set With Theda Bara)\, Drama Desk nominee Mona Pirnot (I Love You So Much I Could Die) and two-time Obie recipient Ken Rus Schmoll (Middletown\, The Internationalist\, Telephone\, Map of Virtue). \nMore About David Greenspan\nDavid Greenspan has appeared in his plays Dead Mother\, She Stoops to Comedy\, Go Back to Where You Are\, I’m Looking for Helen Twelvetrees\, The Memory Motel and his solo plays The Argument and The Myopia\, performed solo renditions of three American plays from the 1920’s: Barry Conners’ comedy The Patsy\, Eugene O’Neill’s six-hour\, nine-act drama Strange Interlude\, Gertrude Stein’s experimental Four Saints in Three Acts and solo renditions of Stein’s lectures Plays\, Composition As Explanation and What Are Masterpieces and acted in many  contemporary plays\, notably Terrence McNally’s Some Men\, Joey Merlo’s solo play On Set With Theda Bara and revivals of Mart Crowley’s The Boys in the Band and Goethe’s Faust.  Honors include Guggenheim\, Lortel and Fox fellowships\, Alpert\, Lambda Literary\, Helen Merrill Playwriting awards\, a RUTHIE and six OBIES. \nDavid Greenspan been associated with New York’s Off-Broadway theater for over forty years.  After graduating with a theater degree from the University of California at Irvine\, he settled in New York and found his way into the downtown theater scene – writing\, directing and performing.  He came to the attention of Joseph Papp who made him a director-in-residence at the Public Theater.  He has appeared in his own plays\, most notably The Home Show Pieces\, Dead Mother\, She Stoops to Comedy\, Go Back to Where You Are\, I’m Looking for Helen Twelvetrees\, The Memory Motel and his solo plays The Argument and The Myopia – and performed solo renditions of Gertrude Stein’s lectures Plays\, Composition as Explanation and What Are Masterpieces.  Between 2011 and 2022 he developed and performed solo renditions of three American plays from the late 1920’s: Barry Conners’ 1925 romantic comedy The Patsy\, Eugene O’Neill’s 1927 six-hour\, nine-act modernist drama Strange Interlude and Gertrude Stein’s 1928 radically experimental Four Saints in Three Acts.  His plays and solo projects have been produced by the Public\, Playwrights Horizons\, Target Margin Theater\, The Foundry\, Transport Group and the Lortel Theatre.  He has acted in many contemporary plays\, notably Terrence McNally’s Some Men\, Joey Merlo’s solo play On Set With Theda Bara and revivals of Mart Crowley’s The Boys in the Band and Goethe’s Faust.  He enjoys close collaborative relationships with directors David Herskovits\, Leigh Silverman\, Jack Cummings III\, Ken Rus Schmoll and Morgan Green and is the recipient of Guggenheim\, Lortel and Fox fellowships\, Alpert\, Lambda Literary\, Helen Merrill Playwriting awards\, a RUTHIE and six OBIES.
URL:https://westbeth.org/event/david-greenspan-appears-in-im-assuming-you-know-david-greenspan/
LOCATION:Atlantic Theater
CATEGORIES:past-events
ATTACH;FMTTYPE=image/png:https://westbeth.org/wp-content/uploads/2024/12/David-Greenspan-Im-Assuming-SQ-.png
END:VEVENT
END:VCALENDAR