BEGIN:VCALENDAR
VERSION:2.0
PRODID:-//Westbeth - ECPv6.15.20//NONSGML v1.0//EN
CALSCALE:GREGORIAN
METHOD:PUBLISH
X-ORIGINAL-URL:https://westbeth.org
X-WR-CALDESC:Events for Westbeth
REFRESH-INTERVAL;VALUE=DURATION:PT1H
X-Robots-Tag:noindex
X-PUBLISHED-TTL:PT1H
BEGIN:VTIMEZONE
TZID:America/New_York
BEGIN:DAYLIGHT
TZOFFSETFROM:-0500
TZOFFSETTO:-0400
TZNAME:EDT
DTSTART:20240310T070000
END:DAYLIGHT
BEGIN:STANDARD
TZOFFSETFROM:-0400
TZOFFSETTO:-0500
TZNAME:EST
DTSTART:20241103T060000
END:STANDARD
BEGIN:DAYLIGHT
TZOFFSETFROM:-0500
TZOFFSETTO:-0400
TZNAME:EDT
DTSTART:20250309T070000
END:DAYLIGHT
BEGIN:STANDARD
TZOFFSETFROM:-0400
TZOFFSETTO:-0500
TZNAME:EST
DTSTART:20251102T060000
END:STANDARD
BEGIN:DAYLIGHT
TZOFFSETFROM:-0500
TZOFFSETTO:-0400
TZNAME:EDT
DTSTART:20260308T070000
END:DAYLIGHT
BEGIN:STANDARD
TZOFFSETFROM:-0400
TZOFFSETTO:-0500
TZNAME:EST
DTSTART:20261101T060000
END:STANDARD
END:VTIMEZONE
BEGIN:VEVENT
DTSTART;TZID=America/New_York:20250926T120000
DTEND;TZID=America/New_York:20251019T160000
DTSTAMP:20260423T132906
CREATED:20250923T003411Z
LAST-MODIFIED:20251019T222500Z
UID:10000841-1758888000-1760889600@westbeth.org
SUMMARY:Steve Clorfeine and Nat ThomasGoing to Ground Show
DESCRIPTION:Sept 26 – Oct 19\, 2025\nOpening Reception: Friday Sept 26\, 2025 4pm – 7pm \nArtUp Margaretville\n746 Main Street\nBinnekill Square\nMargaretville\, NY 12455 \nSteve Clorfeine and Nat Thomas are seasoned artists whose work spans numerous mediums and explorations. This exhibit\, curated by ArtUp Co-Director Patrice Lorenz\, focuses on Clorfeine’s clay and Thomas’s collage. Small hand-built pots\, vases\, containers\, and platters\, all ask to be held to experience the warmth infused by Clorfeine’s eye and touch. Thomas’s collages stem from the joy he finds working in his garden. Borrowing from ephemeral materials\, he “grows” his blooms in paper\, cut and pasted in distinctive arrangements.  In this exhibit you can feel the hands of these artists working in and with the earth. \nHours: Fri – Sun 12pm – 4pm \nMore info at: artupmargaretville.com \nartupmargaretville@gmail.com\ninsta: @artupmargaretville
URL:https://westbeth.org/event/steve-clorfeine-and-nat-thomasgoing-to-ground-show/
LOCATION:ArtUp Margaretville
CATEGORIES:past-events
ATTACH;FMTTYPE=image/png:https://westbeth.org/wp-content/uploads/2025/09/Screenshot-2025-09-21-at-9.31.33-PM.png
END:VEVENT
END:VCALENDAR