BEGIN:VCALENDAR
VERSION:2.0
PRODID:-//Westbeth - ECPv6.15.20//NONSGML v1.0//EN
CALSCALE:GREGORIAN
METHOD:PUBLISH
X-WR-CALNAME:Westbeth
X-ORIGINAL-URL:https://westbeth.org
X-WR-CALDESC:Events for Westbeth
REFRESH-INTERVAL;VALUE=DURATION:PT1H
X-Robots-Tag:noindex
X-PUBLISHED-TTL:PT1H
BEGIN:VTIMEZONE
TZID:America/New_York
BEGIN:DAYLIGHT
TZOFFSETFROM:-0500
TZOFFSETTO:-0400
TZNAME:EDT
DTSTART:20230312T070000
END:DAYLIGHT
BEGIN:STANDARD
TZOFFSETFROM:-0400
TZOFFSETTO:-0500
TZNAME:EST
DTSTART:20231105T060000
END:STANDARD
BEGIN:DAYLIGHT
TZOFFSETFROM:-0500
TZOFFSETTO:-0400
TZNAME:EDT
DTSTART:20240310T070000
END:DAYLIGHT
BEGIN:STANDARD
TZOFFSETFROM:-0400
TZOFFSETTO:-0500
TZNAME:EST
DTSTART:20241103T060000
END:STANDARD
BEGIN:DAYLIGHT
TZOFFSETFROM:-0500
TZOFFSETTO:-0400
TZNAME:EDT
DTSTART:20250309T070000
END:DAYLIGHT
BEGIN:STANDARD
TZOFFSETFROM:-0400
TZOFFSETTO:-0500
TZNAME:EST
DTSTART:20251102T060000
END:STANDARD
END:VTIMEZONE
BEGIN:VEVENT
DTSTART;TZID=America/New_York:20240621T170000
DTEND;TZID=America/New_York:20240621T190000
DTSTAMP:20260423T094630
CREATED:20240605T214056Z
LAST-MODIFIED:20240624T021718Z
UID:10000546-1718989200-1718996400@westbeth.org
SUMMARY:David Greenspan: Something Wicked This Way Comes
DESCRIPTION:June 21\, 2024 5pm – 7pm\nAbolitionist Place\nBrooklyn\, NY\n:I’m doing a twenty-minute riff on my experience playing Witch #! in a production of Macbeth in Cleveland.  Stage blood is slippery when wet and sticky when dry… and that’s just the beginning of it.  This is an En Garde Arts presentation\, and the program features some other groovy performers (see below).  June 21 at Abolitionist Park in Brooklyn\, 110 Willoughby Street.  5 p.m. – 7 p.m. performance.  And the price is right: FREE.”
URL:https://westbeth.org/event/david-greenspan-something-wicked-this-way-comes/
LOCATION:Abolitionist Place\, Brooklyn\, NY
CATEGORIES:past-events
ATTACH;FMTTYPE=image/jpeg:https://westbeth.org/wp-content/uploads/2024/06/david-greenspan-something-this-way.jpg
END:VEVENT
END:VCALENDAR