BEGIN:VCALENDAR
VERSION:2.0
PRODID:-//Westbeth - ECPv6.15.20//NONSGML v1.0//EN
CALSCALE:GREGORIAN
METHOD:PUBLISH
X-ORIGINAL-URL:https://westbeth.org
X-WR-CALDESC:Events for Westbeth
REFRESH-INTERVAL;VALUE=DURATION:PT1H
X-Robots-Tag:noindex
X-PUBLISHED-TTL:PT1H
BEGIN:VTIMEZONE
TZID:America/New_York
BEGIN:DAYLIGHT
TZOFFSETFROM:-0500
TZOFFSETTO:-0400
TZNAME:EDT
DTSTART:20220313T070000
END:DAYLIGHT
BEGIN:STANDARD
TZOFFSETFROM:-0400
TZOFFSETTO:-0500
TZNAME:EST
DTSTART:20221106T060000
END:STANDARD
BEGIN:DAYLIGHT
TZOFFSETFROM:-0500
TZOFFSETTO:-0400
TZNAME:EDT
DTSTART:20230312T070000
END:DAYLIGHT
BEGIN:STANDARD
TZOFFSETFROM:-0400
TZOFFSETTO:-0500
TZNAME:EST
DTSTART:20231105T060000
END:STANDARD
BEGIN:DAYLIGHT
TZOFFSETFROM:-0500
TZOFFSETTO:-0400
TZNAME:EDT
DTSTART:20240310T070000
END:DAYLIGHT
BEGIN:STANDARD
TZOFFSETFROM:-0400
TZOFFSETTO:-0500
TZNAME:EST
DTSTART:20241103T060000
END:STANDARD
END:VTIMEZONE
BEGIN:VEVENT
DTSTART;TZID=America/New_York:20230310T080000
DTEND;TZID=America/New_York:20230329T170000
DTSTAMP:20260423T210426
CREATED:20230304T204745Z
LAST-MODIFIED:20230328T040739Z
UID:10000164-1678435200-1680109200@westbeth.org
SUMMARY:Christina Maile\, Ann Hamilton\,  Elisa Decker\, Barbara Slitkin in Women Celebrate Women Group Show
DESCRIPTION:“WOMEN CELEBRATE WOMEN” RETURNS FOR A WOMEN’S HISTORY MONTH CELEBRATORY MULTI MEDIA GROUP ART EXHIBITION OPENING MARCH 10\, 2023 AT EL BARRIO’S ARTSPACE PS109 IN E HARLEM.\n“Women Celebrate Women” will host an Opening Reception – Friday\, March 10\, 2023. From 6:00 – 9:00 pm.\nThe Exhibition will be on view through March 29\, 11:00 am – 6:00 pm daily. \nEl Barrio’s Art Space\n215 E. 99th Street – New York\, NY 10029\nFor more information please contact:\nwomen.celebrate.women21@gmail.com or rolinda.ramos@artspace.org \nCo-Curators by mixed media artist\, Yvonne Lamar-Rogers and Rolinda Ramos\, Director of Operations and Programming at El Barrios Artspace PS109 present the third annual “Women Celebrate Women” with an opening reception on Friday\, March 10\, 2023. \nThe New York based Artspace pushes boundaries with it’s third annual female centered multimedia group exhibition. \nThe exhibit celebrates the beauty and resilience of all women. It encompasses the diverse narratives of each artist by exploring through their creative visions: All that we are\, all that we have been and all that we aspire to become. Artist and Curator\, Lamar-Rogers says the mission of Women Celebrate Women is to celebrate not just Women’s History Month but also celebrate and honor talented\, creative women of all backgrounds. “ \nThe exhibit features  images\, sculptures\, fiber arts and more in the heart of an East Harlem artistic community at the beautiful El Barrio’s Artspace PS109. The circa 1899 building\, a previously abandoned NYC public school building\, was transformed into a community housing complex for artist and their families. It also offers beautiful spaces for the arts as well as cultural programming in the East Haarlem Community. Located at 215 E. 99th Street\, New York\, NY\n10029. \n“Art invites us to take the journey beyond price\, beyond cost into bearing witness to the world as it is and as it should be. Art invites us to know beauty and to solicit it from even the most tragic of circumstances. Art reminds us that we belong here.” Toni Morrison \nPARTICIPATING ARTIST INCLUDE \n\nCheryl Aden\nAudrey Anastasi\nEfrat Baler-Moses\nDeysi Barzallo\nAnn Bascove\nFran Beallor\nOlivia Beens\nLois Bender\nJoann Bishop\nMichele Broody\nKarin Bruckner\nArcadia Caraballo\nSandra Cavanagh\nNicole Chavanne\nIrene Christensen\nDiane Churchill\nBetty P. Coal\nAlison Cuomo\nElisa Decker\nRose Deler\nDeloris Shimoda\nDonna Emanuel\nKate Fauvell\nShelly Feinerman\nJodie Fine\nElaine Forest\nLaura Gadson\nNorma Greenwood\nNaomi Grossman\n\nSusan Grucci\nAnn Hamilton\nPaula Heisen\nEileen Hoffman\nLori Horowitz\nCarmen Isasi\nElisabeth Jacobsen\nJulia Justo\nDiana Kurz Lamar-Rogers\,\nJenna Lash\,\nKinna LeBlanc\nBarbara Lubliner\nMarne Lucas\nMekia Machine\nChristina Maile\nCarol Massa\nElizabeth McAlpin\nBeverly McCutcheon\nAndrea McKenna\nJanet Morgan\nWendy L. Moss\nStephani Mulvihill\nKathleen Migliore Newton\nEliza Nichols\nVickie Pacimeo\nMary Toole Parker\nKristi Pfister\nBonnie Phillips\nSkyy Phillips\nCJ Priester\nJacqueline Sferra Rada\nEvelyn Ray\nMartryce Roach\nGale Rothstein\nChristina Salas\nLatifah ShaDea\,\nYolanda Shashaty\nBarbara Sherman\nRegina Silvers\nUniqua Robin Simmons\nCarri Skoczek\,\nBarbara Slitkin\nGiustina Sorbonne\nMaria Spector\nDarcy Spitz\nEmily Steadman\nJoanne Steinhard\nSyma\nShenna Vaughn\nAlyson Vega\nElizabeth Velazquez\nAmy Weil\nFrances Whisnant\nNina Wood\n \nExhibition on view March 10 – March 31 2023 – 11:00am -6:00 pm\, daily 215 E 99th Street – New York\, NY 10029 \nHome page image: Christina Maile “Frida Manet” polyester plate lithograph \nAnn Hamilton “Maeve” Coat made of collaged portraits \nChristina Maile “Sonogram” acrylic on canvas 30″ x 48″ \nBarbara Slitkin “Toni Morrison” acrylic on canvas \n“Glory and Pearl” ©1982 Elisa Decker; print 2023archival pigment print\, Image: 10 x 13.75 in.\, Sheet: 17 x 22 in.
URL:https://westbeth.org/event/christina-maile-in-women-celebrate-women-group-show/
LOCATION:El Barrio’s ArtSpace PS109
CATEGORIES:past-events
ATTACH;FMTTYPE=image/png:https://westbeth.org/wp-content/uploads/2023/03/Christina-Maile-Frida-Manet.png
END:VEVENT
END:VCALENDAR