BEGIN:VCALENDAR
VERSION:2.0
PRODID:-//Westbeth - ECPv6.15.20//NONSGML v1.0//EN
CALSCALE:GREGORIAN
METHOD:PUBLISH
X-WR-CALNAME:Westbeth
X-ORIGINAL-URL:https://westbeth.org
X-WR-CALDESC:Events for Westbeth
REFRESH-INTERVAL;VALUE=DURATION:PT1H
X-Robots-Tag:noindex
X-PUBLISHED-TTL:PT1H
BEGIN:VTIMEZONE
TZID:America/New_York
BEGIN:DAYLIGHT
TZOFFSETFROM:-0500
TZOFFSETTO:-0400
TZNAME:EDT
DTSTART:20230312T070000
END:DAYLIGHT
BEGIN:STANDARD
TZOFFSETFROM:-0400
TZOFFSETTO:-0500
TZNAME:EST
DTSTART:20231105T060000
END:STANDARD
BEGIN:DAYLIGHT
TZOFFSETFROM:-0500
TZOFFSETTO:-0400
TZNAME:EDT
DTSTART:20240310T070000
END:DAYLIGHT
BEGIN:STANDARD
TZOFFSETFROM:-0400
TZOFFSETTO:-0500
TZNAME:EST
DTSTART:20241103T060000
END:STANDARD
BEGIN:DAYLIGHT
TZOFFSETFROM:-0500
TZOFFSETTO:-0400
TZNAME:EDT
DTSTART:20250309T070000
END:DAYLIGHT
BEGIN:STANDARD
TZOFFSETFROM:-0400
TZOFFSETTO:-0500
TZNAME:EST
DTSTART:20251102T060000
END:STANDARD
END:VTIMEZONE
BEGIN:VEVENT
DTSTART;TZID=America/New_York:20240828T130000
DTEND;TZID=America/New_York:20240915T180000
DTSTAMP:20260423T113509
CREATED:20240829T024327Z
LAST-MODIFIED:20240916T223532Z
UID:10000572-1724850000-1726423200@westbeth.org
SUMMARY:Art Lives Here: Collecting An Art Fair At Westbeth Gallery
DESCRIPTION:Selected Photos from the Show\nClick image to start slide show:\n\n\n		\n				\n						\n			\n								\n			\n		\n							\n			\n				\n						\n			\n								\n			\n		\n							\n			\n				\n						\n			\n								\n			\n		\n							\n			\n				\n						\n			\n								\n			\n		\n							\n			\n				\n						\n			\n								\n			\n		\n							\n			\n				\n						\n			\n								\n			\n		\n							\n			\n				\n						\n			\n								\n			\n		\n							\n			\n				\n						\n			\n								\n			\n		\n							\n			\n				\n						\n			\n								\n			\n		\n							\n			\n				\n						\n			\n								\n			\n		\n							\n			\n				\n						\n			\n								\n			\n		\n							\n			\n				\n						\n			\n								\n			\n		\n							\n			\n				\n						\n			\n								\n			\n		\n							\n			\n				\n						\n			\n								\n			\n		\n							\n			\n				\n						\n			\n								\n			\n		\n							\n			\n				\n						\n			\n								\n			\n		\n							\n			\n				\n						\n			\n								\n			\n		\n							\n			\n				\n						\n			\n								\n			\n		\n							\n			\n	\n	\n\n	\n		\n			\n\nClick to enlarge \nAugust 28th – September 15th\, 2024\nOpening Reception August 28\, 2024\, 6:00-9:00 pm\n \nWestbeth Gallery\n57 Bethune St\nNew York\, NY \nGallery hours Wednesday – Sunday 1:00 – 6:00pm  \nArt Lives Here: Collecting is curated from the viewpoint of collecting contemporary art and\nbuilding a collection over time. ALH founder and chief curator Connie Lee led the curatorial\nteam of Alison Cuomo\, Karen Fitzgerald and Jim Richards.  \nEach of the 4 rooms at the iconic Westbeth Gallery are curated with a unique theme within the larger cohesive exhibition. \nArt Lives Here: Collecting will feature the work of 52 contemporary artists. All are members of\nALH’s growing community of artists from New York City\, the U.S.\, London\, Berlin and Buenos\nAires.  \nArtists:\nCheryl Aden\, Monique Allain\, Karin Bandelin\, Beth Barry\, Sylvia Battistuzzi\, Capucine Bourcart\,\nCarol Bouyoucos\, Andree Brown\, Karin Bruckner\, Elan Cadiz\, Ingrid Capozzoli Flinn\, Airco\nCaravan\, Marta Chilindron\, Heather Cox\, Jaynie Crimmins\, Alison Cuomo\, Yael Dresdner\,\nJoanne Dugan\, Katherine Earle\, Roberta Fineberg\, Karen Fitzgerald\, Laurence Elle Groux\,\nEileen Hoffman\, Monair Hyman\, Carmen Isasi\nJulia Justo\, Natalya Khorover\, Salem Kreiger\, Beatrice Lebreton\, Lynn Lieberman\, Barbara\nLubliner\, Donnelly Marks\, Elizabeth McAlpin\, Cinzia Meneghello\, Gail Meyers\, Tomo Mori\,\nStephanie Mulvihill\, Carol Paik\, Jim Richards\, Elizabeth Riley\, Jorge Luis- Rodriguez\, Gale\nRothstein\, Hiroshi Shafer\, Barbara Sherman\, Deborah Sherman\, Mel Smothers\, Susan Stair\,\nEmily Stedman\, Geoffrey Stein\, Glenyse Thompson\, Ellen Weider\, Michael Wolf.
URL:https://westbeth.org/event/art-lives-here-collecting-an-art-fair-at-westbeth-gallery/
LOCATION:Westbeth Gallery
CATEGORIES:past-events
ATTACH;FMTTYPE=image/png:https://westbeth.org/wp-content/uploads/2024/08/ART-LIVES-HERE-SQ-Collecting-IG-PROMO-copy.png
GEO:40.737051566887;-74.009218415339
END:VEVENT
END:VCALENDAR