BEGIN:VCALENDAR
VERSION:2.0
PRODID:-//Westbeth - ECPv6.15.20//NONSGML v1.0//EN
CALSCALE:GREGORIAN
METHOD:PUBLISH
X-ORIGINAL-URL:https://westbeth.org
X-WR-CALDESC:Events for Westbeth
REFRESH-INTERVAL;VALUE=DURATION:PT1H
X-Robots-Tag:noindex
X-PUBLISHED-TTL:PT1H
BEGIN:VTIMEZONE
TZID:America/New_York
BEGIN:DAYLIGHT
TZOFFSETFROM:-0500
TZOFFSETTO:-0400
TZNAME:EDT
DTSTART:20230312T070000
END:DAYLIGHT
BEGIN:STANDARD
TZOFFSETFROM:-0400
TZOFFSETTO:-0500
TZNAME:EST
DTSTART:20231105T060000
END:STANDARD
BEGIN:DAYLIGHT
TZOFFSETFROM:-0500
TZOFFSETTO:-0400
TZNAME:EDT
DTSTART:20240310T070000
END:DAYLIGHT
BEGIN:STANDARD
TZOFFSETFROM:-0400
TZOFFSETTO:-0500
TZNAME:EST
DTSTART:20241103T060000
END:STANDARD
BEGIN:DAYLIGHT
TZOFFSETFROM:-0500
TZOFFSETTO:-0400
TZNAME:EDT
DTSTART:20250309T070000
END:DAYLIGHT
BEGIN:STANDARD
TZOFFSETFROM:-0400
TZOFFSETTO:-0500
TZNAME:EST
DTSTART:20251102T060000
END:STANDARD
END:VTIMEZONE
BEGIN:VEVENT
DTSTART;TZID=America/New_York:20241101T190000
DTEND;TZID=America/New_York:20241101T203000
DTSTAMP:20260423T094208
CREATED:20241024T220700Z
LAST-MODIFIED:20241107T015038Z
UID:10000666-1730487600-1730493000@westbeth.org
SUMMARY:First Friday Music: Ken Wade  Singing the Songs We Love with Marc Jacoby and Bob Malenky
DESCRIPTION:Click to enlarge \nFriday Nov 1\, 2024 at 7 pm\nWestbeth Community Room\n155 Bank St\nenter through courtyard\nNew York\, NY  \nThe evening will include three shared sets with Ken Wade\, Marc Jacoby  and Bob Malenky\, Singing the Songs They Love.\nExpect some stories and feel free to sing along. \nTraditional  blues and American folk classics \nKen Wade\, see https://westbeth.org/artist-page/ken-wade/ \nBob Malenky is a dazzling eclectic performer\, concentrating on the blues but at home with union songs\, Woody Guthrie’s work\, traditional folk and music hall songs. He plays exceptional guitar as learned from\, among others\, his blues idols Muddy Waters and Lightnin’ Hopkins.  \nHe has recorded and toured with the legendary harmonica player Sonny Terry. He has worked with recording artist Charles Walker and recorded for Spivey Records with legendary singer and pianist Roosevelt Sykes. He plays at clubs\, coffee houses\, and festivals in this country as well as in Europe (mostly Britain). He has taught courses in world folk music at City College and is a regular host and performer on WBAI Folk Radio. \nThere is a chapter about him and his experiences in New York City Blues\, edited by John Broven \nMarc Jacoby\, https://westbeth.org/artist-page/marc-jacoby/ and www.marcthemusicman.com
URL:https://westbeth.org/event/first-friday-music-with-ken-wade/
LOCATION:Westbeth Community Room
CATEGORIES:past-events
ATTACH;FMTTYPE=image/jpeg:https://westbeth.org/wp-content/uploads/2024/10/FirstFriday_KenWade_web.jpg
END:VEVENT
END:VCALENDAR