BEGIN:VCALENDAR
VERSION:2.0
PRODID:-//Westbeth - ECPv6.15.20//NONSGML v1.0//EN
CALSCALE:GREGORIAN
METHOD:PUBLISH
X-WR-CALNAME:Westbeth
X-ORIGINAL-URL:https://westbeth.org
X-WR-CALDESC:Events for Westbeth
REFRESH-INTERVAL;VALUE=DURATION:PT1H
X-Robots-Tag:noindex
X-PUBLISHED-TTL:PT1H
BEGIN:VTIMEZONE
TZID:America/New_York
BEGIN:DAYLIGHT
TZOFFSETFROM:-0500
TZOFFSETTO:-0400
TZNAME:EDT
DTSTART:20210314T070000
END:DAYLIGHT
BEGIN:STANDARD
TZOFFSETFROM:-0400
TZOFFSETTO:-0500
TZNAME:EST
DTSTART:20211107T060000
END:STANDARD
BEGIN:DAYLIGHT
TZOFFSETFROM:-0500
TZOFFSETTO:-0400
TZNAME:EDT
DTSTART:20220313T070000
END:DAYLIGHT
BEGIN:STANDARD
TZOFFSETFROM:-0400
TZOFFSETTO:-0500
TZNAME:EST
DTSTART:20221106T060000
END:STANDARD
BEGIN:DAYLIGHT
TZOFFSETFROM:-0500
TZOFFSETTO:-0400
TZNAME:EDT
DTSTART:20230312T070000
END:DAYLIGHT
BEGIN:STANDARD
TZOFFSETFROM:-0400
TZOFFSETTO:-0500
TZNAME:EST
DTSTART:20231105T060000
END:STANDARD
BEGIN:DAYLIGHT
TZOFFSETFROM:-0500
TZOFFSETTO:-0400
TZNAME:EDT
DTSTART:20240310T070000
END:DAYLIGHT
BEGIN:STANDARD
TZOFFSETFROM:-0400
TZOFFSETTO:-0500
TZNAME:EST
DTSTART:20241103T060000
END:STANDARD
BEGIN:DAYLIGHT
TZOFFSETFROM:-0500
TZOFFSETTO:-0400
TZNAME:EDT
DTSTART:20250309T070000
END:DAYLIGHT
BEGIN:STANDARD
TZOFFSETFROM:-0400
TZOFFSETTO:-0500
TZNAME:EST
DTSTART:20251102T060000
END:STANDARD
END:VTIMEZONE
BEGIN:VEVENT
DTSTART;TZID=America/New_York:20240221T190000
DTEND;TZID=America/New_York:20240221T203000
DTSTAMP:20260423T150726
CREATED:20240302T194323Z
LAST-MODIFIED:20240324T195832Z
UID:10000464-1708542000-1708547400@westbeth.org
SUMMARY:Westbeth Movie Night Big Night
DESCRIPTION:Wednesday Feb 21\, 2024 at 7PM\nWestbeth Community Rm\n155 Bank Street\nNew York\, NY\nenter through courtyard b/w west and Washington Sts.
URL:https://westbeth.org/event/westbeth-movie-night-big-night/
LOCATION:Westbeth Community Room
CATEGORIES:past-events
ATTACH;FMTTYPE=image/jpeg:https://westbeth.org/wp-content/uploads/2024/02/Big-Night-SQUARE.jpg
END:VEVENT
BEGIN:VEVENT
DTSTART;TZID=America/New_York:20240126T190000
DTEND;TZID=America/New_York:20240126T203000
DTSTAMP:20260423T150726
CREATED:20231210T181343Z
LAST-MODIFIED:20240130T193248Z
UID:10000451-1706295600-1706301000@westbeth.org
SUMMARY:Westbeth Movie Night: Minority Report
DESCRIPTION:
URL:https://westbeth.org/event/westbeth-movie-night-8/
LOCATION:Westbeth Community Room
CATEGORIES:past-events
ATTACH;FMTTYPE=image/jpeg:https://westbeth.org/wp-content/uploads/2024/01/Minority-Report-FINAL-SQUARE-e1704911566562.jpg
END:VEVENT
BEGIN:VEVENT
DTSTART;TZID=America/New_York:20231223T190000
DTEND;TZID=America/New_York:20231223T203000
DTSTAMP:20260423T150726
CREATED:20231121T033922Z
LAST-MODIFIED:20231228T013825Z
UID:10000440-1703358000-1703363400@westbeth.org
SUMMARY:Westbeth Movie Night: Wizard of Oz
DESCRIPTION:
URL:https://westbeth.org/event/westbeth-movie-night-wizard-of-oz/
LOCATION:Westbeth Community Room
CATEGORIES:past-events
ATTACH;FMTTYPE=image/jpeg:https://westbeth.org/wp-content/uploads/2023/12/THE-WIZARD-OF-OZ-SQUARE-1-e1702611803529.jpg
END:VEVENT
BEGIN:VEVENT
DTSTART;TZID=America/New_York:20231027T190000
DTEND;TZID=America/New_York:20231027T203000
DTSTAMP:20260423T150726
CREATED:20230731T141141Z
LAST-MODIFIED:20231031T015531Z
UID:10000411-1698433200-1698438600@westbeth.org
SUMMARY:Westbeth Movie Night: NOMADLAND
DESCRIPTION:
URL:https://westbeth.org/event/westbeth-movie-night-nomadland/
LOCATION:Westbeth Community Room
CATEGORIES:past-events
ATTACH;FMTTYPE=image/jpeg:https://westbeth.org/wp-content/uploads/2023/10/MOVIE-NIGHT-Nomadland-SQUARE.jpg
END:VEVENT
BEGIN:VEVENT
DTSTART;TZID=America/New_York:20230825T190000
DTEND;TZID=America/New_York:20230825T203000
DTSTAMP:20260423T150726
CREATED:20230810T130534Z
LAST-MODIFIED:20230828T235842Z
UID:10000364-1692990000-1692995400@westbeth.org
SUMMARY:Westbeth Movie Night: That Thing You Do!
DESCRIPTION:
URL:https://westbeth.org/event/westbeth-movie-night-that-thing-you-do/
LOCATION:Westbeth Community Room
CATEGORIES:past-events
ATTACH;FMTTYPE=image/jpeg:https://westbeth.org/wp-content/uploads/2023/08/W-Movie-Night-That-Thing-You-Do-SQUARE-e1691672549150.jpg
END:VEVENT
BEGIN:VEVENT
DTSTART;TZID=America/New_York:20230622T190000
DTEND;TZID=America/New_York:20230622T200000
DTSTAMP:20260423T150726
CREATED:20230605T234136Z
LAST-MODIFIED:20230623T232542Z
UID:10000278-1687460400-1687464000@westbeth.org
SUMMARY:Screening: State and Main Written and directed by David Mamet
DESCRIPTION:Thursday June 22\, 2023 at 7P\nWestbeth Community Room\n155 Bank St\nNY Ny \nA 2000 comedy film written and directed by David Mamet and starring William H. Macy\, Sarah Jessica Parker\, Alec Baldwin\, Julia Stiles\, Philip Seymour Hoffman\, Rebecca Pidgeon\, David Paymer\, Patti LuPone\, Clark Gregg\, and Charles Durning. \nFree
URL:https://westbeth.org/event/screening-state-and-main-written-and-directed-by-david-mamet/
LOCATION:Westbeth Community Room
CATEGORIES:past-events
ATTACH;FMTTYPE=image/jpeg:https://westbeth.org/wp-content/uploads/2023/06/State-Main-poster-REV-SQUARE-SIZE.jpg
END:VEVENT
BEGIN:VEVENT
DTSTART;TZID=America/New_York:20230519T190000
DTEND;TZID=America/New_York:20230519T203000
DTSTAMP:20260423T150726
CREATED:20230503T221451Z
LAST-MODIFIED:20230521T002502Z
UID:10000206-1684522800-1684528200@westbeth.org
SUMMARY:Westbeth Movie Night: Kirikou and the Sorceress
DESCRIPTION:
URL:https://westbeth.org/event/westbeth-movie-night-kirikou-and-the-sorceress/
LOCATION:Westbeth Community Room
CATEGORIES:past-events
ATTACH;FMTTYPE=image/jpeg:https://westbeth.org/wp-content/uploads/2023/05/Westbth-Movie-Night-Kirikou-FINAL-SQUARE-e1683152078963.jpg
END:VEVENT
BEGIN:VEVENT
DTSTART;TZID=America/New_York:20230421T190000
DTEND;TZID=America/New_York:20230421T203000
DTSTAMP:20260423T150726
CREATED:20230407T145824Z
LAST-MODIFIED:20230422T141223Z
UID:10000190-1682103600-1682109000@westbeth.org
SUMMARY:Westbeth Movie Night: The City of Lost Children
DESCRIPTION:
URL:https://westbeth.org/event/westbeth-movie-night-the-city-of-lost-children/
LOCATION:Westbeth Community Room
CATEGORIES:past-events
ATTACH;FMTTYPE=image/jpeg:https://westbeth.org/wp-content/uploads/2023/04/Westbeth-Movie-Night-Lost-City-of-Child.jpg
END:VEVENT
BEGIN:VEVENT
DTSTART;TZID=America/New_York:20230120T190000
DTEND;TZID=America/New_York:20230120T203000
DTSTAMP:20260423T150726
CREATED:20230108T145333Z
LAST-MODIFIED:20230123T205207Z
UID:10000073-1674241200-1674246600@westbeth.org
SUMMARY:Westbeth Movie Night: Singin' in the Rain
DESCRIPTION:
URL:https://westbeth.org/event/westbeth-movie-night-7/
LOCATION:Westbeth Community Room
CATEGORIES:past-events
ATTACH;FMTTYPE=image/jpeg:https://westbeth.org/wp-content/uploads/2023/01/Singing-in-the-Rain-SQUARE-SIZE-e1673189585525.jpg
END:VEVENT
BEGIN:VEVENT
DTSTART;TZID=America/New_York:20220929T190000
DTEND;TZID=America/New_York:20220929T203000
DTSTAMP:20260423T150726
CREATED:20220901T203941Z
LAST-MODIFIED:20221001T233909Z
UID:10000097-1664478000-1664483400@westbeth.org
SUMMARY:Westbeth Movie Night: A Face in the Crowd
DESCRIPTION:
URL:https://westbeth.org/event/westbeth-movie-night-4/
LOCATION:Westbeth Community Room
CATEGORIES:past-events
ATTACH;FMTTYPE=image/jpeg:https://westbeth.org/wp-content/uploads/2022/09/A-Face-in-the-Crowd-CURRENT-SQUARE-e1662064761301.jpg
END:VEVENT
BEGIN:VEVENT
DTSTART;TZID=America/New_York:20220422T190000
DTEND;TZID=America/New_York:20220422T200000
DTSTAMP:20260423T150726
CREATED:20220416T011048Z
LAST-MODIFIED:20220427T142339Z
UID:10000024-1650654000-1650657600@westbeth.org
SUMMARY:Westbeth Movie Night: What Happened\, Miss Simone?
DESCRIPTION:Friday April 22\, 2022 at 7PM\nWestbeth Community Room\n155 Bank Street (enter through courtyard)\nNew York\, NY\nMasks are recommended\, Room capacity 74 \nWhat Happened\, Miss Simone? is a 2015 American biographical documentary film about Nina Simone directed by Liz Garbus. The film opened the 2015 Sundance Film Festival. The screening was followed by a tribute performance by John Legend.[1] The film was released by Netflix on June 26\, 2015. It was nominated for Best Documentary Feature at the 88th Academy Awards. \nMichael Hogan wrote for Vanity Fair that\, “The risk of making a documentary of a towering artist is that\, by explaining her\, you only end up diminishing her. Not Nina Simone—not this time. In Liz Garbus’s telling\, Simone’s talent and personality shine through\, as gloriously singular\, and uncontrollable\, as ever.” \nManohla Dargis of The New York Times cited the film’s relevance\, calling it an “often electric\, bracingly urgent documentary.
URL:https://westbeth.org/event/westbeth-movie-night-what-happened-miss-simone/
LOCATION:Westbeth Community Room
CATEGORIES:past-events
ATTACH;FMTTYPE=image/jpeg:https://westbeth.org/wp-content/uploads/2022/04/WETBETH-MOVIE-SQ-What-Happened-Miss-Simone-poster-gold-SQUARE.jpg
END:VEVENT
END:VCALENDAR