BEGIN:VCALENDAR
VERSION:2.0
PRODID:-//Westbeth - ECPv6.15.20//NONSGML v1.0//EN
CALSCALE:GREGORIAN
METHOD:PUBLISH
X-ORIGINAL-URL:https://westbeth.org
X-WR-CALDESC:Events for Westbeth
REFRESH-INTERVAL;VALUE=DURATION:PT1H
X-Robots-Tag:noindex
X-PUBLISHED-TTL:PT1H
BEGIN:VTIMEZONE
TZID:America/New_York
BEGIN:DAYLIGHT
TZOFFSETFROM:-0500
TZOFFSETTO:-0400
TZNAME:EDT
DTSTART:20210314T070000
END:DAYLIGHT
BEGIN:STANDARD
TZOFFSETFROM:-0400
TZOFFSETTO:-0500
TZNAME:EST
DTSTART:20211107T060000
END:STANDARD
BEGIN:DAYLIGHT
TZOFFSETFROM:-0500
TZOFFSETTO:-0400
TZNAME:EDT
DTSTART:20220313T070000
END:DAYLIGHT
BEGIN:STANDARD
TZOFFSETFROM:-0400
TZOFFSETTO:-0500
TZNAME:EST
DTSTART:20221106T060000
END:STANDARD
BEGIN:DAYLIGHT
TZOFFSETFROM:-0500
TZOFFSETTO:-0400
TZNAME:EDT
DTSTART:20230312T070000
END:DAYLIGHT
BEGIN:STANDARD
TZOFFSETFROM:-0400
TZOFFSETTO:-0500
TZNAME:EST
DTSTART:20231105T060000
END:STANDARD
END:VTIMEZONE
BEGIN:VEVENT
DTSTART;TZID=America/New_York:20220504T190000
DTEND;TZID=America/New_York:20220504T203000
DTSTAMP:20260423T231222
CREATED:20220413T203801Z
LAST-MODIFIED:20220505T151624Z
UID:10000020-1651690800-1651696200@westbeth.org
SUMMARY:An Evening of Readings: Walter\, Florio and Herman
DESCRIPTION:Wednesday May 4\, 2022 at 7PM \nWestbeth Community Room\n155 Bank Street (enter through courtyard)\nb/w Washington and West its.\nNew York\,NY\nFREE \nKate Walter is the author of two memoirs: Behind the Mask: Living Alone in the\nEpicenter and Looking for a Kiss: A Chronicle of Downtown Heartbreak and Healing.\nHer essays and opinion pieces have appeared in the New York Times\, Newsday\, New York\nDaily News\, AM-NY\, Next Avenue\, the Advocate\, the Village Sun\, and many other outlets.\nShe taught writing at CUNY and NYU for three decades. \nDonna Florio is a lifelong resident of Bank Street in Greenwich Village. Nurtured by colorful\,\neccentric neighbors who taught her to “never wonder about life from the outside—jump in!”\nDonna has\, over the years\, worked as an opera singer\, a TV producer\, a Wall Street executive\,\nand an educator\, and has backpacked around the world. \nMichele Herman is the author of the novel Save the Village and two poetry chapbooks\, Just\nAnother Jack: The Private Lives of Nursery Rhymes and Victory Boulevard. Her poems\, stories\,\nand essays have appeared widely in journals\, including Ploughshares and the Hudson Review.\nShe’s a longtime teacher at the Writers Studio\, a developmental editor\, and she writes for the\nVillage Sun.
URL:https://westbeth.org/event/westbeth-literary-arts-committee/
LOCATION:Westbeth Community Room
CATEGORIES:past-events
ATTACH;FMTTYPE=image/jpeg:https://westbeth.org/wp-content/uploads/2022/04/READINGS-SQ.jpg
END:VEVENT
BEGIN:VEVENT
DTSTART;VALUE=DATE:20220430
DTEND;VALUE=DATE:20220502
DTSTAMP:20260423T231222
CREATED:20220409T164313Z
LAST-MODIFIED:20220502T134510Z
UID:10000018-1651276800-1651449599@westbeth.org
SUMMARY:WestFest Dance Festival 2022. THIS EVENT IS SOLD OUT
DESCRIPTION:WestFest Dance Festival 2022 returns for its 12th installation\, featuring 16 dance troupes across 7 different locations at Westbeth Artists’ Residence with Martha Graham’s Graham 2 headlining! \n New York 1 Interview with ZCO Dance Project\, George Cominskie Exec Director of Westbeth\, and Dylan Baker\, WestFest co-producer\n \nTickets: FREE\nRegistration Link: www.westfestdance.com/tickets\nTime: Tours run from 1:30PM – 3PM\nRunning Time: 1 hour per tour\nLocation: Entrance at 155 Bank St\, New York\, NY 10014 \nCOVID Policy: Audience Members are required to wear masks indoors \nGraham 2 of Martha Graham Dance Company will join 15 dance groups in performing in Westbeth’s annual WestFest Dance Festival on the weekend of April 30th. Taking place in the halls and courtyards of the landmarked Richard Meier-designed affordable housing complex\, WestFest is an immersive\, curated dance festival that presents and spotlights established and emerging movement artists and dance groups based in New York City. \nVisitors can sign up for a free one-hour tour guided by Westbeth artists\, who guide visitors through the building\, interspersed with original dance performances that enliven the housing complex’s famed winding corridors and courtyards. Set to take place across two days\, Saturday\, April 30th and Sunday\, May 1st\, from 1:30 – 3:00 PM\, tickets are free\, but must be reserved online in advance. \nMartha Graham Dance Company’s Graham 2 will make their return to Westfest for the third time\, with new original choreography by Virginie Mécène. Graham 2 is a pre-professional dance company drawn from the most advanced students of the Martha Graham School. The show is particularly important to the world-renowned dance company given its location – the studio has called Westbeth home for the last 10 years. \nThe two-day program will also feature a wide variety of dance troupes\, including ZCO/DANCEPROJECT\, whose mission is to spotlight the inclusion and incorporation of those with disabilities in dance. \n“We look forward to welcoming 16 talented dance troupes into our halls\, who will beautifully highlight and encapsulate the spirit of Westbeth through their dancing and performing\,” said George Cominskie\, Executive Director of Westbeth. “Westbeth has long been a home for the arts and the annual festival offers a unique opportunity to celebrate some of the City’s most exciting dance groups set against the backdrop of an iconic New York City arts institution.” \nProgramming for Saturday\, April 30th will feature performances by:\n● Graham 2\n● Glenn Potter-Takata\n● The Bang Group\n● Carol Nolte/Dance Collective\n● Company of Collaborative Artists\n● Marla Phelan\n● Braingames in partnership with the 14th Street Y Senior Performance Company\n● Capoeira Luanda lead by Mestre Jelon Vieira \nProgramming for Sunday\, May 1st will feature performances by:\n● Matthew Westerby Company\n● ZCO/DANCEPROJECT\n● Sofia Engelman + Em Papineau\n● The Echoes of Africa Dance Collective\n● BOiNK! Dance & Film\n● The DynamitExperience\n● Rachel Lieblein-Jurbala\n● The Jamal Jackson Dance Company \nWestFest is produced by the Westbeth Artists’ Residents Council. \nTickets: FREE\nRegistration Link: www.westfestdance.com/tickets\nTime: Tours run from 1:30PM – 3PM\nRunning Time: 1 hour per tour \nLocation: Entrance at 155 Bank St\, New York\, NY 10014 \nCOVID Policy: Audience Members are required to wear masks indoors \nAbout Westbeth\nFounded in 1970\, Westbeth Artists Housing is a nonprofit housing and commercial complex dedicated to providing affordable living and working space for artists and arts organizations in New York City. The Richard Meier-designed complex located on West and Bethune Streets in the heart of the West Village has provided 383 units of affordable housing and studio space since it opened 51 years ago. Over the course of its history\, Westbeth has been home to a number of influential artists\, musicians and performers\, and played an important role in supporting and sustaining the creative community in New York and beyond.
URL:https://westbeth.org/event/westfest-dance-festival-2022/
LOCATION:Westbeth’s Halls and Corridors.   See NY1 Interview!\, !55 Bank Street\, New York\, United States
CATEGORIES:past-events
ATTACH;FMTTYPE=image/jpeg:https://westbeth.org/wp-content/uploads/2022/04/WESTEST-2022-sold-out_SQ-OUTSIDE_POSTER_FINAL.jpg
END:VEVENT
BEGIN:VEVENT
DTSTART;TZID=America/New_York:20220422T190000
DTEND;TZID=America/New_York:20220422T200000
DTSTAMP:20260423T231222
CREATED:20220416T011048Z
LAST-MODIFIED:20220427T142339Z
UID:10000024-1650654000-1650657600@westbeth.org
SUMMARY:Westbeth Movie Night: What Happened\, Miss Simone?
DESCRIPTION:Friday April 22\, 2022 at 7PM\nWestbeth Community Room\n155 Bank Street (enter through courtyard)\nNew York\, NY\nMasks are recommended\, Room capacity 74 \nWhat Happened\, Miss Simone? is a 2015 American biographical documentary film about Nina Simone directed by Liz Garbus. The film opened the 2015 Sundance Film Festival. The screening was followed by a tribute performance by John Legend.[1] The film was released by Netflix on June 26\, 2015. It was nominated for Best Documentary Feature at the 88th Academy Awards. \nMichael Hogan wrote for Vanity Fair that\, “The risk of making a documentary of a towering artist is that\, by explaining her\, you only end up diminishing her. Not Nina Simone—not this time. In Liz Garbus’s telling\, Simone’s talent and personality shine through\, as gloriously singular\, and uncontrollable\, as ever.” \nManohla Dargis of The New York Times cited the film’s relevance\, calling it an “often electric\, bracingly urgent documentary.
URL:https://westbeth.org/event/westbeth-movie-night-what-happened-miss-simone/
LOCATION:Westbeth Community Room
CATEGORIES:past-events
ATTACH;FMTTYPE=image/jpeg:https://westbeth.org/wp-content/uploads/2022/04/WETBETH-MOVIE-SQ-What-Happened-Miss-Simone-poster-gold-SQUARE.jpg
END:VEVENT
END:VCALENDAR