BEGIN:VCALENDAR
VERSION:2.0
PRODID:-//Westbeth - ECPv6.15.20//NONSGML v1.0//EN
CALSCALE:GREGORIAN
METHOD:PUBLISH
X-ORIGINAL-URL:https://westbeth.org
X-WR-CALDESC:Events for Westbeth
REFRESH-INTERVAL;VALUE=DURATION:PT1H
X-Robots-Tag:noindex
X-PUBLISHED-TTL:PT1H
BEGIN:VTIMEZONE
TZID:America/New_York
BEGIN:DAYLIGHT
TZOFFSETFROM:-0500
TZOFFSETTO:-0400
TZNAME:EDT
DTSTART:20220313T070000
END:DAYLIGHT
BEGIN:STANDARD
TZOFFSETFROM:-0400
TZOFFSETTO:-0500
TZNAME:EST
DTSTART:20221106T060000
END:STANDARD
BEGIN:DAYLIGHT
TZOFFSETFROM:-0500
TZOFFSETTO:-0400
TZNAME:EDT
DTSTART:20230312T070000
END:DAYLIGHT
BEGIN:STANDARD
TZOFFSETFROM:-0400
TZOFFSETTO:-0500
TZNAME:EST
DTSTART:20231105T060000
END:STANDARD
BEGIN:DAYLIGHT
TZOFFSETFROM:-0500
TZOFFSETTO:-0400
TZNAME:EDT
DTSTART:20240310T070000
END:DAYLIGHT
BEGIN:STANDARD
TZOFFSETFROM:-0400
TZOFFSETTO:-0500
TZNAME:EST
DTSTART:20241103T060000
END:STANDARD
END:VTIMEZONE
BEGIN:VEVENT
DTSTART;VALUE=DATE:20230930
DTEND;VALUE=DATE:20231001
DTSTAMP:20260424T054901
CREATED:20230720T153303Z
LAST-MODIFIED:20231003T231650Z
UID:10000377-1696032000-1696118399@westbeth.org
SUMMARY:West Side Fest!  Westbeth joins  in celebrating the West Side of Manhattan
DESCRIPTION:Westbeth is thrilled to be participating in the just-announced West Side Fest! \nWest Side Fest is a free daylong\, multi-site celebration bringing together the best of arts and culture on Manhattan’s West Side. For the inaugural festival on Saturday\, September 30\, 2023\, New Yorkers and visitors of all ages can enjoy free admission to participating museums and cultural institutions\, and free activities like special indoor and outdoor programming\, crafts and artmaking\, open artists studios\, puppet show\, and much more. \nFor more details\, including the full schedule\, visit  https://www.westsidefest.nyc/  \nSee Full WEST SIDE FEST Schedule Below \nFor more info on Westbeth events\, contact westsbethevents@gmail.com \nParticipating organizations: Atlantic Theater Company; Center for Art\, Research and Alliances; Chelsea Factory; Dia Chelsea; the High Line; Hudson River Park; The Joyce Theater; The Kitchen; The Lesbian\, Gay\, Bisexual & Transgender Community Center; Little Island; NYC AIDS Memorial; Poster House; Print Center New York; Rubin Museum of Art; The Shed; Westbeth; West Village Rehearsal Co-Op; White Columns; Whitney Museum of American Art. \nWestbeth Events\n11am\nSaturday Sept 30\nPenny Jones & CO Puppet Show\nPeppi and the Pop-Up Dragon is a puppet show inside a giant Pop-Up book. The sun rises and sets over a happy fishing village with bells that ring\, babies that are rocked\, and boats that go out to sea. But the town is threatened by the pop-up dragon from the Blue Mountain. Peppi and Peppina save the day with creativity\, co-operation and a happy lesson for all. The audience creates the sounds and songs\, and after the show\, everyone makes a simple puppet dragon to take home. This unique show premiered at the Henson International Puppet Festival. \nFor 50 years\, Penny Jones & Co. Puppets have charmed audiences in the West Village with their Old Time interactive puppet theater in an intimate space for young children. The company has appeared on television and all over New York from the Highline\, Parks and Piers\, to the Metropolitan Museum of Art and BAM. Penny Jones was awarded the Education Award from the Puppeteers of America and is a Westbeth Icon. https://pennypuppets.com \n1–5pm\nSaturday Sept 30\nWestbeth Open Studios\nWestbeth artists will be hosting open studio tours of their work/live spaces. \n1pm -5pm\nSaturday Sept 30\nArt+Craft+Vintage Market\nIn the Westbeth courtyard\, featuring some of Westbeth’s most notable artists\, as well as live music throughout the day\, featuring Sarah King!
URL:https://westbeth.org/event/west-side-fest-westbeth-joins-in-celebrating-west-side-of-manhattan/
CATEGORIES:past-events
ATTACH;FMTTYPE=image/png:https://westbeth.org/wp-content/uploads/2023/07/WEST-SIDE-OUTDOOR-SQ-Roger_fin5.png
END:VEVENT
END:VCALENDAR