BEGIN:VCALENDAR
VERSION:2.0
PRODID:-//Westbeth - ECPv6.15.20//NONSGML v1.0//EN
CALSCALE:GREGORIAN
METHOD:PUBLISH
X-ORIGINAL-URL:https://westbeth.org
X-WR-CALDESC:Events for Westbeth
REFRESH-INTERVAL;VALUE=DURATION:PT1H
X-Robots-Tag:noindex
X-PUBLISHED-TTL:PT1H
BEGIN:VTIMEZONE
TZID:America/New_York
BEGIN:DAYLIGHT
TZOFFSETFROM:-0500
TZOFFSETTO:-0400
TZNAME:EDT
DTSTART:20210314T070000
END:DAYLIGHT
BEGIN:STANDARD
TZOFFSETFROM:-0400
TZOFFSETTO:-0500
TZNAME:EST
DTSTART:20211107T060000
END:STANDARD
BEGIN:DAYLIGHT
TZOFFSETFROM:-0500
TZOFFSETTO:-0400
TZNAME:EDT
DTSTART:20220313T070000
END:DAYLIGHT
BEGIN:STANDARD
TZOFFSETFROM:-0400
TZOFFSETTO:-0500
TZNAME:EST
DTSTART:20221106T060000
END:STANDARD
BEGIN:DAYLIGHT
TZOFFSETFROM:-0500
TZOFFSETTO:-0400
TZNAME:EDT
DTSTART:20230312T070000
END:DAYLIGHT
BEGIN:STANDARD
TZOFFSETFROM:-0400
TZOFFSETTO:-0500
TZNAME:EST
DTSTART:20231105T060000
END:STANDARD
END:VTIMEZONE
BEGIN:VEVENT
DTSTART;TZID=America/New_York:20221208T180000
DTEND;TZID=America/New_York:20221208T193000
DTSTAMP:20260423T170506
CREATED:20221128T232958Z
LAST-MODIFIED:20221209T024414Z
UID:10000127-1670522400-1670527800@westbeth.org
SUMMARY:Village Preservation Panel at Westbeth Winter Show : Diana Jensen\, James Gortner\, Valerie Hallier\, Stephen Hall\, Christina Maile\, Mourrice Papi
DESCRIPTION:Thursday\, December 8\, 2022 6:00pm – 7:15pm\nIn-Person \nLocation: Westbeth Gallery\, 155 Bank St\, New York\, NY\nEnter through Courtyard \nFree\, Pre-Registration Required. Seating is limited. \nRegister Here:\n Village Preservation and Westbeth Panel \nBelatedly celebrating Westbeth Artists Housing’s 50th anniversary\, Westbeth Gallery’s Winter Show presents a selection of remarkable new work created by over 75 emerging and established Westbeth artists.  \nOn the evening of Thursday\, December 8th\, Village Preservation will invite our community to come visit the exhibition followed by a panel with artists from Westbeth to discuss this iconic Greenwich Village institution\, its history\, the importance of its preservation\, and the work of artists in this unique space.  \nThe Winter Show is dedicated to the ability of art to transform lives. \nDiana Jensen makes paintings on mylar and plexiglass that reference found vernacular photographs from the 1960s to the present day. Her current project\, World Traveler / Shelter at Home\, is inspired by a vast vintage travel slide collection.  \nPainter James Gortner paints in a tempest of styles ranging from realism to abstraction and incorporates found objects and images from found paintings and crafts into his work as vehicles for contemplation of metaphysics\, transformation and self expression. \nBorn in Paris\, France\, Valérie Hallier came to New York with a Fulbright scholarship\, graduated from SVA in Computer Arts and since then\, her multimedia work has received prizes and is shown in Europe and in the US. \nStephen Hall is a self taught painter from Aberdeen\, Scotland\, who’s work for the past several years has been focused on climate change\, loss of habitat and general crisis facing our planet. \nChristina Maile is of Dayak and West Indian descent\, and trained as a landscape architect\, her writing and visual work references colonialism\, feminism and extinction. \nMourrice Papi is the Gallery Director and Visual Arts Chair for the Westbeth Artists Residents Council.
URL:https://westbeth.org/event/village-preservation-panel-at-westbeth-winter-show-diana-jensen-james-gortner-valerie-hallier-stephen-hall-christina-maile-mourrice-papi/
LOCATION:Westbeth Gallery
CATEGORIES:past-events
ATTACH;FMTTYPE=image/png:https://westbeth.org/wp-content/uploads/2022/11/Village-Preservation-with-Christina-etc_.png
GEO:40.737051566887;-74.009218415339
END:VEVENT
END:VCALENDAR