BEGIN:VCALENDAR
VERSION:2.0
PRODID:-//Westbeth - ECPv6.15.20//NONSGML v1.0//EN
CALSCALE:GREGORIAN
METHOD:PUBLISH
X-ORIGINAL-URL:https://westbeth.org
X-WR-CALDESC:Events for Westbeth
REFRESH-INTERVAL;VALUE=DURATION:PT1H
X-Robots-Tag:noindex
X-PUBLISHED-TTL:PT1H
BEGIN:VTIMEZONE
TZID:America/New_York
BEGIN:DAYLIGHT
TZOFFSETFROM:-0500
TZOFFSETTO:-0400
TZNAME:EDT
DTSTART:20230312T070000
END:DAYLIGHT
BEGIN:STANDARD
TZOFFSETFROM:-0400
TZOFFSETTO:-0500
TZNAME:EST
DTSTART:20231105T060000
END:STANDARD
BEGIN:DAYLIGHT
TZOFFSETFROM:-0500
TZOFFSETTO:-0400
TZNAME:EDT
DTSTART:20240310T070000
END:DAYLIGHT
BEGIN:STANDARD
TZOFFSETFROM:-0400
TZOFFSETTO:-0500
TZNAME:EST
DTSTART:20241103T060000
END:STANDARD
BEGIN:DAYLIGHT
TZOFFSETFROM:-0500
TZOFFSETTO:-0400
TZNAME:EDT
DTSTART:20250309T070000
END:DAYLIGHT
BEGIN:STANDARD
TZOFFSETFROM:-0400
TZOFFSETTO:-0500
TZNAME:EST
DTSTART:20251102T060000
END:STANDARD
BEGIN:DAYLIGHT
TZOFFSETFROM:-0500
TZOFFSETTO:-0400
TZNAME:EDT
DTSTART:20260308T070000
END:DAYLIGHT
BEGIN:STANDARD
TZOFFSETFROM:-0400
TZOFFSETTO:-0500
TZNAME:EST
DTSTART:20261101T060000
END:STANDARD
BEGIN:DAYLIGHT
TZOFFSETFROM:-0500
TZOFFSETTO:-0400
TZNAME:EDT
DTSTART:20270314T070000
END:DAYLIGHT
BEGIN:STANDARD
TZOFFSETFROM:-0400
TZOFFSETTO:-0500
TZNAME:EST
DTSTART:20271107T060000
END:STANDARD
END:VTIMEZONE
BEGIN:VEVENT
DTSTART;TZID=America/New_York:20260326T123000
DTEND;TZID=America/New_York:20260326T140000
DTSTAMP:20260423T075454
CREATED:20260218T224255Z
LAST-MODIFIED:20260331T223342Z
UID:10000967-1774528200-1774533600@westbeth.org
SUMMARY:Watch an Open Workshop of You're Never Too Old to Play
DESCRIPTION:Thursday March 26\, 2026 12:30 – 2pm \nWestbeth Community Space\n155 Bank St\n(enter through courtyard)\nNew York\, NY 10014 \nAfter the success of ABOVE GROUND – NOT EXACTLY A COMEDY on the theme of AGING\, at La Mama Experimental Theatre Club in 2025\,You’re Never Too Old to Play – An Acting workshop for Seniors\, is working on a new piece on the theme of DEPARTURE. \nWe invite you to join us to observe an OPEN WORKSHOP on Thursday March 26 th from 12:30 – 2:00 PM in the Westbeth Community Room: \nIMPROVISATION\, WORK-IN-PROGRESS STORIES\nand a\nREADING of a SHORT PLAY BY BERTOLT BRECHT by the conductors of the workshop\nNANCY GABOR AND PAUL BINNERTS: THE JEWISH WIFE. A PIECE FOR THE TIME WE LIVE IN. \nReview of Aging at La Mama by Edward Kliszus\n“…actors do not pretend; they are. They acknowledge the audience\, inviting them into their world rather than asking them to suspend disbelief. The stage is not a place of illusion but a living space where truth materializes without pretense. In this environment\, every movement\, every breath\, every interaction becomes significant—an authentic exchange between performer and observer.”\n“The Artists Behind the Experience\nNancy Gabor\, a distinguished director and theater educator\, brings decades of experience to the project. A former member of Joseph Chaikin’s Open Theater\, she was pivotal in developing experimental works like The Serpent. Her collaborations with luminaries such as Andrei Serban and Sam Shepard have cemented her legacy in avant-garde theater.\n‘Paul Binnerts\, co-director\, and Real-Time Acting theorist\, has spent his career exploring performance’s intersection with reality. His European award-winning productions\, including Black Box and The Same Sea\, reflect his commitment to theater that challenges and engages. His seminal work\, Acting in Real Time\, is a foundational text for this performance genre.
URL:https://westbeth.org/event/watch-an-open-workshop-of-youre-never-too-old-to-play/
LOCATION:Westbeth Community Room
CATEGORIES:past-events
ATTACH;FMTTYPE=image/jpeg:https://westbeth.org/wp-content/uploads/2026/02/YOUR-SQ-NEVER-TOO-OLD-.jpg
END:VEVENT
BEGIN:VEVENT
DTSTART;VALUE=DATE:20240820
DTEND;VALUE=DATE:20241001
DTSTAMP:20260423T075454
CREATED:20240823T170337Z
LAST-MODIFIED:20240919T162048Z
UID:10000579-1724112000-1727740799@westbeth.org
SUMMARY:You're Never Too Old to Play : Free Acting Workshop for Actors and Non Actors Ages 40+
DESCRIPTION:You’re Never Too Old to Play Current  Cast ..Click to enlarge \nYOU'RE NEVER TOO OLD TO PLAY started as an acting workshop 5 years ago for seniors of 65 and older. It was open to actors and non-actors alike. We now wantto expand the group and invite new participants. \nIn the past five years we have made three pieces\, two of which we performed at\nthe Glade\, the small theatre on Little Island. The third one\, based on the theme of aging and entitled ABOVE GROUND (Not Exactly a Comedy)\, we performed in the Community Room of Westbeth\, where it was met with great enthusiasm by the audience. \nTo explore intergenerational dynamics\, and to create a new piece\, we are opening the group up to ages 40-60 years\, along with some new seniors as well.  \n\n\nNANCY GABOR and PAUL BINNERTS\, directors/acting teachers of YOU’RE NEVER\nTOO OLD TO PLAY\, are inviting interested people to join the group for a project based on a theme yet to be defined. The theme will appeal to both participating generations. \nThe work will focus on physical and vocal exercises\, and improvisations\nemphasizing play and ensemble (Nancy's Core Technique)\, and crafting a story (Paul's Acting in Real Time). Central in this work is the presence of the actor.\nWe will conduct a workshop from October to Christmas\, for new members\, to get to know the group and to integrate into it. Commitment is necessary. After New Year 2025\, we plan to start on the new project. \nThe group meets once a week\, on Thursdays\, from 11 AM to 2 PM. \nfor more information and an interview please contact:gaborworks@gmail.com \nYou’re Never Too Old To Have Fun! Photos  by Calla Kessler
URL:https://westbeth.org/event/youre-never-too-old-to-play-free-acting-workshop-for-actors-and-non-actors-ages-40/
LOCATION:Westbeth
CATEGORIES:past-events
ATTACH;FMTTYPE=image/jpeg:https://westbeth.org/wp-content/uploads/2024/08/YNTOP-ACTING-ANNOUNCEMENT.jpg
END:VEVENT
BEGIN:VEVENT
DTSTART;TZID=America/New_York:20240620T190000
DTEND;TZID=America/New_York:20240622T200000
DTSTAMP:20260423T075454
CREATED:20240313T000236Z
LAST-MODIFIED:20240624T020622Z
UID:10000529-1718910000-1719086400@westbeth.org
SUMMARY:You're Never Too Old to Play presents: Above Ground (Not Exactly a Comedy)
DESCRIPTION:Thursday  June 20\, 2024 at 12:30pm\nFriday    June 21\, 2024 at 7pm\nSaturday  June 22\, 2024 at 7pm \nWestbeth Community Room\n155 Bank St\nenter through courtyard\nNew York\, NY \nYOU’RE NEVER TOO OLD TO PLAY\, an improvisational\, story-telling acting-workshop for\nseniors at Westbeth Center for the Arts\, presents ABOVE GROUND (NOT EXACTLY A COMEDY)   \nDIRECTED BY Nancy Gabor and Paul Binnerts \nFEATURING: Illana Abramovitch\, Christina Koenig\, Sally Plass\, Susan Binet\, Harold\nThomas\, Lorraine Marx Singer\, Joanne Riel\, Jonathan Ned Katz\, Nora Galer. \nConducted by international theater directors and acting teachers Nancy Gabor and Paul\nBinnerts\, the group\, ages 74-98\, has been together for almost five years and has presented\nwork on different themes at WESTBETH and at LITTLE ISLAND. The new piece explores\nthrough improvisation\, music and dance\, the process of getting older with humor and love\,\nsharing childhood memories along with present issues of aging. \nAmong Nancy’s credits: collaborator with Joseph Chaikin and Sam Shepard; director of over 100\nplays in NYC and abroad.\nPaul\, a renowned Dutch stage director\, playwright and teacher\n(awards: Theatertreffen 2006\, Halle/Berlin for The Same Sea\, Theaterfestival 2006\, Amsterdam\nfor Mephisto) is the author of Acting in Real Time\, University of Michigan Press (2012).\nNancy and Paul are long time Westbeth residents.
URL:https://westbeth.org/event/youre-never-too-old-to-play-presents-above-ground/
LOCATION:Westbeth Community Room
CATEGORIES:past-events
ATTACH;FMTTYPE=image/jpeg:https://westbeth.org/wp-content/uploads/2024/04/Above-Ground-SQUARE.jpeg
END:VEVENT
END:VCALENDAR