BEGIN:VCALENDAR
VERSION:2.0
PRODID:-//Westbeth - ECPv6.15.20//NONSGML v1.0//EN
CALSCALE:GREGORIAN
METHOD:PUBLISH
X-ORIGINAL-URL:https://westbeth.org
X-WR-CALDESC:Events for Westbeth
REFRESH-INTERVAL;VALUE=DURATION:PT1H
X-Robots-Tag:noindex
X-PUBLISHED-TTL:PT1H
BEGIN:VTIMEZONE
TZID:America/New_York
BEGIN:DAYLIGHT
TZOFFSETFROM:-0500
TZOFFSETTO:-0400
TZNAME:EDT
DTSTART:20240310T070000
END:DAYLIGHT
BEGIN:STANDARD
TZOFFSETFROM:-0400
TZOFFSETTO:-0500
TZNAME:EST
DTSTART:20241103T060000
END:STANDARD
BEGIN:DAYLIGHT
TZOFFSETFROM:-0500
TZOFFSETTO:-0400
TZNAME:EDT
DTSTART:20250309T070000
END:DAYLIGHT
BEGIN:STANDARD
TZOFFSETFROM:-0400
TZOFFSETTO:-0500
TZNAME:EST
DTSTART:20251102T060000
END:STANDARD
BEGIN:DAYLIGHT
TZOFFSETFROM:-0500
TZOFFSETTO:-0400
TZNAME:EDT
DTSTART:20260308T070000
END:DAYLIGHT
BEGIN:STANDARD
TZOFFSETFROM:-0400
TZOFFSETTO:-0500
TZNAME:EST
DTSTART:20261101T060000
END:STANDARD
END:VTIMEZONE
BEGIN:VEVENT
DTSTART;TZID=America/New_York:20250510T190000
DTEND;TZID=America/New_York:20250511T170000
DTSTAMP:20260423T185111
CREATED:20250430T205641Z
LAST-MODIFIED:20250511T195443Z
UID:10000765-1746903600-1746982800@westbeth.org
SUMMARY:Jenny Tango Women of Chelm book  brought to life with  puppets\, dance  and music
DESCRIPTION:Click to enlarge  Saturday May 10 at 7pm  and Sunday May 11 at 2 pm \nReal-life mother-daughter duo\, Suzanne Bernstein and Miryam Coppersmith bring the eccentric women of Jenny Tango’s 1991 artist’s book\, Women of Chelm to life through theater\, dance\, music and puppets! \nWestbeth Community Room\n155 Bank Street\nenter through courtyard\nNew York\, NY 10014 \nTickets:\nGeneral Admission $18\nStudent/Senio $10 \nAbout Jenny Tango\n“If art is autobiography\, then it seems that I have truly been an artist since childhood. The funny pages of newspapers and the movies that I saw Saturday mornings at the local theater were my first teachers of visual media. I discovered painting in Music and Art High School and the Bauhaus in Cooper Union and Brooklyn College. After I got my BFA\, I spent two years painting abstractly\, but I found it too limiting. One discovered an individual visual idea that was a sort of signature and repeated it endlessly. The probing\, discovering\, and ascertaining of an aspect of reality that figuration offered seemed more challenging.\nWhen the 1970s ushered in the Feminist Art Movement\, I discovered that what I was already doing had a name. . \nhttps://westbeth.org/artist-page/jenny-tango-painter/
URL:https://westbeth.org/event/jenny-tango-women-of-chelm-brought-to-life/
LOCATION:Westbeth Community Room
CATEGORIES:past-events
ATTACH;FMTTYPE=image/png:https://westbeth.org/wp-content/uploads/2025/04/WoC-Flyer-outside_20250413_133339_0000.png
END:VEVENT
END:VCALENDAR