BEGIN:VCALENDAR
VERSION:2.0
PRODID:-//Westbeth - ECPv6.15.20//NONSGML v1.0//EN
CALSCALE:GREGORIAN
METHOD:PUBLISH
X-ORIGINAL-URL:https://westbeth.org
X-WR-CALDESC:Events for Westbeth
REFRESH-INTERVAL;VALUE=DURATION:PT1H
X-Robots-Tag:noindex
X-PUBLISHED-TTL:PT1H
BEGIN:VTIMEZONE
TZID:America/New_York
BEGIN:DAYLIGHT
TZOFFSETFROM:-0500
TZOFFSETTO:-0400
TZNAME:EDT
DTSTART:20240310T070000
END:DAYLIGHT
BEGIN:STANDARD
TZOFFSETFROM:-0400
TZOFFSETTO:-0500
TZNAME:EST
DTSTART:20241103T060000
END:STANDARD
BEGIN:DAYLIGHT
TZOFFSETFROM:-0500
TZOFFSETTO:-0400
TZNAME:EDT
DTSTART:20250309T070000
END:DAYLIGHT
BEGIN:STANDARD
TZOFFSETFROM:-0400
TZOFFSETTO:-0500
TZNAME:EST
DTSTART:20251102T060000
END:STANDARD
BEGIN:DAYLIGHT
TZOFFSETFROM:-0500
TZOFFSETTO:-0400
TZNAME:EDT
DTSTART:20260308T070000
END:DAYLIGHT
BEGIN:STANDARD
TZOFFSETFROM:-0400
TZOFFSETTO:-0500
TZNAME:EST
DTSTART:20261101T060000
END:STANDARD
END:VTIMEZONE
BEGIN:VEVENT
DTSTART;TZID=America/New_York:20251123T183000
DTEND;TZID=America/New_York:20251123T200000
DTSTAMP:20260423T150555
CREATED:20251117T014519Z
LAST-MODIFIED:20251126T165323Z
UID:10000913-1763922600-1763928000@westbeth.org
SUMMARY:Wolfenoot Performance / Ritual Written by Tamara Wyndham
DESCRIPTION:A celebration of wolves and the wolf within us. The ritual is written by Tamara Wyndham. \nSunday\, November 23rd\, 6:30 pm\nWestbeth Community Space 155 Bank St\n(enter through courtyard)\,\nNew York\, NY 10014. \n$15 donation \nThe holiday of Wolfenoot was created by a 7-year-old boy from New Zealand in 2018.\nA ritual of joy and release to bring out your inner wild wolf! Come howl with us\, experience the dance of the Wolf Spirit\, witness a body printing\, hear the story and song of La Loba\, and be blessed with full moon water.\nPotluck dinner afterwards. Bring what you love to eat and drink; but in the spirit of the wolf\, meat and vegetarian/vegan meat substitutes are encouraged. \nPerforming:\nBreadpussy – dance\nKelvin Daly – music on an instrument of his own design\nEric Blitz – drums\nJennifer Gonzalez Blitz – storytelling and singing\nTamara Wyndham – body printing
URL:https://westbeth.org/event/wolfenoot-performance-ritual-written-by-tamara-wyndham/
LOCATION:Westbeth Community Room
CATEGORIES:past-events
ATTACH;FMTTYPE=image/jpeg:https://westbeth.org/wp-content/uploads/2025/11/Wolfenoot-Banner-for-Insta.jpg
END:VEVENT
END:VCALENDAR