BEGIN:VCALENDAR
VERSION:2.0
PRODID:-//Westbeth - ECPv6.15.20//NONSGML v1.0//EN
CALSCALE:GREGORIAN
METHOD:PUBLISH
X-ORIGINAL-URL:https://westbeth.org
X-WR-CALDESC:Events for Westbeth
REFRESH-INTERVAL;VALUE=DURATION:PT1H
X-Robots-Tag:noindex
X-PUBLISHED-TTL:PT1H
BEGIN:VTIMEZONE
TZID:America/New_York
BEGIN:DAYLIGHT
TZOFFSETFROM:-0500
TZOFFSETTO:-0400
TZNAME:EDT
DTSTART:20210314T070000
END:DAYLIGHT
BEGIN:STANDARD
TZOFFSETFROM:-0400
TZOFFSETTO:-0500
TZNAME:EST
DTSTART:20211107T060000
END:STANDARD
BEGIN:DAYLIGHT
TZOFFSETFROM:-0500
TZOFFSETTO:-0400
TZNAME:EDT
DTSTART:20220313T070000
END:DAYLIGHT
BEGIN:STANDARD
TZOFFSETFROM:-0400
TZOFFSETTO:-0500
TZNAME:EST
DTSTART:20221106T060000
END:STANDARD
BEGIN:DAYLIGHT
TZOFFSETFROM:-0500
TZOFFSETTO:-0400
TZNAME:EDT
DTSTART:20230312T070000
END:DAYLIGHT
BEGIN:STANDARD
TZOFFSETFROM:-0400
TZOFFSETTO:-0500
TZNAME:EST
DTSTART:20231105T060000
END:STANDARD
BEGIN:DAYLIGHT
TZOFFSETFROM:-0500
TZOFFSETTO:-0400
TZNAME:EDT
DTSTART:20240310T070000
END:DAYLIGHT
BEGIN:STANDARD
TZOFFSETFROM:-0400
TZOFFSETTO:-0500
TZNAME:EST
DTSTART:20241103T060000
END:STANDARD
BEGIN:DAYLIGHT
TZOFFSETFROM:-0500
TZOFFSETTO:-0400
TZNAME:EDT
DTSTART:20250309T070000
END:DAYLIGHT
BEGIN:STANDARD
TZOFFSETFROM:-0400
TZOFFSETTO:-0500
TZNAME:EST
DTSTART:20251102T060000
END:STANDARD
END:VTIMEZONE
BEGIN:VEVENT
DTSTART;TZID=America/New_York:20241015T090000
DTEND;TZID=America/New_York:20241015T150000
DTSTAMP:20260423T130753
CREATED:20240723T172006Z
LAST-MODIFIED:20241022T235430Z
UID:10000657-1728982800-1729004400@westbeth.org
SUMMARY:Community Partner Whitney Museum Older Adults Day
DESCRIPTION:Click to enlarge  Tuesday Oct 15\, 2024\n9:30am – 3:00pm\nOpen to older adults  50+  \nMore Info at : Whitney Museum Older Adults Day \n“Museum Lobby\nJoin us for the return of Older Adults Day at the Whitney! Older adults are invited to visit the Museum during special hours open only to them and enjoy special programming.   \nThe day kicks off with a welcome breakfast from 9:30–10:30 am co-sponsored by Manhattan Borough President Mark Levine\, Congressman Dan Goldman\, Senator Brad Hoylman-Sigal\, Assembly Member Deborah Glick and Council Member Erik Bottcher. Join your neighbors for a light buffet breakfast before exploring the Museum. Breakfast is free but advance registration is requested. Register today online here.  \nDuring this event attendees are invited to explore the Museum’s galleries on their own or participate in a free guided tour of the groundbreaking Edges of Ailey exhibition. In addition\, guests are invited to enjoy exploring Survival Piece #5: Portable Orchard and ask Whitney Museum experts about the trees.  \nThis day will also feature drop-in artmaking and a special Alvin Ailey Dance Class: AileyDance for Active Aging from 11 am–12 pm. Join us for dance and conversation and learn about Alvin Ailey’s masterwork Revelations.  \nREGISTER FOR THE ACTIVE AGING DANCE CLASS HERE \nProject CART Free Transportation services available at the following locations and times:  \nMorning pick-up: \n9 am: Loisaida\, Inc. 710 E 9 Street. New York\, NY 10009\n9 am: Greenwich House (Westbeth). 55 Bethune St\n9 am: Greenwich House (Washington Square). 20 Washington St N\n9 am: Penn South for Seniors. 290 9th Ave\n9:30 am: Hudson Guild. Elliot Center is 441 W 26th St  \nMorning Whitney Departure: \n12:15 pm: Loisaida\, Inc. 710 E 9 Street. New York\, NY 10009.\n12:15 pm: Greenwich House (Westbeth). 55 Bethune St\n12:15 pm: Greenwich House (Washington Square). 20 Washington St N\n12:15 pm: Penn South for Seniors. 290 9th Ave\n12:45 pm: Hudson Guild. Elliot Center is 441 W 26th St  \nAfternoon pick-up: \n1 pm: Loisaida\, Inc. 710 E 9 Street. New York\, NY 10009\n1 pm: Greenwich House (Washington Square). 20 Washington St N\n1 pm: Penn South for Seniors. 290 9th Ave\n1:30 pm: Hudson Guild. Elliot Center is 441 W 26th St  \nAfternoon Whitney Departure:\n3 pm for all locations except for Greenwich House (Westbeth)  \nWe look forward to seeing you there! “
URL:https://westbeth.org/event/whitney-museum-older-adults-day/
LOCATION:Whitney Museum of American Art\, New York\, NY
CATEGORIES:past-events
ATTACH;FMTTYPE=image/png:https://westbeth.org/wp-content/uploads/2024/09/WHINE-Y-OLDER-ADULTS-DAY-copy.png
END:VEVENT
BEGIN:VEVENT
DTSTART;TZID=America/New_York:20240629T130000
DTEND;TZID=America/New_York:20240717T180000
DTSTAMP:20260423T130753
CREATED:20240310T190937Z
LAST-MODIFIED:20240718T125715Z
UID:10000547-1719666000-1721239200@westbeth.org
SUMMARY:WHITNEY STAFF ONLY  ART SHOW
DESCRIPTION:CLICK TO ENLARGE \nJune 29 – July 17\, 2024 \nFree and open to the public \nWestbeth Gallery\n55 Bethune Street\nNew York\, NY 10014 \nWednesday–Sunday\, 1–6 pm \nFrom its origins in Gertrude Vanderbilt Whitney’s Greenwich Village studio in 1914 to its relocation to the Meatpacking District in 2015\, the Whitney Museum of American Art has always sought to support living artists at critical moments in their careers. \nMany of the Museum’s staff members\, who make the Museum’s exhibitions\, programs\, publications\, and day-to-day operations possible\, are artists themselves. For the seventh time in its history\, the Whitney Staff Art Show will be held in a public space\, offering staff an opportunity to share their work and deepen connections with one another as well as a wider public audience. \nFor the seventh year in a row\, the Whitney’s Staff Art Show will be held in a public space\, offering staff an opportunity to share their work and deepen connections with one another as well as a wider audience. This year’s exhibition will include the work of over ninety artists\, presenting a wide range of mediums\, including painting\, sculpture\, drawing\, photography\, printmaking\, collage\, and video\, and reflecting the diversity of artistic practice among the Whitney’s talented staff. \nSTAFF ONLY is organized by colleagues from various departments throughout the Museum.  \nThe exhibition is free and open to the public\, Wednesdays through Sundays from 1 to 6 p.m.and will be part of West Side Fest\, a celebration of arts and culture on the West Side of Manhattan\, July 12–14.2024 \nArtist Participants \nRamon Cintron\nalondra acevedo\nCrystal Aguila Morales\nFidel Alleyne\nStephanie Alifano\nScarlet-Frances Alonzo\nAlyssa Andrews\nMax Bell\nAnna Bida\nCorey Braxton\nMitsuko Brooks\nNatalee Cayton\nJaqueline Cedar\nViridiana Choy\nAseeli Coleman\nSpencer Compton\nHeather Cox\nKeira DiGaetano\nKasim Earl\nShanique Emelife\nDavid Ertel\nSarah Fortini\nDebora Francis\nMelinda Freudenberger\nEmma Gabel\nBehrang Garakani\nKarina B. García Labrana\nJohn Gaudio\nJesse Gelaznik\nAlana Giarrano Oula\nClaire Golder\nNora Gomez-Strauss\nAbigail Hack\nFelicia Huguley\nJunichiro Ishida\nEmily Jacoby\nArmando Jaramillo Garcia\nJennifer Jhagroo\nCaitlin Jones\nChris Ketchie\nKIKIISUN\nTom Koehler\nTom Kotik\nDenise Kupferschmidt\nCaroline LaCava\nMidrene Lamy\nMeredith Lawhead\nDavid Liburd\nRob Lomblad\nIris Ward Loughran\nEleanor Lovinsky\nJonita Luti\nDoug Madill\nGenevieve Martinez\nElissa Medina\nKristyna and Marek Milde\nVictor Moscoso\nMeer Musa\nWilliam Norton\nMeg O’Brien\nJustin Ortiz\nJason Philliips\nAnna Piwowar\nEliza Proctor\nGreg Reynolds\nMelissa Robles\nVíctor Ignacio\nJoshua Rosenblatt\nLynnette Therese Sauer\nLisa Saunders\nJosephine Schoen\nLaura Schwarz\nIrene Shifman\nElisabeth Skjærvold\nJim SKULDT\nNathan J. Smith\nEve Soleil\nCree Solomon\nNatalia Sterling\nJosephine Tam\nAdin Tannin\nSarika Tatineni Doppalapudi\nJoseph Teliha\nEva Tenby\nDavid Tufino\nKhaleiah Vasquez\nYuYu Vega\nEric Vermilion\nCynthia Laureen Vogt\nJosh Wertheimer\nChristine Zheng\n 
URL:https://westbeth.org/event/whitney-staff-only-art-show/
LOCATION:Westbeth Gallery
CATEGORIES:past-events
ATTACH;FMTTYPE=image/png:https://westbeth.org/wp-content/uploads/2024/06/WMAA_Staff-Only_SQ-Social_FINAL_240613.png
GEO:40.737051566887;-74.009218415339
END:VEVENT
BEGIN:VEVENT
DTSTART;VALUE=DATE:20220930
DTEND;VALUE=DATE:20221001
DTSTAMP:20260423T130753
CREATED:20220910T130954Z
LAST-MODIFIED:20221209T024929Z
UID:10000101-1664496000-1664582399@westbeth.org
SUMMARY:Juanita McNeely artist in PRINT PAINT show makes debut at Whitney Museum
DESCRIPTION:Juanita McNeely “Is It Real? Yes It Is” 1969 \n“For 90 years of its existence\, the Whitney Museum of American Art did not own a single painting that explicitly deals with abortion. But that has changed. The museum recently purchased Juanita McNeely’s “Is it Real? Yes It Is!” (1969)\, a mural-sized painting that recounts\, in a fragmented narrative spanning nine separate panels\, her harrowing experience of having an abortion in the early ’60s\, when the procedure was illegal. The painting will make its museum debut on Sept. 20\, when the Whitney rehangs its permanent collection. \nIn recent years\, a fashion for painting the human figure has preoccupied the art world\, with an emphasis on race\, gender and other urgent social issues. Yet another pressing topic in America has been curiously absent from art: abortion\, which became all the more timely when the Supreme Court overturned Roe v. Wade in June. \nDepictions of abortion are still rare in the art-history canon. Check the walls of museums and flip through the pages of H.W. Janson or other art textbooks\, and you are likely to encounter countless images of beatific mothers\, dimpled infants and a world in which pregnancies are not terminated. \nBut the subject of abortion\, which historically was shrouded in shame and relegated to the realm of unspeakable secrets\, has lately been gaining visibility in the art world.” \n– Deborah Solomon\nNY Times\nSeptember 10\, 2022 \nRead the complete article: After Decades of Silence\, Art about Abortion (Cautiously) enters the Establishment \nJuanita Mc Neeley’s work can also be seen at the Westbeth Gallery in the Print Paint Show opening October 9\, 2022.  More info here: PRINT PAINT
URL:https://westbeth.org/event/juanita-mcneely/
LOCATION:Whitney Museum of American Art\, New York\, NY
CATEGORIES:past-events
ATTACH;FMTTYPE=image/jpeg:https://westbeth.org/wp-content/uploads/2022/09/JUANITA-MC-NEELEL.jpg
END:VEVENT
BEGIN:VEVENT
DTSTART;VALUE=DATE:20220515
DTEND;VALUE=DATE:20220516
DTSTAMP:20260423T130753
CREATED:20220402T021557Z
LAST-MODIFIED:20220825T185702Z
UID:10000016-1652572800-1652659199@westbeth.org
SUMMARY:Debra Jenks Participates in Whitney Biennial Installation
DESCRIPTION:Debra Jenks was selected to participate in Nayland Blakes’s project\, “Got an Art Problem\,” in the Whitney Biennial.  Her drawing is hung in the red room of the Whitney Museum of American Art and will remain up for the duration of the biennial.
URL:https://westbeth.org/event/debra-jenks/
LOCATION:Whitney Museum of American Art\, New York\, NY
CATEGORIES:past-events
ATTACH;FMTTYPE=image/jpeg:https://westbeth.org/wp-content/uploads/2022/05/DEBRA-JENKS-SQ-WHITNEY.jpg
END:VEVENT
END:VCALENDAR