BEGIN:VCALENDAR
VERSION:2.0
PRODID:-//Westbeth - ECPv6.15.20//NONSGML v1.0//EN
CALSCALE:GREGORIAN
METHOD:PUBLISH
X-ORIGINAL-URL:https://westbeth.org
X-WR-CALDESC:Events for Westbeth
REFRESH-INTERVAL;VALUE=DURATION:PT1H
X-Robots-Tag:noindex
X-PUBLISHED-TTL:PT1H
BEGIN:VTIMEZONE
TZID:America/New_York
BEGIN:DAYLIGHT
TZOFFSETFROM:-0500
TZOFFSETTO:-0400
TZNAME:EDT
DTSTART:20230312T070000
END:DAYLIGHT
BEGIN:STANDARD
TZOFFSETFROM:-0400
TZOFFSETTO:-0500
TZNAME:EST
DTSTART:20231105T060000
END:STANDARD
BEGIN:DAYLIGHT
TZOFFSETFROM:-0500
TZOFFSETTO:-0400
TZNAME:EDT
DTSTART:20240310T070000
END:DAYLIGHT
BEGIN:STANDARD
TZOFFSETFROM:-0400
TZOFFSETTO:-0500
TZNAME:EST
DTSTART:20241103T060000
END:STANDARD
BEGIN:DAYLIGHT
TZOFFSETFROM:-0500
TZOFFSETTO:-0400
TZNAME:EDT
DTSTART:20250309T070000
END:DAYLIGHT
BEGIN:STANDARD
TZOFFSETFROM:-0400
TZOFFSETTO:-0500
TZNAME:EST
DTSTART:20251102T060000
END:STANDARD
BEGIN:DAYLIGHT
TZOFFSETFROM:-0500
TZOFFSETTO:-0400
TZNAME:EDT
DTSTART:20260308T070000
END:DAYLIGHT
BEGIN:STANDARD
TZOFFSETFROM:-0400
TZOFFSETTO:-0500
TZNAME:EST
DTSTART:20261101T060000
END:STANDARD
END:VTIMEZONE
BEGIN:VEVENT
DTSTART;TZID=America/New_York:20251121T130000
DTEND;TZID=America/New_York:20251228T180000
DTSTAMP:20260423T113653
CREATED:20251019T224900Z
LAST-MODIFIED:20251228T185006Z
UID:10000861-1763730000-1766944800@westbeth.org
SUMMARY:Westbeth Winter Show 2025Video\, Images\, Participants
DESCRIPTION:WINTER SHOW WALKTHROUGH VIDEO\n \nSELECTED IMAGES FROM SHOW click on image to start slideshow\n\n\n\n		\n				\n						\n			\n								\n			\n		\n							\n			\n				\n						\n			\n								\n			\n		\n							\n			\n				\n						\n			\n								\n			\n		\n							\n			\n				\n						\n			\n								\n			\n		\n							\n			\n				\n						\n			\n								\n			\n		\n							\n			\n				\n						\n			\n								\n			\n		\n							\n			\n				\n						\n			\n								\n			\n		\n							\n			\n				\n						\n			\n								\n			\n		\n							\n			\n				\n						\n			\n								\n			\n		\n							\n			\n				\n						\n			\n								\n			\n		\n							\n			\n				\n						\n			\n								\n			\n		\n							\n			\n				\n						\n			\n								\n			\n		\n							\n			\n				\n						\n			\n								\n			\n		\n							\n			\n				\n						\n			\n								\n			\n		\n							\n			\n				\n						\n			\n								\n			\n		\n							\n			\n				\n						\n			\n								\n			\n		\n							\n			\n				\n						\n			\n								\n			\n		\n							\n			\n				\n						\n			\n								\n			\n		\n							\n			\n				\n						\n			\n								\n			\n		\n							\n			\n				\n						\n			\n								\n			\n		\n							\n			\n				\n						\n			\n								\n			\n		\n							\n			\n				\n						\n			\n								\n			\n		\n							\n			\n				\n						\n			\n								\n			\n		\n							\n			\n	\n	\n\n	\n		\n			\n\nDownload complete list of artists :\n2025 Westbeth Winter show artists \nNov 21 – Dec 28\, 2025\nOpening Reception: Friday Nov 21\, 2025 at 6pm – 8pm \nWestbeth Gallery\n55 Bethune St\nNYC 10014 \nWed – Sun 1pm – 6pm \nThe annual Westbeth Winter Show celebrates the recent work of Westbeth resident artists in all media: painting\, sculpture\, multimedia\, printmaking\, drawing and installation.
URL:https://westbeth.org/event/westbeth-winter-show-2025/
LOCATION:Westbeth Gallery
ATTACH;FMTTYPE=image/jpeg:https://westbeth.org/wp-content/uploads/2025/10/Westbeth-WINTER-SHOW-SQ.jpg
GEO:40.737051566887;-74.009218415339
END:VEVENT
BEGIN:VEVENT
DTSTART;TZID=America/New_York:20241123T130000
DTEND;TZID=America/New_York:20241228T180000
DTSTAMP:20260423T113654
CREATED:20241106T040600Z
LAST-MODIFIED:20241230T161145Z
UID:10000676-1732366800-1735408800@westbeth.org
SUMMARY:Westbeth Visual Artists Winter Show 2024
DESCRIPTION:Westbeth Gallery is OPEN on Thanksgiving Day \nShow Dates: Nov 23 – Dec 28\, 2024\nWed- Sun 1pm – 6pm \nCelebrated the recent work of of 100  Westbeth Visual Artists in photography\, fine art prints\, sculpture\, multi-media\, painting\, and installation. \nPhotos of Opening Night\nClick image to start slide show
URL:https://westbeth.org/event/westbeth-visual-artists-winter-show-2024/
LOCATION:Westbeth Gallery
CATEGORIES:past-events
ATTACH;FMTTYPE=image/jpeg:https://westbeth.org/wp-content/uploads/2024/11/WinterShow-SUE-THISEdited2_Online_1080_2024.jpg
GEO:40.737051566887;-74.009218415339
END:VEVENT
END:VCALENDAR