BEGIN:VCALENDAR
VERSION:2.0
PRODID:-//Westbeth - ECPv6.15.20//NONSGML v1.0//EN
CALSCALE:GREGORIAN
METHOD:PUBLISH
X-ORIGINAL-URL:https://westbeth.org
X-WR-CALDESC:Events for Westbeth
REFRESH-INTERVAL;VALUE=DURATION:PT1H
X-Robots-Tag:noindex
X-PUBLISHED-TTL:PT1H
BEGIN:VTIMEZONE
TZID:America/New_York
BEGIN:DAYLIGHT
TZOFFSETFROM:-0500
TZOFFSETTO:-0400
TZNAME:EDT
DTSTART:20240310T070000
END:DAYLIGHT
BEGIN:STANDARD
TZOFFSETFROM:-0400
TZOFFSETTO:-0500
TZNAME:EST
DTSTART:20241103T060000
END:STANDARD
BEGIN:DAYLIGHT
TZOFFSETFROM:-0500
TZOFFSETTO:-0400
TZNAME:EDT
DTSTART:20250309T070000
END:DAYLIGHT
BEGIN:STANDARD
TZOFFSETFROM:-0400
TZOFFSETTO:-0500
TZNAME:EST
DTSTART:20251102T060000
END:STANDARD
BEGIN:DAYLIGHT
TZOFFSETFROM:-0500
TZOFFSETTO:-0400
TZNAME:EDT
DTSTART:20260308T070000
END:DAYLIGHT
BEGIN:STANDARD
TZOFFSETFROM:-0400
TZOFFSETTO:-0500
TZNAME:EST
DTSTART:20261101T060000
END:STANDARD
END:VTIMEZONE
BEGIN:VEVENT
DTSTART;TZID=America/New_York:20250701T080000
DTEND;TZID=America/New_York:20251025T170000
DTSTAMP:20260423T132758
CREATED:20250627T013236Z
LAST-MODIFIED:20251009T190510Z
UID:10000807-1751356800-1761411600@westbeth.org
SUMMARY:$10 Food Bag Program  July - October Thank you Councilmember  Erik Bottcher
DESCRIPTION:
URL:https://westbeth.org/event/10-food-bag-at-westbeth-oac-greenwich-house/
LOCATION:Westbeth Older Adult Center/Greenwich House
CATEGORIES:past-events
ATTACH;FMTTYPE=image/png:https://westbeth.org/wp-content/uploads/2025/06/Food-Bag-SQ-Program_v82-1.png
END:VEVENT
BEGIN:VEVENT
DTSTART;TZID=America/New_York:20250226T110000
DTEND;TZID=America/New_York:20250226T153000
DTSTAMP:20260423T132758
CREATED:20250129T231112Z
LAST-MODIFIED:20250222T010010Z
UID:10000714-1740567600-1740583800@westbeth.org
SUMMARY:Free Haircuts and Puppy Therapy with Roberto Novo and Roberto Machitwo
DESCRIPTION:
URL:https://westbeth.org/event/free-haircuts-and-puppy-therapy-at-westberth-oac/
LOCATION:Westbeth Older Adult Center/Greenwich House
CATEGORIES:past-events
ATTACH;FMTTYPE=image/png:https://westbeth.org/wp-content/uploads/2025/01/Screenshot-2025-01-29-at-5.29.12-PM.png
END:VEVENT
END:VCALENDAR