BEGIN:VCALENDAR
VERSION:2.0
PRODID:-//Westbeth - ECPv6.15.20//NONSGML v1.0//EN
CALSCALE:GREGORIAN
METHOD:PUBLISH
X-ORIGINAL-URL:https://westbeth.org
X-WR-CALDESC:Events for Westbeth
REFRESH-INTERVAL;VALUE=DURATION:PT1H
X-Robots-Tag:noindex
X-PUBLISHED-TTL:PT1H
BEGIN:VTIMEZONE
TZID:America/New_York
BEGIN:DAYLIGHT
TZOFFSETFROM:-0500
TZOFFSETTO:-0400
TZNAME:EDT
DTSTART:20210314T070000
END:DAYLIGHT
BEGIN:STANDARD
TZOFFSETFROM:-0400
TZOFFSETTO:-0500
TZNAME:EST
DTSTART:20211107T060000
END:STANDARD
BEGIN:DAYLIGHT
TZOFFSETFROM:-0500
TZOFFSETTO:-0400
TZNAME:EDT
DTSTART:20220313T070000
END:DAYLIGHT
BEGIN:STANDARD
TZOFFSETFROM:-0400
TZOFFSETTO:-0500
TZNAME:EST
DTSTART:20221106T060000
END:STANDARD
BEGIN:DAYLIGHT
TZOFFSETFROM:-0500
TZOFFSETTO:-0400
TZNAME:EDT
DTSTART:20230312T070000
END:DAYLIGHT
BEGIN:STANDARD
TZOFFSETFROM:-0400
TZOFFSETTO:-0500
TZNAME:EST
DTSTART:20231105T060000
END:STANDARD
BEGIN:DAYLIGHT
TZOFFSETFROM:-0500
TZOFFSETTO:-0400
TZNAME:EDT
DTSTART:20240310T070000
END:DAYLIGHT
BEGIN:STANDARD
TZOFFSETFROM:-0400
TZOFFSETTO:-0500
TZNAME:EST
DTSTART:20241103T060000
END:STANDARD
BEGIN:DAYLIGHT
TZOFFSETFROM:-0500
TZOFFSETTO:-0400
TZNAME:EDT
DTSTART:20250309T070000
END:DAYLIGHT
BEGIN:STANDARD
TZOFFSETFROM:-0400
TZOFFSETTO:-0500
TZNAME:EST
DTSTART:20251102T060000
END:STANDARD
BEGIN:DAYLIGHT
TZOFFSETFROM:-0500
TZOFFSETTO:-0400
TZNAME:EDT
DTSTART:20260308T070000
END:DAYLIGHT
BEGIN:STANDARD
TZOFFSETFROM:-0400
TZOFFSETTO:-0500
TZNAME:EST
DTSTART:20261101T060000
END:STANDARD
BEGIN:DAYLIGHT
TZOFFSETFROM:-0500
TZOFFSETTO:-0400
TZNAME:EDT
DTSTART:20270314T070000
END:DAYLIGHT
BEGIN:STANDARD
TZOFFSETFROM:-0400
TZOFFSETTO:-0500
TZNAME:EST
DTSTART:20271107T060000
END:STANDARD
END:VTIMEZONE
BEGIN:VEVENT
DTSTART;TZID=America/New_York:20260324T190000
DTEND;TZID=America/New_York:20260324T203000
DTSTAMP:20260423T094638
CREATED:20260312T185115Z
LAST-MODIFIED:20260331T223645Z
UID:10000981-1774378800-1774384200@westbeth.org
SUMMARY:Westbeth Movie Night: Seven  20th Century Avant Garde Short Films
DESCRIPTION:Tuesday March 24\, 2026 FREE\n Westbeth Community Room\n155 Bank Street\n(enter through courtyard)\nNew York\, NY 10014
URL:https://westbeth.org/event/westbeth-movie-night-seven-20th-century-avant-garde-short-films/
LOCATION:Westbeth Community Room
CATEGORIES:past-events
ATTACH;FMTTYPE=image/jpeg:https://westbeth.org/wp-content/uploads/2026/03/Westbeth-MOVIE-SQ-AVANT.jpg
END:VEVENT
BEGIN:VEVENT
DTSTART;TZID=America/New_York:20260220T190000
DTEND;TZID=America/New_York:20260220T203000
DTSTAMP:20260423T094638
CREATED:20260120T222429Z
LAST-MODIFIED:20260223T185056Z
UID:10000957-1771614000-1771619400@westbeth.org
SUMMARY:Psycho Westbeth Movie Night
DESCRIPTION:Friday Feb 20\, 2026 at 7pm\nWestbeth Community Room\n155 Bank St\n(enter through courtyard)\nNew York\, NY \nFree \nFor more info about movie\, CLICK IMAGE
URL:https://westbeth.org/event/psycho-westbeth-movie-night/
LOCATION:Westbeth Community Room
CATEGORIES:past-events
ATTACH;FMTTYPE=image/jpeg:https://westbeth.org/wp-content/uploads/2026/01/PSYCHO-SQ.jpg
END:VEVENT
BEGIN:VEVENT
DTSTART;TZID=America/New_York:20251101T190000
DTEND;TZID=America/New_York:20251101T210000
DTSTAMP:20260423T094638
CREATED:20251008T220251Z
LAST-MODIFIED:20251106T132410Z
UID:10000856-1762023600-1762030800@westbeth.org
SUMMARY:Westbeth Movie Night The Witch
DESCRIPTION:Saturday Nov 1\, 2025 at 7pm \nWestbeth Community Room\n155 Bank St\n(enter through courtyard)\nNew York\, NY 10014 \nHailed as one of the best horror films of the 21st century. \nClick image for more info about the film.
URL:https://westbeth.org/event/westbeth-movie-night-the-witch/
LOCATION:Westbeth Community Room
CATEGORIES:past-events
ATTACH;FMTTYPE=image/jpeg:https://westbeth.org/wp-content/uploads/2025/10/Westbeth-MOvie-NIght-SQ-The-Witch-copy.jpg
END:VEVENT
BEGIN:VEVENT
DTSTART;TZID=America/New_York:20250909T190000
DTEND;TZID=America/New_York:20250909T203000
DTSTAMP:20260423T094638
CREATED:20250828T142809Z
LAST-MODIFIED:20250912T152414Z
UID:10000830-1757444400-1757449800@westbeth.org
SUMMARY:Westbeth Movie Night: Up in the Air
DESCRIPTION:Tues Sept 9\, 2025 at 7pm \nWestbeth Community Room\n155 Bank Street\nNew York\, NY 10014 \nClick Image to find our more about the film.
URL:https://westbeth.org/event/westbeth-movie-night-up-in-the-air/
LOCATION:Westbeth Community Room
CATEGORIES:past-events
ATTACH;FMTTYPE=image/jpeg:https://westbeth.org/wp-content/uploads/2025/08/up-in-the-air-SQ-.jpg
END:VEVENT
BEGIN:VEVENT
DTSTART;TZID=America/New_York:20250821T190000
DTEND;TZID=America/New_York:20250821T200000
DTSTAMP:20260423T094638
CREATED:20250820T190919Z
LAST-MODIFIED:20250826T182518Z
UID:10000821-1755802800-1755806400@westbeth.org
SUMMARY:Westbeth Movie Night: RRR
DESCRIPTION:Thursday Aug 21\, 2025 at 7pm \nWestbeth Community Room\n155 Bank Street\nenter through courtyard\nNew York\, NY 10014 \nClick image to learn more about the film
URL:https://westbeth.org/event/westbeth-movie-night-rrr/
LOCATION:Westbeth Community Room
CATEGORIES:past-events
ATTACH;FMTTYPE=image/jpeg:https://westbeth.org/wp-content/uploads/2025/08/Westbeth-MOVIE-RRR-BIG.jpg
END:VEVENT
BEGIN:VEVENT
DTSTART;TZID=America/New_York:20250727T190000
DTEND;TZID=America/New_York:20250727T203000
DTSTAMP:20260423T094638
CREATED:20250716T232434Z
LAST-MODIFIED:20250716T232643Z
UID:10000810-1753642800-1753648200@westbeth.org
SUMMARY:Westbeth Movie Night  Dr Strangelove
DESCRIPTION:Sunday July 27\, 2025\nat 7pm \nWestbeth Community Room\n155 Bank Street\,\nNYC \nFree \nClick Image For Info about the Film
URL:https://westbeth.org/event/westbeth-movie-night-dr-strangelove/
LOCATION:Westbeth Community Room
END:VEVENT
BEGIN:VEVENT
DTSTART;TZID=America/New_York:20250708T190000
DTEND;TZID=America/New_York:20250708T203000
DTSTAMP:20260423T094638
CREATED:20250620T012905Z
LAST-MODIFIED:20250716T214347Z
UID:10000803-1752001200-1752006600@westbeth.org
SUMMARY:Westbeth Movie Night: Daughters of the Dust
DESCRIPTION:Tuesday July 8\, 2025\nat 7pm\nFree \n\n\nWestbeth Community Room\n155 Bank Street\nenter through courtyard\nNew York\, NY\n\n\n\nClick image to discover more about the film.
URL:https://westbeth.org/event/westbeth-movie-night-daughters-of-the-dust/
LOCATION:Westbeth Community Room
CATEGORIES:past-events
ATTACH;FMTTYPE=image/jpeg:https://westbeth.org/wp-content/uploads/2025/06/Westbeth-Movie-Night-Daughters-SQ-.jpg
END:VEVENT
BEGIN:VEVENT
DTSTART;TZID=America/New_York:20250516T190000
DTEND;TZID=America/New_York:20250516T203000
DTSTAMP:20260423T094638
CREATED:20250506T225610Z
LAST-MODIFIED:20250521T012328Z
UID:10000766-1747422000-1747427400@westbeth.org
SUMMARY:Westbeth Movie Night: Being John Malcovich
DESCRIPTION:Friday May 16\, 2025 at 7pm\nWestbeth Community Room\n155 Bank St\n(enter through courtyard)\nNew York\, NY \nFree \nClick Image for more info about the film
URL:https://westbeth.org/event/westbeth-movie-night-being-john-malcovich/
LOCATION:Westbeth Community Room
CATEGORIES:past-events
ATTACH;FMTTYPE=image/jpeg:https://westbeth.org/wp-content/uploads/2025/05/John-MakG.-SQ.jpg
END:VEVENT
BEGIN:VEVENT
DTSTART;TZID=America/New_York:20250408T190000
DTEND;TZID=America/New_York:20250408T203000
DTSTAMP:20260423T094638
CREATED:20250405T151332Z
LAST-MODIFIED:20250410T224648Z
UID:10000751-1744138800-1744144200@westbeth.org
SUMMARY:Westbeth Movie  Night: Clash by Night
DESCRIPTION:Tuesday April 8\, 2025\nat 7pm \nWestbeth Community Room\n155 Babk St\n(enter through courtyard)\nNew York\, NY \nDlick image for more info about the film \nClick to enlarge
URL:https://westbeth.org/event/westbeth-movie-night-11/
LOCATION:Westbeth Community Room
CATEGORIES:past-events
ATTACH;FMTTYPE=image/jpeg:https://westbeth.org/wp-content/uploads/2025/04/Westbeth-MOVIE-SQ-CLASH-BY-NIGHT-.jpg
END:VEVENT
BEGIN:VEVENT
DTSTART;TZID=America/New_York:20241215T190000
DTEND;TZID=America/New_York:20241215T203000
DTSTAMP:20260423T094638
CREATED:20241201T184057Z
LAST-MODIFIED:20241217T163058Z
UID:10000684-1734289200-1734294600@westbeth.org
SUMMARY:Westbeth Movie Night: Real Life
DESCRIPTION:Sunday Dec 15\, 2024 at 7pm\nFREE \nWestbeth Community Room\n155 Bank St\nenter through courtyard\nNew York\, NY \nFor more  info about the movie\, click image below
URL:https://westbeth.org/event/westbeth-movie-night-real-life/
LOCATION:Westbeth Community Room
CATEGORIES:past-events
ATTACH;FMTTYPE=image/jpeg:https://westbeth.org/wp-content/uploads/2024/11/Westbeth-Movie-Night-Real-Life-SQ.jpg
END:VEVENT
BEGIN:VEVENT
DTSTART;TZID=America/New_York:20241126T190000
DTEND;TZID=America/New_York:20241126T203000
DTSTAMP:20260423T094638
CREATED:20241112T010715Z
LAST-MODIFIED:20241202T005219Z
UID:10000679-1732647600-1732653000@westbeth.org
SUMMARY:Westbeth Movie Night  Inglourious Basterds
DESCRIPTION:Tue Nov 26\, 2024 at 7pm \nFree and Open to the Public. \nWestbeth Community Room\n155 Bank St\nenter through courtyard\nNew York\, NY \nClick image for more info about the movie
URL:https://westbeth.org/event/westbeth-movie-night-inglourious-basterds/
LOCATION:Westbeth Community Room
CATEGORIES:past-events
ATTACH;FMTTYPE=image/jpeg:https://westbeth.org/wp-content/uploads/2024/11/Westbeth-MOvie-SQ-Night-Ingloriouys-Rev-date.jpg
END:VEVENT
BEGIN:VEVENT
DTSTART;TZID=America/New_York:20241011T190000
DTEND;TZID=America/New_York:20241011T203000
DTSTAMP:20260423T094638
CREATED:20241005T215750Z
LAST-MODIFIED:20241023T000036Z
UID:10000660-1728673200-1728678600@westbeth.org
SUMMARY:Westbeth Movie Night: Jodorowsky's Dune
DESCRIPTION:Friday June 11\, 2024\nWestbeth Community Room\n155 Bank St\nenter through courtyard\nNew York\, NY \nClick image  for info about film
URL:https://westbeth.org/event/westbeth-movie-night-jodorowskys-dune/
LOCATION:Westbeth Community Room
CATEGORIES:past-events
ATTACH;FMTTYPE=image/jpeg:https://westbeth.org/wp-content/uploads/2024/10/Westbeth-MOvie-Night-SQ-Jodorosky-DUNE.jpg
END:VEVENT
BEGIN:VEVENT
DTSTART;TZID=America/New_York:20240905T190000
DTEND;TZID=America/New_York:20240905T203000
DTSTAMP:20260423T094638
CREATED:20240830T025747Z
LAST-MODIFIED:20240909T010658Z
UID:10000582-1725562800-1725568200@westbeth.org
SUMMARY:Westbeth Movie Night: A Woman Under the Influence
DESCRIPTION:Thursday Sept 5\, 2024 at 7pm\nWestbeth Community Room\n155 Bank St\nNY\, NY\nClick image for more info about movie. \nClick image for more info
URL:https://westbeth.org/event/westbeth-movie-night-a-woman-under-the-influence/
LOCATION:Westbeth Community Room
CATEGORIES:past-events
ATTACH;FMTTYPE=image/jpeg:https://westbeth.org/wp-content/uploads/2024/08/Westbeth-MOVIE-NIGHT-SQ-A-WOMAN-UNCER-copy.jpg
END:VEVENT
BEGIN:VEVENT
DTSTART;TZID=America/New_York:20240809T190000
DTEND;TZID=America/New_York:20240809T190000
DTSTAMP:20260423T094638
CREATED:20240612T125417Z
LAST-MODIFIED:20240814T004601Z
UID:10000568-1723230000-1723230000@westbeth.org
SUMMARY:Westbeth Movie Night:  The Others
DESCRIPTION:Friday Aug 9\, 2024 at 7pm\nWestbeth Community Rm\n155 Bank St\nNYC\n(enter through courtyard)\nClick image to learn more about the film
URL:https://westbeth.org/event/westbeth-movie-night-the-others/
LOCATION:Westbeth Community Room
CATEGORIES:past-events
ATTACH;FMTTYPE=image/jpeg:https://westbeth.org/wp-content/uploads/2024/06/Westbeth-movie-night-Others-SQ.jpg
END:VEVENT
BEGIN:VEVENT
DTSTART;TZID=America/New_York:20240525T190000
DTEND;TZID=America/New_York:20240525T203000
DTSTAMP:20260423T094638
CREATED:20240418T142018Z
LAST-MODIFIED:20240528T161245Z
UID:10000526-1716663600-1716669000@westbeth.org
SUMMARY:Westbeth Movie Night: GUYS AND DOLLS
DESCRIPTION:
URL:https://westbeth.org/event/westbeth-movie-night-guys-and-dolls/
LOCATION:Westbeth Community Room
CATEGORIES:past-events
ATTACH;FMTTYPE=image/jpeg:https://westbeth.org/wp-content/uploads/2024/05/Guys-Dolls-SQUARE-FINAL.jpg
END:VEVENT
BEGIN:VEVENT
DTSTART;TZID=America/New_York:20240221T190000
DTEND;TZID=America/New_York:20240221T203000
DTSTAMP:20260423T094638
CREATED:20240302T194323Z
LAST-MODIFIED:20240324T195832Z
UID:10000464-1708542000-1708547400@westbeth.org
SUMMARY:Westbeth Movie Night Big Night
DESCRIPTION:Wednesday Feb 21\, 2024 at 7PM\nWestbeth Community Rm\n155 Bank Street\nNew York\, NY\nenter through courtyard b/w west and Washington Sts.
URL:https://westbeth.org/event/westbeth-movie-night-big-night/
LOCATION:Westbeth Community Room
CATEGORIES:past-events
ATTACH;FMTTYPE=image/jpeg:https://westbeth.org/wp-content/uploads/2024/02/Big-Night-SQUARE.jpg
END:VEVENT
BEGIN:VEVENT
DTSTART;TZID=America/New_York:20240126T190000
DTEND;TZID=America/New_York:20240126T203000
DTSTAMP:20260423T094638
CREATED:20231210T181343Z
LAST-MODIFIED:20240130T193248Z
UID:10000451-1706295600-1706301000@westbeth.org
SUMMARY:Westbeth Movie Night: Minority Report
DESCRIPTION:
URL:https://westbeth.org/event/westbeth-movie-night-8/
LOCATION:Westbeth Community Room
CATEGORIES:past-events
ATTACH;FMTTYPE=image/jpeg:https://westbeth.org/wp-content/uploads/2024/01/Minority-Report-FINAL-SQUARE-e1704911566562.jpg
END:VEVENT
BEGIN:VEVENT
DTSTART;TZID=America/New_York:20231223T190000
DTEND;TZID=America/New_York:20231223T203000
DTSTAMP:20260423T094638
CREATED:20231121T033922Z
LAST-MODIFIED:20231228T013825Z
UID:10000440-1703358000-1703363400@westbeth.org
SUMMARY:Westbeth Movie Night: Wizard of Oz
DESCRIPTION:
URL:https://westbeth.org/event/westbeth-movie-night-wizard-of-oz/
LOCATION:Westbeth Community Room
CATEGORIES:past-events
ATTACH;FMTTYPE=image/jpeg:https://westbeth.org/wp-content/uploads/2023/12/THE-WIZARD-OF-OZ-SQUARE-1-e1702611803529.jpg
END:VEVENT
BEGIN:VEVENT
DTSTART;TZID=America/New_York:20231130T190000
DTEND;TZID=America/New_York:20231130T203000
DTSTAMP:20260423T094638
CREATED:20230708T142701Z
LAST-MODIFIED:20231205T025915Z
UID:10000428-1701370800-1701376200@westbeth.org
SUMMARY:Westbeth Movie Night: In the Realms of the Unreal
DESCRIPTION:
URL:https://westbeth.org/event/westbeth-movie-night-in-the-realms-of-the-unreal/
LOCATION:Westbeth Community Room
CATEGORIES:past-events
ATTACH;FMTTYPE=image/jpeg:https://westbeth.org/wp-content/uploads/2023/11/Wstbeth-Movie-Night-In-the-Realms-of-the-Unreal-SQUARE-FINAL.jpg
END:VEVENT
BEGIN:VEVENT
DTSTART;TZID=America/New_York:20220527T190000
DTEND;TZID=America/New_York:20220527T203000
DTSTAMP:20260423T094638
CREATED:20220515T155617Z
LAST-MODIFIED:20220601T125500Z
UID:10000032-1653678000-1653683400@westbeth.org
SUMMARY:Westbeth Movie Night: Pleasantville
DESCRIPTION:Friday May 27\, 2022 at 7PM\nPleasantville is a 1998 American teen fantasy comedy-drama film written\, co-produced\, and directed by Gary Ross. It stars Tobey Maguire\, Jeff Daniels\, Joan Allen\, William H. Macy\, J. T. Walsh\, and Reese Witherspoon\, with Don Knotts\, Paul Walker\, Marley Shelton and Jane Kaczmarek in supporting roles. The story centers on two siblings who wind up trapped in a 1950s TV show\, set in a small Midwest town\, where residents are seemingly perfect. \nWestbeth Community Room\n155 Bank St\nbetween West and Washington St\nenter through courtyard\nNew York\, NY  \nFREE
URL:https://westbeth.org/event/westbeth-movie-night/
LOCATION:Westbeth Community Room
CATEGORIES:past-events
ATTACH;FMTTYPE=image/jpeg:https://westbeth.org/wp-content/uploads/2022/05/WESTBETH-MOVIE-NIGHT-PLeasantville-SQUARE-1-e1652631627504.jpg
END:VEVENT
END:VCALENDAR