BEGIN:VCALENDAR
VERSION:2.0
PRODID:-//Westbeth - ECPv6.15.20//NONSGML v1.0//EN
CALSCALE:GREGORIAN
METHOD:PUBLISH
X-ORIGINAL-URL:https://westbeth.org
X-WR-CALDESC:Events for Westbeth
REFRESH-INTERVAL;VALUE=DURATION:PT1H
X-Robots-Tag:noindex
X-PUBLISHED-TTL:PT1H
BEGIN:VTIMEZONE
TZID:America/New_York
BEGIN:DAYLIGHT
TZOFFSETFROM:-0500
TZOFFSETTO:-0400
TZNAME:EDT
DTSTART:20240310T070000
END:DAYLIGHT
BEGIN:STANDARD
TZOFFSETFROM:-0400
TZOFFSETTO:-0500
TZNAME:EST
DTSTART:20241103T060000
END:STANDARD
BEGIN:DAYLIGHT
TZOFFSETFROM:-0500
TZOFFSETTO:-0400
TZNAME:EDT
DTSTART:20250309T070000
END:DAYLIGHT
BEGIN:STANDARD
TZOFFSETFROM:-0400
TZOFFSETTO:-0500
TZNAME:EST
DTSTART:20251102T060000
END:STANDARD
BEGIN:DAYLIGHT
TZOFFSETFROM:-0500
TZOFFSETTO:-0400
TZNAME:EDT
DTSTART:20260308T070000
END:DAYLIGHT
BEGIN:STANDARD
TZOFFSETFROM:-0400
TZOFFSETTO:-0500
TZNAME:EST
DTSTART:20261101T060000
END:STANDARD
END:VTIMEZONE
BEGIN:VEVENT
DTSTART;TZID=America/New_York:20250211T190000
DTEND;TZID=America/New_York:20250211T200000
DTSTAMP:20260423T145748
CREATED:20250129T233351Z
LAST-MODIFIED:20260118T031218Z
UID:10000715-1739300400-1739304000@westbeth.org
SUMMARY:HOMEAn evening of original prose about home plus  musical interludes
DESCRIPTION:Click to enlarge \nTues February 11\, 2025 at 7pm \nWestbeth Community Room\n155 Bank St\nenter tdhrough courtyard\nNew York\, NY \nWestbeth writers will be reading their stories (and an essay) exploring what home means to them. They include memories of their youth and reflections on dying parents along with the attendant loss of the family home.\nAnd on a lighter note\, there are entertaining stories about first apartments in the Village and Little Italy. \n For the musical “entr’actes\,” Leigh Stuart offers a cello solo and Beth Griffith\, a song.  \nPROGRAM \nTerence Burk MY FIRST HOME\nLinda Marks FIRST HOME\nParviz Mohassel LILAC SQUARE\, TEHRAN\nJoya Staack BOMBAY\nKate Walter SELLING OUR FAMILY HOME\nSteve Clorfeine Mother \nMUSICAL INTERLUDE  Beth Griffith  singing SUMMER IS LATE by Benjamin Browning \nGrsiseld Steiner HOME read by Dennis Fitzpatrick\nJoan Hall NEW BEGINNINGS\nEve Zanni TENEMENTS AND TRIBULATIONS\nTerry Prutinton HOME\, A REFLECTION
URL:https://westbeth.org/event/westbeth-writers-present-an-evening-of-prose-about-home/
LOCATION:Westbeth Community Room
CATEGORIES:past-events
ATTACH;FMTTYPE=image/jpeg:https://westbeth.org/wp-content/uploads/2025/01/HOME-SQ.jpg
END:VEVENT
END:VCALENDAR