BEGIN:VCALENDAR
VERSION:2.0
PRODID:-//Westbeth - ECPv6.15.20//NONSGML v1.0//EN
CALSCALE:GREGORIAN
METHOD:PUBLISH
X-ORIGINAL-URL:https://westbeth.org
X-WR-CALDESC:Events for Westbeth
REFRESH-INTERVAL;VALUE=DURATION:PT1H
X-Robots-Tag:noindex
X-PUBLISHED-TTL:PT1H
BEGIN:VTIMEZONE
TZID:America/New_York
BEGIN:DAYLIGHT
TZOFFSETFROM:-0500
TZOFFSETTO:-0400
TZNAME:EDT
DTSTART:20250309T070000
END:DAYLIGHT
BEGIN:STANDARD
TZOFFSETFROM:-0400
TZOFFSETTO:-0500
TZNAME:EST
DTSTART:20251102T060000
END:STANDARD
BEGIN:DAYLIGHT
TZOFFSETFROM:-0500
TZOFFSETTO:-0400
TZNAME:EDT
DTSTART:20260308T070000
END:DAYLIGHT
BEGIN:STANDARD
TZOFFSETFROM:-0400
TZOFFSETTO:-0500
TZNAME:EST
DTSTART:20261101T060000
END:STANDARD
BEGIN:DAYLIGHT
TZOFFSETFROM:-0500
TZOFFSETTO:-0400
TZNAME:EDT
DTSTART:20270314T070000
END:DAYLIGHT
BEGIN:STANDARD
TZOFFSETFROM:-0400
TZOFFSETTO:-0500
TZNAME:EST
DTSTART:20271107T060000
END:STANDARD
END:VTIMEZONE
BEGIN:VEVENT
DTSTART;TZID=America/New_York:20260228T120000
DTEND;TZID=America/New_York:20260228T170000
DTSTAMP:20260423T164557
CREATED:20260223T211045Z
LAST-MODIFIED:20260228T225743Z
UID:10000971-1772280000-1772298000@westbeth.org
SUMMARY:Style Swap Clothes and Accessories Teens\, Adults\, Kids\, FREE
DESCRIPTION:
URL:https://westbeth.org/event/style-swap-clothes-and-accessories-teens-adults-kids-free/
LOCATION:Westbeth Community Room
CATEGORIES:past-events
ATTACH;FMTTYPE=image/png:https://westbeth.org/wp-content/uploads/2026/02/CLOTHING-SWAP-FULL.png
END:VEVENT
BEGIN:VEVENT
DTSTART;TZID=America/New_York:20260214T080000
DTEND;TZID=America/New_York:20260215T170000
DTSTAMP:20260423T164557
CREATED:20260123T021837Z
LAST-MODIFIED:20260218T203953Z
UID:10000949-1771056000-1771174800@westbeth.org
SUMMARY:Repurpose. Reuse. Rewear.Learn how to create new clothes out of old clothes!
DESCRIPTION:When: Feb 14 and 15\, 2026 \nWhere: Westbeth Community Room\n155 Bank St\n(enter through courtyard)\nNew York\, NY 10014 \nFor more info or to register\, click on the link! or Scan QR code\nhttps://forms.gle/HMD9eNkvX88bAhCv7 \nExact time confirmed after registering. \nGood Clothes Community with Fashion Designer Benjamin Mach \nCloset bursting but nothing to wear? Join us for a FREE two-day workshop on reusing\, repurposing and recycling fashion and textiles. You’ll learn new skills and support a new social movement towards sustainable clothing production and slow fashion consumption. \nParticipants will upcycle and create inspired pieces of clothing from the ones that are boring or no longer fit\, and produce a NEW finished wardrobe item. This collaborative event sponsored by WARC is lead by an Australian University of Technology Sydney PhD Candidate and designer who works at the Fashion Institute of Technology.
URL:https://westbeth.org/event/repurpose-reuse-rewearlearn-how-to-create-new-clothes-out-of-old-clothes/
LOCATION:Westbeth Community Room
CATEGORIES:past-events
ATTACH;FMTTYPE=image/jpeg:https://westbeth.org/wp-content/uploads/2026/01/REUSE-REWEAR-CLOTHING-FEB-SQ.jpg
END:VEVENT
BEGIN:VEVENT
DTSTART;TZID=America/New_York:20260210T180000
DTEND;TZID=America/New_York:20260210T210000
DTSTAMP:20260423T164557
CREATED:20260123T015834Z
LAST-MODIFIED:20260211T025422Z
UID:10000948-1770746400-1770757200@westbeth.org
SUMMARY:Fix- It  NIght  Returns!
DESCRIPTION:TUESDAY Feb 10\, 2026 6pm – 9pm \nWestbeth Community Room\n155 Bank St (enter through courtyard)\nNew York\, NY 10014 \nEMAIL NOW TO RESERVE A SPOT:\nWestbethConservation@gmail.com \nTHE FIXERS COLLECTIVE WILL REPAIR YOUR STUFF\, SAVE MONEY AND OUR PLANET!
URL:https://westbeth.org/event/fix-it-night-returns/
LOCATION:Westbeth Community Room
CATEGORIES:past-events
ATTACH;FMTTYPE=image/jpeg:https://westbeth.org/wp-content/uploads/2026/01/FIX-IT-NIGHT-FEB-SQ-.jpg
END:VEVENT
END:VCALENDAR