BEGIN:VCALENDAR
VERSION:2.0
PRODID:-//Westbeth - ECPv6.15.20//NONSGML v1.0//EN
CALSCALE:GREGORIAN
METHOD:PUBLISH
X-ORIGINAL-URL:https://westbeth.org
X-WR-CALDESC:Events for Westbeth
REFRESH-INTERVAL;VALUE=DURATION:PT1H
X-Robots-Tag:noindex
X-PUBLISHED-TTL:PT1H
BEGIN:VTIMEZONE
TZID:America/New_York
BEGIN:DAYLIGHT
TZOFFSETFROM:-0500
TZOFFSETTO:-0400
TZNAME:EDT
DTSTART:20240310T070000
END:DAYLIGHT
BEGIN:STANDARD
TZOFFSETFROM:-0400
TZOFFSETTO:-0500
TZNAME:EST
DTSTART:20241103T060000
END:STANDARD
BEGIN:DAYLIGHT
TZOFFSETFROM:-0500
TZOFFSETTO:-0400
TZNAME:EDT
DTSTART:20250309T070000
END:DAYLIGHT
BEGIN:STANDARD
TZOFFSETFROM:-0400
TZOFFSETTO:-0500
TZNAME:EST
DTSTART:20251102T060000
END:STANDARD
BEGIN:DAYLIGHT
TZOFFSETFROM:-0500
TZOFFSETTO:-0400
TZNAME:EDT
DTSTART:20260308T070000
END:DAYLIGHT
BEGIN:STANDARD
TZOFFSETFROM:-0400
TZOFFSETTO:-0500
TZNAME:EST
DTSTART:20261101T060000
END:STANDARD
END:VTIMEZONE
BEGIN:VEVENT
DTSTART;TZID=America/New_York:20250101T080000
DTEND;TZID=America/New_York:20250131T170000
DTSTAMP:20260423T075325
CREATED:20240830T144513Z
LAST-MODIFIED:20250213T001245Z
UID:10000701-1735718400-1738342800@westbeth.org
SUMMARY:Pruning for the New Year: Westbeth Courtyard Garden
DESCRIPTION:The Westbeth Center  Courtyard Garden as well as the other gardens in the courtyard and the plant boxes on  Bethune and Bank St are sponsored by the Westbeth Beautification Committee which was begun  in 1984.  Garden volunteers\, Kurt Kelly with Terry Pruinton\, with appaerances by garden fans\,  Karin Batten and Aly Palmer.
URL:https://westbeth.org/event/pruning-the-westbeth-courtyard-garden/
LOCATION:Westbeth Bank St Courtyard
CATEGORIES:past-events
ATTACH;FMTTYPE=image/png:https://westbeth.org/wp-content/uploads/2024/08/eKurt-and-Terry-pruning.png
END:VEVENT
END:VCALENDAR