BEGIN:VCALENDAR
VERSION:2.0
PRODID:-//Westbeth - ECPv6.15.20//NONSGML v1.0//EN
CALSCALE:GREGORIAN
METHOD:PUBLISH
X-WR-CALNAME:Westbeth
X-ORIGINAL-URL:https://westbeth.org
X-WR-CALDESC:Events for Westbeth
REFRESH-INTERVAL;VALUE=DURATION:PT1H
X-Robots-Tag:noindex
X-PUBLISHED-TTL:PT1H
BEGIN:VTIMEZONE
TZID:America/New_York
BEGIN:DAYLIGHT
TZOFFSETFROM:-0500
TZOFFSETTO:-0400
TZNAME:EDT
DTSTART:20250309T070000
END:DAYLIGHT
BEGIN:STANDARD
TZOFFSETFROM:-0400
TZOFFSETTO:-0500
TZNAME:EST
DTSTART:20251102T060000
END:STANDARD
BEGIN:DAYLIGHT
TZOFFSETFROM:-0500
TZOFFSETTO:-0400
TZNAME:EDT
DTSTART:20260308T070000
END:DAYLIGHT
BEGIN:STANDARD
TZOFFSETFROM:-0400
TZOFFSETTO:-0500
TZNAME:EST
DTSTART:20261101T060000
END:STANDARD
BEGIN:DAYLIGHT
TZOFFSETFROM:-0500
TZOFFSETTO:-0400
TZNAME:EDT
DTSTART:20270314T070000
END:DAYLIGHT
BEGIN:STANDARD
TZOFFSETFROM:-0400
TZOFFSETTO:-0500
TZNAME:EST
DTSTART:20271107T060000
END:STANDARD
END:VTIMEZONE
BEGIN:VEVENT
DTSTART;TZID=America/New_York:20260423T130000
DTEND;TZID=America/New_York:20260515T180000
DTSTAMP:20260423T110716
CREATED:20260409T025356Z
LAST-MODIFIED:20260409T025356Z
UID:10000997-1776949200-1778868000@westbeth.org
SUMMARY:West Side Gallery WalkFive Galleries including Westbeth Gallery
DESCRIPTION:A collection of 5 arts institutions in the west side of Manhattan will be hosting tours of their exhibitions for students during the months of April and May. We invite you to select a date and book a gallery walk. Each institution will be staffed with an educator or curator ready to speak with your students. The galleries are all within a 10 minute walk from each other. Below are the institutions\, with a link to the exhibition(s) that will be open. \nBooking Link: Gallery Tour Booking \n1.Center for Art\, Research and Alliances (CARA)\, 225 W 13th St\, New York\, NY 10011\na.The Earth\, the Fire\, the Water\, and the Winds: For a Museum of Errantry with Édouard Glissant\n2.Fort Gansevoort\, 5 9th Ave\, New York\, NY 10014\na.Oototol\n3.White Columns\, 91 Horatio St\, New York\, NY 10014\na.Concrete Spirit and Art (by) Dealers\n4.Westbeth Gallery\, 55 Bethune St\, New York\, NY 10014\na.WORKING CONDITIONS\n5.The Kitchen\, 163B Bank St.\, 4th Fl Loft\, New York\, NY 10014\na.Tromorama\, Upon a Machine
URL:https://westbeth.org/event/west-side-gallery-walkfive-galleries-including-westbeth-gallery/
LOCATION:Five West Side Galleries\, NYC
CATEGORIES:Featured Events
ATTACH;FMTTYPE=image/png:https://westbeth.org/wp-content/uploads/2026/04/WestSideGalleryWalkTour-e1775702767497.png
END:VEVENT
END:VCALENDAR