BEGIN:VCALENDAR
VERSION:2.0
PRODID:-//Westbeth - ECPv6.15.20//NONSGML v1.0//EN
CALSCALE:GREGORIAN
METHOD:PUBLISH
X-ORIGINAL-URL:https://westbeth.org
X-WR-CALDESC:Events for Westbeth
REFRESH-INTERVAL;VALUE=DURATION:PT1H
X-Robots-Tag:noindex
X-PUBLISHED-TTL:PT1H
BEGIN:VTIMEZONE
TZID:America/New_York
BEGIN:DAYLIGHT
TZOFFSETFROM:-0500
TZOFFSETTO:-0400
TZNAME:EDT
DTSTART:20230312T070000
END:DAYLIGHT
BEGIN:STANDARD
TZOFFSETFROM:-0400
TZOFFSETTO:-0500
TZNAME:EST
DTSTART:20231105T060000
END:STANDARD
BEGIN:DAYLIGHT
TZOFFSETFROM:-0500
TZOFFSETTO:-0400
TZNAME:EDT
DTSTART:20240310T070000
END:DAYLIGHT
BEGIN:STANDARD
TZOFFSETFROM:-0400
TZOFFSETTO:-0500
TZNAME:EST
DTSTART:20241103T060000
END:STANDARD
BEGIN:DAYLIGHT
TZOFFSETFROM:-0500
TZOFFSETTO:-0400
TZNAME:EDT
DTSTART:20250309T070000
END:DAYLIGHT
BEGIN:STANDARD
TZOFFSETFROM:-0400
TZOFFSETTO:-0500
TZNAME:EST
DTSTART:20251102T060000
END:STANDARD
END:VTIMEZONE
BEGIN:VEVENT
DTSTART;TZID=America/New_York:20240315T090000
DTEND;TZID=America/New_York:20240315T090000
DTSTAMP:20260423T185743
CREATED:20231103T155039Z
LAST-MODIFIED:20240315T181227Z
UID:10000471-1710493200-1710493200@westbeth.org
SUMMARY:Vincent Lucas   Flute Masterclass at Westbeth
DESCRIPTION:Click to enlarge \nFriday March 15\, 2024 9am – 11:30am \nWestbeth Community Room\n155 Bank Street\nNew York ny\nenter through courtyard \nA masterclass in orchestral and solo repertoire for the flute\, hosted by Louna Dekker Vargas. \nWestbeth Residents free \nGENERAL PUBLIC:$10 \nPARTICIPANTS $150\nTo apply as a performer\, contact Lounna Dekker Vargas at lounadekker@gmail.com \nVINCENT LUCAS has been the principal flute soloist of the Orchestre de Paris since 1994.\nAs a featured soloist\, he appears regularly with European and French orchestras and has collaborated extensively as a chamber musician and soloist. Lucas has recorded several albums of French flute repertoire\, an acclaimed CD of solo flute works and participated in six complete works albums of Dutilleux\, Saint-Saens\, Debussy\, Gaubert\, Poulenc and\nJevtic which have won numerous awards. \nIn addition to his career as an orchestral musician\, he is sought after as a master professor of French technique in France and abroad.He is Principal Professor at CRR of Paris and and honorary professor at the College of Music Toho Gakuen” in Tokyo. \nMr Lucas is appearing at Carnegie Hall with the Orchestra de Paris on March 16\, 2024. Carnegie Hall Info \nFor a recent sample of Mr. Lucas’s work in Fall of 2023 in the Orchestre de Paris under the baton of\nKlaus Makela\, visit:\nhttps://philharmoniedeparis.fr/fr/live/concert/1159521-orchestre-de-paris-klaus-makela\n. \nLOUNA DEKKER VARGAS is a Franco-American flutist\, daughter of Claudia Vargas painter and and Reinier Dekker\, a Dutch craftsman. \nAn expressive flutist with a fondness for the stage\, she is at home in several musical fields\, from experimental jazz in New York (the group Atlantic Extraction\, whose two albums produced by Out of Your Head Records were met by acclaim in the press in the U.S. and France)\, the theatrical world of Broadway (Wicked 2017- 2020)\, and\, above all\, chamber music with her various ensembles (Peabody Conservatory YADS Prize winners\, guest artists at numerous festivals\, including the Sitka Centennial Hall Chamber Music Festival\, El Paso Pro Musica festival\, Fox Fine Arts Hall\, quarter-finalist at the Fischoff International Competition… ) She performs with Trio Azure\, duo Lune d’Olive and Trio Soleil regularly in Paris through her chamber music non-profit La Chambre de Musique.\nInterested in contemporary creations\, she has worked with many living composers\, including Georg Friedrich Haas\, George E. Lewis\, Tyshawn Sorey\, Vijay Iyer\, Daniel Sabzghabaei\, Ledah Finck and Valerie Coleman\, among others. \nIn 2022 and 2023 she was invited as a soloist to the Cité Internationale des Arts\, the Grand Amphitéatre de la Sorbonne\, the Grand Salon du Collège Néerlandais de la Cité Internationale\, and Salle Cortot.\nLouna has also recently been invited to collaborate with the New Jersey Festival Orchestra and the International Contemporary Ensemble. A graduate of the Peabody Conservatory and finishing her studies under the tutelage of Vincent Lucas\, Louna has also worked with many renowned flutists in masterclasses: Emmanuel Pahud\, Marina Piccinini\, Sophie Cherrier\, Philippe Bernold\, Emily Skala…
URL:https://westbeth.org/event/vincent-lucas-flute-masterclass-at-westbeth/
LOCATION:Westbeth Community Room
CATEGORIES:past-events
ATTACH;FMTTYPE=image/png:https://westbeth.org/wp-content/uploads/2024/02/Vincent-MasterclassSQ-NY-March-15-2024.png
END:VEVENT
END:VCALENDAR