BEGIN:VCALENDAR
VERSION:2.0
PRODID:-//Westbeth - ECPv6.15.20//NONSGML v1.0//EN
CALSCALE:GREGORIAN
METHOD:PUBLISH
X-ORIGINAL-URL:https://westbeth.org
X-WR-CALDESC:Events for Westbeth
REFRESH-INTERVAL;VALUE=DURATION:PT1H
X-Robots-Tag:noindex
X-PUBLISHED-TTL:PT1H
BEGIN:VTIMEZONE
TZID:America/New_York
BEGIN:DAYLIGHT
TZOFFSETFROM:-0500
TZOFFSETTO:-0400
TZNAME:EDT
DTSTART:20220313T070000
END:DAYLIGHT
BEGIN:STANDARD
TZOFFSETFROM:-0400
TZOFFSETTO:-0500
TZNAME:EST
DTSTART:20221106T060000
END:STANDARD
BEGIN:DAYLIGHT
TZOFFSETFROM:-0500
TZOFFSETTO:-0400
TZNAME:EDT
DTSTART:20230312T070000
END:DAYLIGHT
BEGIN:STANDARD
TZOFFSETFROM:-0400
TZOFFSETTO:-0500
TZNAME:EST
DTSTART:20231105T060000
END:STANDARD
BEGIN:DAYLIGHT
TZOFFSETFROM:-0500
TZOFFSETTO:-0400
TZNAME:EDT
DTSTART:20240310T070000
END:DAYLIGHT
BEGIN:STANDARD
TZOFFSETFROM:-0400
TZOFFSETTO:-0500
TZNAME:EST
DTSTART:20241103T060000
END:STANDARD
END:VTIMEZONE
BEGIN:VEVENT
DTSTART;TZID=America/New_York:20230131T080000
DTEND;TZID=America/New_York:20230131T170000
DTSTAMP:20260423T185835
CREATED:20230101T023044Z
LAST-MODIFIED:20251217T032317Z
UID:10000136-1675152000-1675184400@westbeth.org
SUMMARY:Westbeth Artist Veronica Ryan wins Turner Prize
DESCRIPTION:Windrush Tribute by Veronica Ryan \n \nThe Guardian\nNadia Khomami\nArts and Culture Correspondent\nDec 7\, 2022Veronica Ryan\, who created the UK’s first permanent artwork to honour the Windrush generation\, has won the 2022 Turner prize\, one of the world’s most prestigious awards for visual arts. \nRyan\, 66\, becomes the oldest artist to win the prize. She was nominated for the Windrush sculpture\, which was unveiled in Hackney\, London\, last year\, and for her solo exhibition Along a Spectrum at Spike Island\, Bristol. \nRyan – who received an OBE last year – was born in Plymouth\, Montserrat and came to the UK as a child in the 1950s. She creates sculptural objects and installations using containers\, compartments and combinations of natural and fabricated forms to reference themes such as displacement\, fragmentation\, alienation and loss. \nVeronica Ryan OBE\, Custard Apple (Annonaceae)\, Breadfruit (Moraceae)\, and Soursop (Annonaceae)\, 2021. Commissioned by Hackney Council; curated and produced by Create London. Photo: Andy Keate. Courtesy the artist\, Paula Cooper Gallery\, New York\, and Alison Jacques\, London.\nVeronica Ryan is a sensational choice as Turner prize-winner\nRead more\nThe jury awarded the prize for the “personal and poetic way she extends the language of sculpture”. They also praised the noticeable shift in her use of space\, colour and scale both in gallery and civic spaces. \nCollecting the award\, Ryan thanked her family. “Thank you so much\,” she said. “I’m wearing my dad’s hat\, my dad would be so pleased\, he called me big eyes when I was little. That’s fabulous. Thank you mummy and daddy. All my family. My family are here. My siblings. \n“And to my siblings that didn’t survive. And I’m going to name them: Patricia\, Josephine\, David. They were fantastic people. And I think they’re looking at us right now. And they’re proud. And I want to thank everybody. \n“I have a few people who in my career have looked out for me\, when I wasn’t visible. When I collected rubbish. I collected rubbish for a number of years. But actually\, some of the rubbish is some of the most important works I think. \n“Thank you to the other artists. It’s a fantastic installation. We’ve all – everyone has made fantastic work. I just want to say thank you to everyone this is wonderful.” \nAlex Farquharson\, the director of Tate Britain and co-chair of the jury\, said Ryan was “a sculptor taking the language of sculpture and extending it in new directions”. “She has a long career going back to the 80s and it’s interesting to see that evolution but also this flourishing now\,” he said. \nHe said the jury was highly impressed with the turns Ryan’s work had taken in the last couple of years and paid tribute to the “subtle poetics” in her work. \n“It’s slow-burn work. What becomes evident is this elusive treatment of themes of survival\, care and she’s even used the word trauma. The valuing of things\, the remembering of things. It’s about nature and lived experience\,” he said. \nRead the entire article HERE
URL:https://westbeth.org/event/westbeth-artist-veronica-ryan-wins-turner-prize/
LOCATION:London\, England
CATEGORIES:past-events
ATTACH;FMTTYPE=image/png:https://westbeth.org/wp-content/uploads/2022/06/Screen-Shot-2022-12-08-at-9.11.07-PM.png
END:VEVENT
END:VCALENDAR