BEGIN:VCALENDAR
VERSION:2.0
PRODID:-//Westbeth - ECPv6.15.20//NONSGML v1.0//EN
CALSCALE:GREGORIAN
METHOD:PUBLISH
X-ORIGINAL-URL:https://westbeth.org
X-WR-CALDESC:Events for Westbeth
REFRESH-INTERVAL;VALUE=DURATION:PT1H
X-Robots-Tag:noindex
X-PUBLISHED-TTL:PT1H
BEGIN:VTIMEZONE
TZID:America/New_York
BEGIN:DAYLIGHT
TZOFFSETFROM:-0500
TZOFFSETTO:-0400
TZNAME:EDT
DTSTART:20240310T070000
END:DAYLIGHT
BEGIN:STANDARD
TZOFFSETFROM:-0400
TZOFFSETTO:-0500
TZNAME:EST
DTSTART:20241103T060000
END:STANDARD
BEGIN:DAYLIGHT
TZOFFSETFROM:-0500
TZOFFSETTO:-0400
TZNAME:EDT
DTSTART:20250309T070000
END:DAYLIGHT
BEGIN:STANDARD
TZOFFSETFROM:-0400
TZOFFSETTO:-0500
TZNAME:EST
DTSTART:20251102T060000
END:STANDARD
BEGIN:DAYLIGHT
TZOFFSETFROM:-0500
TZOFFSETTO:-0400
TZNAME:EDT
DTSTART:20260308T070000
END:DAYLIGHT
BEGIN:STANDARD
TZOFFSETFROM:-0400
TZOFFSETTO:-0500
TZNAME:EST
DTSTART:20261101T060000
END:STANDARD
END:VTIMEZONE
BEGIN:VEVENT
DTSTART;TZID=America/New_York:20250404T190000
DTEND;TZID=America/New_York:20250404T203000
DTSTAMP:20260423T094622
CREATED:20250326T011838Z
LAST-MODIFIED:20250405T145943Z
UID:10000746-1743793200-1743798600@westbeth.org
SUMMARY:FIRST FRIDAY LIVE MUSIC WITH THEO BLECKMANN QUARTET
DESCRIPTION:Friday April 4\, 2025 at 7pm \nWestbeth Community Room\n155 Bank Street\n(enter through courtyard)\nNew York\, NY 10014 \nFREE \nVocalist Theo Bleckmann’s ethereal and instrumental approach to the voice is both ancient and modern. Layering his voice thru live looping evokes both Gregorian chants and Ambient sound clouds. He will be performing his own compositions and arrangements\, with and without worlds\, and those of his co-musicians. \nTheo Bleckmann: Voice\nTimo Vollbrecht: saxophone\nLuke Marantz: piano\nJason Burger: drums \nTheo Bleckmann is a multi GRAMMY® nominated vocalist\, composer and ECM recording artist who has recorded over 17 albums and collaborated with artists such as Ambrose Akinmusire\, Sheila Jordan\, Kneebody\, Ben Monder\, John Hollenbeck\, Phil Kline\, David Lang\, Ulysses Owens\, Bang on a Can All-Stars\, and\, most prominently\, with Meredith Monk since 1994. Bleckmann has been interviewed by Terry Gross on NPR’s Fresh Air and appeared on the David Letterman show with Laurie Anderson.\nMore info Westbeth Artist Page \nFor upcoming First Friday Events check out Westbeth Musicworks 2025 Calendar
URL:https://westbeth.org/event/first-friday-with-theo-bleckmann-quartet/
LOCATION:Westbeth Community Room
CATEGORIES:past-events
ATTACH;FMTTYPE=image/jpeg:https://westbeth.org/wp-content/uploads/2025/03/Theo-Blackman-Quartet-SQInstagram-Post-1.jpg
END:VEVENT
END:VCALENDAR