BEGIN:VCALENDAR
VERSION:2.0
PRODID:-//Westbeth - ECPv6.15.20//NONSGML v1.0//EN
CALSCALE:GREGORIAN
METHOD:PUBLISH
X-ORIGINAL-URL:https://westbeth.org
X-WR-CALDESC:Events for Westbeth
REFRESH-INTERVAL;VALUE=DURATION:PT1H
X-Robots-Tag:noindex
X-PUBLISHED-TTL:PT1H
BEGIN:VTIMEZONE
TZID:America/New_York
BEGIN:DAYLIGHT
TZOFFSETFROM:-0500
TZOFFSETTO:-0400
TZNAME:EDT
DTSTART:20240310T070000
END:DAYLIGHT
BEGIN:STANDARD
TZOFFSETFROM:-0400
TZOFFSETTO:-0500
TZNAME:EST
DTSTART:20241103T060000
END:STANDARD
BEGIN:DAYLIGHT
TZOFFSETFROM:-0500
TZOFFSETTO:-0400
TZNAME:EDT
DTSTART:20250309T070000
END:DAYLIGHT
BEGIN:STANDARD
TZOFFSETFROM:-0400
TZOFFSETTO:-0500
TZNAME:EST
DTSTART:20251102T060000
END:STANDARD
BEGIN:DAYLIGHT
TZOFFSETFROM:-0500
TZOFFSETTO:-0400
TZNAME:EDT
DTSTART:20260308T070000
END:DAYLIGHT
BEGIN:STANDARD
TZOFFSETFROM:-0400
TZOFFSETTO:-0500
TZNAME:EST
DTSTART:20261101T060000
END:STANDARD
END:VTIMEZONE
BEGIN:VEVENT
DTSTART;TZID=America/New_York:20250502T190000
DTEND;TZID=America/New_York:20250502T200000
DTSTAMP:20260423T113714
CREATED:20250418T192044Z
LAST-MODIFIED:20250506T201142Z
UID:10000758-1746212400-1746216000@westbeth.org
SUMMARY:FIRST FRIDAY MUSIC: THE BARRYTONES
DESCRIPTION:Click Image to enlarge \nFriday May 2\, 2025 at 7pm \nWestbeth Community Room\n155 Bank St\n(enter through courtyard)\nNew York\, NY 10014 \nThe BarryTones. We are a dance band playing danceable rockabilly\, blues\, rock and country music. We play a mix of originals and classic favorites. The BarryTones include Westbeth’s own Barry Temkin on guitar\, Michael Moss on sax\, Bill Dotts on bass and Craig Howe on drums\, along with Natasha Gollin on vocals\, Violizzy on fiddle\, Jim Meigs on blues harp. \nBring your dancing shoes!\nFREE
URL:https://westbeth.org/event/first-friday-music-the-barrytones/
LOCATION:Westbeth Community Room
CATEGORIES:past-events
ATTACH;FMTTYPE=image/jpeg:https://westbeth.org/wp-content/uploads/2025/04/The-BarryTones-Instagram-Post.jpg
END:VEVENT
END:VCALENDAR